| Back to Multiple platform build/check report for BioC 3.14 |
|
This page was generated on 2022-04-13 12:05:03 -0400 (Wed, 13 Apr 2022).
| Hostname | OS | Arch (*) | R version | Installed pkgs |
|---|---|---|---|---|
| nebbiolo2 | Linux (Ubuntu 20.04.4 LTS) | x86_64 | 4.1.3 (2022-03-10) -- "One Push-Up" | 4324 |
| tokay2 | Windows Server 2012 R2 Standard | x64 | 4.1.3 (2022-03-10) -- "One Push-Up" | 4077 |
| machv2 | macOS 10.14.6 Mojave | x86_64 | 4.1.3 (2022-03-10) -- "One Push-Up" | 4137 |
| Click on any hostname to see more info about the system (e.g. compilers) (*) as reported by 'uname -p', except on Windows and Mac OS X | ||||
|
To the developers/maintainers of the AnnotationDbi package: - Please allow up to 24 hours (and sometimes 48 hours) for your latest push to git@git.bioconductor.org:packages/AnnotationDbi.git to reflect on this report. See How and When does the builder pull? When will my changes propagate? for more information. - Make sure to use the following settings in order to reproduce any error or warning you see on this page. |
| Package 60/2083 | Hostname | OS / Arch | INSTALL | BUILD | CHECK | BUILD BIN | ||||||||
| AnnotationDbi 1.56.2 (landing page) Bioconductor Package Maintainer
| nebbiolo2 | Linux (Ubuntu 20.04.4 LTS) / x86_64 | OK | OK | OK | |||||||||
| tokay2 | Windows Server 2012 R2 Standard / x64 | OK | OK | OK | OK | |||||||||
| machv2 | macOS 10.14.6 Mojave / x86_64 | OK | OK | OK | OK | |||||||||
| Package: AnnotationDbi |
| Version: 1.56.2 |
| Command: /home/biocbuild/bbs-3.14-bioc/R/bin/R CMD check --install=check:AnnotationDbi.install-out.txt --library=/home/biocbuild/bbs-3.14-bioc/R/library --no-vignettes --timings AnnotationDbi_1.56.2.tar.gz |
| StartedAt: 2022-04-12 06:22:01 -0400 (Tue, 12 Apr 2022) |
| EndedAt: 2022-04-12 06:25:26 -0400 (Tue, 12 Apr 2022) |
| EllapsedTime: 205.2 seconds |
| RetCode: 0 |
| Status: OK |
| CheckDir: AnnotationDbi.Rcheck |
| Warnings: 0 |
##############################################################################
##############################################################################
###
### Running command:
###
### /home/biocbuild/bbs-3.14-bioc/R/bin/R CMD check --install=check:AnnotationDbi.install-out.txt --library=/home/biocbuild/bbs-3.14-bioc/R/library --no-vignettes --timings AnnotationDbi_1.56.2.tar.gz
###
##############################################################################
##############################################################################
* using log directory ‘/home/biocbuild/bbs-3.14-bioc/meat/AnnotationDbi.Rcheck’
* using R version 4.1.3 (2022-03-10)
* using platform: x86_64-pc-linux-gnu (64-bit)
* using session charset: UTF-8
* using option ‘--no-vignettes’
* checking for file ‘AnnotationDbi/DESCRIPTION’ ... OK
* this is package ‘AnnotationDbi’ version ‘1.56.2’
* package encoding: UTF-8
* checking package namespace information ... OK
* checking package dependencies ... OK
* checking if this is a source package ... OK
* checking if there is a namespace ... OK
* checking for hidden files and directories ... OK
* checking for portable file names ... OK
* checking for sufficient/correct file permissions ... OK
* checking whether package ‘AnnotationDbi’ can be installed ... OK
* checking installed package size ... NOTE
installed size is 8.3Mb
sub-directories of 1Mb or more:
R 1.0Mb
extdata 6.0Mb
* checking package directory ... OK
* checking ‘build’ directory ... OK
* checking DESCRIPTION meta-information ... OK
* checking top-level files ... OK
* checking for left-over files ... OK
* checking index information ... OK
* checking package subdirectories ... OK
* checking R files for non-ASCII characters ... OK
* checking R files for syntax errors ... OK
* checking whether the package can be loaded ... OK
* checking whether the package can be loaded with stated dependencies ... OK
* checking whether the package can be unloaded cleanly ... OK
* checking whether the namespace can be loaded with stated dependencies ... OK
* checking whether the namespace can be unloaded cleanly ... OK
* checking dependencies in R code ... OK
* checking S3 generic/method consistency ... OK
* checking replacement functions ... OK
* checking foreign function calls ... OK
* checking R code for possible problems ... NOTE
createORGANISMSeeds: no visible global function definition for
‘makeAnnDbMapSeeds’
Undefined global functions or variables:
makeAnnDbMapSeeds
* checking Rd files ... OK
* checking Rd metadata ... OK
* checking Rd cross-references ... OK
* checking for missing documentation entries ... OK
* checking for code/documentation mismatches ... OK
* checking Rd \usage sections ... OK
* checking Rd contents ... OK
* checking for unstated dependencies in examples ... OK
* checking files in ‘vignettes’ ... OK
* checking examples ... OK
Examples with CPU (user + system) or elapsed time > 5s
user system elapsed
AnnDbPkg-checker 45.492 0.917 46.596
* checking for unstated dependencies in ‘tests’ ... OK
* checking tests ...
Running ‘AnnotationDbi_unit_tests.R’
OK
* checking for unstated dependencies in vignettes ... OK
* checking package vignettes in ‘inst/doc’ ... OK
* checking running R code from vignettes ... SKIPPED
* checking re-building of vignette outputs ... SKIPPED
* checking PDF version of manual ... OK
* DONE
Status: 2 NOTEs
See
‘/home/biocbuild/bbs-3.14-bioc/meat/AnnotationDbi.Rcheck/00check.log’
for details.
AnnotationDbi.Rcheck/00install.out
############################################################################## ############################################################################## ### ### Running command: ### ### /home/biocbuild/bbs-3.14-bioc/R/bin/R CMD INSTALL AnnotationDbi ### ############################################################################## ############################################################################## * installing to library ‘/home/biocbuild/bbs-3.14-bioc/R/library’ * installing *source* package ‘AnnotationDbi’ ... ** using staged installation ** R ** inst ** byte-compile and prepare package for lazy loading Creating a new generic function for ‘packageName’ in package ‘AnnotationDbi’ Creating a generic function for ‘ls’ from package ‘base’ in package ‘AnnotationDbi’ Creating a generic function for ‘eapply’ from package ‘base’ in package ‘AnnotationDbi’ Creating a generic function for ‘exists’ from package ‘base’ in package ‘AnnotationDbi’ Creating a generic function for ‘sample’ from package ‘base’ in package ‘AnnotationDbi’ ** help *** installing help indices ** building package indices ** installing vignettes ** testing if installed package can be loaded from temporary location ** testing if installed package can be loaded from final location ** testing if installed package keeps a record of temporary installation path * DONE (AnnotationDbi)
AnnotationDbi.Rcheck/tests/AnnotationDbi_unit_tests.Rout
R version 4.1.3 (2022-03-10) -- "One Push-Up"
Copyright (C) 2022 The R Foundation for Statistical Computing
Platform: x86_64-pc-linux-gnu (64-bit)
R is free software and comes with ABSOLUTELY NO WARRANTY.
You are welcome to redistribute it under certain conditions.
Type 'license()' or 'licence()' for distribution details.
R is a collaborative project with many contributors.
Type 'contributors()' for more information and
'citation()' on how to cite R or R packages in publications.
Type 'demo()' for some demos, 'help()' for on-line help, or
'help.start()' for an HTML browser interface to help.
Type 'q()' to quit R.
> require("AnnotationDbi") || stop("unable to load AnnotationDbi package")
Loading required package: AnnotationDbi
Loading required package: stats4
Loading required package: BiocGenerics
Attaching package: 'BiocGenerics'
The following objects are masked from 'package:stats':
IQR, mad, sd, var, xtabs
The following objects are masked from 'package:base':
Filter, Find, Map, Position, Reduce, anyDuplicated, append,
as.data.frame, basename, cbind, colnames, dirname, do.call,
duplicated, eval, evalq, get, grep, grepl, intersect, is.unsorted,
lapply, mapply, match, mget, order, paste, pmax, pmax.int, pmin,
pmin.int, rank, rbind, rownames, sapply, setdiff, sort, table,
tapply, union, unique, unsplit, which.max, which.min
Loading required package: Biobase
Welcome to Bioconductor
Vignettes contain introductory material; view with
'browseVignettes()'. To cite Bioconductor, see
'citation("Biobase")', and for packages 'citation("pkgname")'.
Loading required package: IRanges
Loading required package: S4Vectors
Attaching package: 'S4Vectors'
The following objects are masked from 'package:base':
I, expand.grid, unname
[1] TRUE
>
> AnnotationDbi:::.test()
Loading required package: org.Hs.eg.db
'select()' returned 1:1 mapping between keys and columns
'select()' returned 1:many mapping between keys and columns
'select()' returned 1:1 mapping between keys and columns
'select()' returned 1:many mapping between keys and columns
'select()' returned 1:many mapping between keys and columns
'select()' returned 1:many mapping between keys and columns
'select()' returned 1:many mapping between keys and columns
'select()' returned 1:many mapping between keys and columns
'select()' returned 1:many mapping between keys and columns
'select()' returned 1:many mapping between keys and columns
Loading required package: RSQLite
Loading required package: org.At.tair.db
Loading required package: org.Sc.sgd.db
Loading required package: GO.db
Loading required package: hgu95av2.db
'select()' returned many:many mapping between keys and columns
'select()' returned 1:many mapping between keys and columns
'select()' returned 1:1 mapping between keys and columns
'select()' returned 1:1 mapping between keys and columns
'select()' returned many:1 mapping between keys and columns
'select()' returned 1:1 mapping between keys and columns
'select()' returned many:1 mapping between keys and columns
'select()' returned 1:1 mapping between keys and columns
'select()' returned many:1 mapping between keys and columns
'select()' returned 1:many mapping between keys and columns
'select()' returned 1:many mapping between keys and columns
'select()' returned 1:many mapping between keys and columns
'select()' returned 1:many mapping between keys and columns
'select()' returned 1:1 mapping between keys and columns
'select()' returned 1:1 mapping between keys and columns
'select()' returned 1:1 mapping between keys and columns
'select()' returned 1:1 mapping between keys and columns
'select()' returned 1:1 mapping between keys and columns
'select()' returned 1:1 mapping between keys and columns
'select()' returned 1:many mapping between keys and columns
'select()' returned 1:many mapping between keys and columns
'select()' returned 1:many mapping between keys and columns
'select()' returned 1:many mapping between keys and columns
'select()' returned 1:many mapping between keys and columns
'select()' returned 1:1 mapping between keys and columns
Warning: You have selected the following columns that can have a many to one
relationship with the primary key: ACCNUM, ALIAS, ENSEMBL,
ENSEMBLPROT, ENSEMBLTRANS, ENZYME, EVIDENCE, EVIDENCEALL, GO, GOALL,
IPI, MAP, OMIM, ONTOLOGY, ONTOLOGYALL, PATH, PFAM, PMID, PROSITE,
REFSEQ, UCSCKG, UNIPROT . Because you have selected more than a few
such columns there is a risk that this selection may balloon up into
a very large result as the number of rows returned multiplies
accordingly. To experience smaller/more manageable results and faster
retrieval times, you might want to consider selecting these columns
separately.
'select()' returned 1:many mapping between keys and columns
'select()' returned 1:1 mapping between keys and columns
'select()' returned 1:many mapping between keys and columns
'select()' returned 1:many mapping between keys and columns
'select()' returned 1:many mapping between keys and columns
'select()' returned 1:1 mapping between keys and columns
'select()' returned many:1 mapping between keys and columns
'select()' returned 1:many mapping between keys and columns
'select()' returned many:1 mapping between keys and columns
'select()' returned 1:1 mapping between keys and columns
'select()' returned many:many mapping between keys and columns
'select()' returned 1:1 mapping between keys and columns
'select()' returned 1:1 mapping between keys and columns
'select()' returned 1:many mapping between keys and columns
'select()' returned 1:1 mapping between keys and columns
'select()' returned 1:1 mapping between keys and columns
'select()' returned 1:1 mapping between keys and columns
'select()' returned 1:many mapping between keys and columns
Loading required package: reactome.db
'select()' returned 1:many mapping between keys and columns
'select()' returned 1:1 mapping between keys and columns
'select()' returned 1:1 mapping between keys and columns
'select()' returned 1:many mapping between keys and columns
'select()' returned 1:many mapping between keys and columns
RUNIT TEST PROTOCOL -- Tue Apr 12 06:25:22 2022
***********************************************
Number of test functions: 63
Number of errors: 0
Number of failures: 0
1 Test Suite :
AnnotationDbi RUnit Tests - 63 test functions, 0 errors, 0 failures
Number of test functions: 63
Number of errors: 0
Number of failures: 0
Warning messages:
1: In .local(x, ...) : returned vector has duplicated names
2: In .local(x, ...) : returned vector has duplicated names
3: call dbDisconnect() when finished working with a connection
4: In .deprecatedColsMessage() :
Accessing gene location information via 'CHR','CHRLOC','CHRLOCEND' is
deprecated. Please use a range based accessor like genes(), or select()
with columns values like TXCHROM and TXSTART on a TxDb or OrganismDb
object instead.
5: In .deprecatedColsMessage() :
Accessing gene location information via 'CHR','CHRLOC','CHRLOCEND' is
deprecated. Please use a range based accessor like genes(), or select()
with columns values like TXCHROM and TXSTART on a TxDb or OrganismDb
object instead.
6: In .deprecatedColsMessage() :
Accessing gene location information via 'CHR','CHRLOC','CHRLOCEND' is
deprecated. Please use a range based accessor like genes(), or select()
with columns values like TXCHROM and TXSTART on a TxDb or OrganismDb
object instead.
>
> proc.time()
user system elapsed
48.541 2.378 50.953
AnnotationDbi.Rcheck/AnnotationDbi-Ex.timings
| name | user | system | elapsed | |
| AnnDbObj-class | 0.336 | 0.032 | 0.369 | |
| AnnDbPkg-checker | 45.492 | 0.917 | 46.596 | |
| AnnotationDb-class | 1.424 | 0.136 | 1.562 | |
| Bimap-direction | 2.588 | 0.284 | 2.884 | |
| Bimap-envirAPI | 0.375 | 0.208 | 0.589 | |
| Bimap-keys | 0.615 | 0.039 | 0.654 | |
| Bimap-toTable | 1.837 | 0.048 | 1.886 | |
| Bimap | 1.431 | 0.168 | 1.598 | |
| BimapFiltering | 0.118 | 0.008 | 0.126 | |
| BimapFormatting | 0.244 | 0.024 | 0.269 | |
| GOColsAndKeytypes | 0.178 | 0.008 | 0.186 | |
| GOFrame | 1.260 | 0.196 | 1.456 | |
| GOTerms-class | 0 | 0 | 0 | |
| KEGGFrame | 0.038 | 0.000 | 2.185 | |
| colsAndKeytypes | 0.144 | 0.004 | 0.150 | |
| createSimpleBimap | 0.131 | 0.000 | 0.131 | |
| inpIDMapper | 0 | 0 | 0 | |
| makeGOGraph | 0.202 | 0.012 | 0.215 | |
| make_eg_to_go_map | 0.155 | 0.000 | 0.154 | |
| organismKEGGFrame | 0.122 | 0.000 | 4.889 | |
| print.probetable | 0.410 | 0.136 | 0.546 | |
| toSQLStringSet | 0 | 0 | 0 | |
| unlist2 | 0.128 | 0.000 | 0.129 | |