| Back to Multiple platform build/check report for BioC 3.14 |
|
This page was generated on 2022-04-13 12:06:11 -0400 (Wed, 13 Apr 2022).
| Hostname | OS | Arch (*) | R version | Installed pkgs |
|---|---|---|---|---|
| nebbiolo2 | Linux (Ubuntu 20.04.4 LTS) | x86_64 | 4.1.3 (2022-03-10) -- "One Push-Up" | 4324 |
| tokay2 | Windows Server 2012 R2 Standard | x64 | 4.1.3 (2022-03-10) -- "One Push-Up" | 4077 |
| machv2 | macOS 10.14.6 Mojave | x86_64 | 4.1.3 (2022-03-10) -- "One Push-Up" | 4137 |
| Click on any hostname to see more info about the system (e.g. compilers) (*) as reported by 'uname -p', except on Windows and Mac OS X | ||||
|
To the developers/maintainers of the ASICS package: - Please allow up to 24 hours (and sometimes 48 hours) for your latest push to git@git.bioconductor.org:packages/ASICS.git to reflect on this report. See How and When does the builder pull? When will my changes propagate? for more information. - Make sure to use the following settings in order to reproduce any error or warning you see on this page. |
| Package 88/2083 | Hostname | OS / Arch | INSTALL | BUILD | CHECK | BUILD BIN | ||||||||
| ASICS 2.10.0 (landing page) Gaƫlle Lefort
| nebbiolo2 | Linux (Ubuntu 20.04.4 LTS) / x86_64 | OK | OK | WARNINGS | |||||||||
| tokay2 | Windows Server 2012 R2 Standard / x64 | OK | OK | WARNINGS | OK | |||||||||
| machv2 | macOS 10.14.6 Mojave / x86_64 | OK | OK | WARNINGS | OK | |||||||||
| Package: ASICS |
| Version: 2.10.0 |
| Command: C:\cygwin\bin\curl.exe -O http://155.52.207.166/BBS/3.14/bioc/src/contrib/ASICS_2.10.0.tar.gz && rm -rf ASICS.buildbin-libdir && mkdir ASICS.buildbin-libdir && C:\Users\biocbuild\bbs-3.14-bioc\R\bin\R.exe CMD INSTALL --merge-multiarch --build --library=ASICS.buildbin-libdir ASICS_2.10.0.tar.gz && C:\Users\biocbuild\bbs-3.14-bioc\R\bin\R.exe CMD INSTALL ASICS_2.10.0.zip && rm ASICS_2.10.0.tar.gz ASICS_2.10.0.zip |
| StartedAt: 2022-04-12 05:53:23 -0400 (Tue, 12 Apr 2022) |
| EndedAt: 2022-04-12 05:55:35 -0400 (Tue, 12 Apr 2022) |
| EllapsedTime: 131.6 seconds |
| RetCode: 0 |
| Status: OK |
##############################################################################
##############################################################################
###
### Running command:
###
### C:\cygwin\bin\curl.exe -O http://155.52.207.166/BBS/3.14/bioc/src/contrib/ASICS_2.10.0.tar.gz && rm -rf ASICS.buildbin-libdir && mkdir ASICS.buildbin-libdir && C:\Users\biocbuild\bbs-3.14-bioc\R\bin\R.exe CMD INSTALL --merge-multiarch --build --library=ASICS.buildbin-libdir ASICS_2.10.0.tar.gz && C:\Users\biocbuild\bbs-3.14-bioc\R\bin\R.exe CMD INSTALL ASICS_2.10.0.zip && rm ASICS_2.10.0.tar.gz ASICS_2.10.0.zip
###
##############################################################################
##############################################################################
% Total % Received % Xferd Average Speed Time Time Time Current
Dload Upload Total Spent Left Speed
0 0 0 0 0 0 0 0 --:--:-- --:--:-- --:--:-- 0
6 3600k 6 237k 0 0 403k 0 0:00:08 --:--:-- 0:00:08 403k
39 3600k 39 1427k 0 0 898k 0 0:00:04 0:00:01 0:00:03 898k
96 3600k 96 3476k 0 0 1361k 0 0:00:02 0:00:02 --:--:-- 1361k
100 3600k 100 3600k 0 0 1389k 0 0:00:02 0:00:02 --:--:-- 1389k
install for i386
* installing *source* package 'ASICS' ...
** using staged installation
** R
** data
*** moving datasets to lazyload DB
** inst
** byte-compile and prepare package for lazy loading
** help
*** installing help indices
converting help for package 'ASICS'
finding HTML links ... done
ASICS html
ASICSResults-class html
ASICSUsersGuide html
AnalysisResults-class html
finding level-2 HTML links ... done
PureLibrary-class html
Spectra-class html
accessors-methods html
alignSpectra html
binning html
combineAndSubset-methods html
createPureLibrary html
createSpectra html
formatForAnalysis html
importSpectra html
importSpectraBruker html
kruskalWallis html
normaliseSpectra html
oplsda html
pca html
plotAlignment html
pure_library html
simulate_spectra html
summary-methods html
visualisation-methods-analyses html
visualisation-methods-spectra html
** building package indices
** installing vignettes
'ASICS.Rmd' using 'UTF-8'
'ASICSUsersGuide.Rmd' using 'UTF-8'
** testing if installed package can be loaded from temporary location
** testing if installed package can be loaded from final location
** testing if installed package keeps a record of temporary installation path
install for x64
* installing *source* package 'ASICS' ...
** testing if installed package can be loaded
* MD5 sums
packaged installation of 'ASICS' as ASICS_2.10.0.zip
* DONE (ASICS)
* installing to library 'C:/Users/biocbuild/bbs-3.14-bioc/R/library'
package 'ASICS' successfully unpacked and MD5 sums checked