| Back to Multiple platform build/check report for BioC 3.14 | 
 | 
This page was generated on 2022-04-13 12:07:36 -0400 (Wed, 13 Apr 2022).
| Hostname | OS | Arch (*) | R version | Installed pkgs | 
|---|---|---|---|---|
| nebbiolo2 | Linux (Ubuntu 20.04.4 LTS) | x86_64 | 4.1.3 (2022-03-10) -- "One Push-Up" | 4324 | 
| tokay2 | Windows Server 2012 R2 Standard | x64 | 4.1.3 (2022-03-10) -- "One Push-Up" | 4077 | 
| machv2 | macOS 10.14.6 Mojave | x86_64 | 4.1.3 (2022-03-10) -- "One Push-Up" | 4137 | 
| Click on any hostname to see more info about the system (e.g. compilers) (*) as reported by 'uname -p', except on Windows and Mac OS X | ||||
| To the developers/maintainers of the AMOUNTAIN package: - Please allow up to 24 hours (and sometimes 48 hours) for your latest push to git@git.bioconductor.org:packages/AMOUNTAIN.git to reflect on this report. See How and When does the builder pull? When will my changes propagate? for more information. - Make sure to use the following settings in order to reproduce any error or warning you see on this page. | 
| Package 50/2083 | Hostname | OS / Arch | INSTALL | BUILD | CHECK | BUILD BIN | ||||||||
| AMOUNTAIN 1.20.0  (landing page) Dong Li 
 | nebbiolo2 | Linux (Ubuntu 20.04.4 LTS) / x86_64 | OK | OK | OK |  | ||||||||
| tokay2 | Windows Server 2012 R2 Standard / x64 | OK | OK | OK | OK |  | ||||||||
| machv2 | macOS 10.14.6 Mojave / x86_64 | OK | OK | OK | OK |  | ||||||||
| Package: AMOUNTAIN | 
| Version: 1.20.0 | 
| Command: /Library/Frameworks/R.framework/Resources/bin/R CMD build --keep-empty-dirs --no-resave-data AMOUNTAIN | 
| StartedAt: 2022-04-12 04:38:38 -0400 (Tue, 12 Apr 2022) | 
| EndedAt: 2022-04-12 04:39:06 -0400 (Tue, 12 Apr 2022) | 
| EllapsedTime: 27.9 seconds | 
| RetCode: 0 | 
| Status: OK | 
| PackageFile: AMOUNTAIN_1.20.0.tar.gz | 
| PackageFileSize: 1.539 MiB | 
##############################################################################
##############################################################################
###
### Running command:
###
###   /Library/Frameworks/R.framework/Resources/bin/R CMD build --keep-empty-dirs --no-resave-data AMOUNTAIN
###
##############################################################################
##############################################################################
* checking for file ‘AMOUNTAIN/DESCRIPTION’ ... OK
* preparing ‘AMOUNTAIN’:
* checking DESCRIPTION meta-information ... OK
* cleaning src
* installing the package to build vignettes
* creating vignettes ... OK
Warning: ‘inst/doc’ files
    ‘AMOUNTAIN.Rmd’, ‘AMOUNTAIN.html’
  ignored as vignettes have been rebuilt.
  Run R CMD build with --no-build-vignettes to prevent rebuilding.
* cleaning src
* checking for LF line-endings in source and make files and shell scripts
* checking for empty or unneeded directories
* building ‘AMOUNTAIN_1.20.0.tar.gz’