| Back to Multiple platform build/check report for BioC 3.14 |
|
This page was generated on 2022-04-13 12:06:08 -0400 (Wed, 13 Apr 2022).
| Hostname | OS | Arch (*) | R version | Installed pkgs |
|---|---|---|---|---|
| nebbiolo2 | Linux (Ubuntu 20.04.4 LTS) | x86_64 | 4.1.3 (2022-03-10) -- "One Push-Up" | 4324 |
| tokay2 | Windows Server 2012 R2 Standard | x64 | 4.1.3 (2022-03-10) -- "One Push-Up" | 4077 |
| machv2 | macOS 10.14.6 Mojave | x86_64 | 4.1.3 (2022-03-10) -- "One Push-Up" | 4137 |
| Click on any hostname to see more info about the system (e.g. compilers) (*) as reported by 'uname -p', except on Windows and Mac OS X | ||||
|
To the developers/maintainers of the ABarray package: - Please allow up to 24 hours (and sometimes 48 hours) for your latest push to git@git.bioconductor.org:packages/ABarray.git to reflect on this report. See How and When does the builder pull? When will my changes propagate? for more information. - Make sure to use the following settings in order to reproduce any error or warning you see on this page. |
| Package 8/2083 | Hostname | OS / Arch | INSTALL | BUILD | CHECK | BUILD BIN | ||||||||
| ABarray 1.62.0 (landing page) Yongming Andrew Sun
| nebbiolo2 | Linux (Ubuntu 20.04.4 LTS) / x86_64 | OK | OK | OK | |||||||||
| tokay2 | Windows Server 2012 R2 Standard / x64 | OK | OK | OK | OK | |||||||||
| machv2 | macOS 10.14.6 Mojave / x86_64 | OK | OK | OK | OK | |||||||||
| Package: ABarray |
| Version: 1.62.0 |
| Command: rm -rf ABarray.buildbin-libdir && mkdir ABarray.buildbin-libdir && C:\Users\biocbuild\bbs-3.14-bioc\R\bin\R.exe CMD INSTALL --merge-multiarch --build --library=ABarray.buildbin-libdir ABarray_1.62.0.tar.gz |
| StartedAt: 2022-04-13 05:32:40 -0400 (Wed, 13 Apr 2022) |
| EndedAt: 2022-04-13 05:33:06 -0400 (Wed, 13 Apr 2022) |
| EllapsedTime: 26.2 seconds |
| RetCode: 0 |
| Status: OK |
| PackageFile: ABarray_1.62.0.zip |
| PackageFileSize: 657.9 KiB |
##############################################################################
##############################################################################
###
### Running command:
###
### rm -rf ABarray.buildbin-libdir && mkdir ABarray.buildbin-libdir && C:\Users\biocbuild\bbs-3.14-bioc\R\bin\R.exe CMD INSTALL --merge-multiarch --build --library=ABarray.buildbin-libdir ABarray_1.62.0.tar.gz
###
##############################################################################
##############################################################################
install for i386
* installing *source* package 'ABarray' ...
** using staged installation
** R
** inst
** byte-compile and prepare package for lazy loading
** help
*** installing help indices
converting help for package 'ABarray'
finding HTML links ... done
ABarray html
ABarrayGUI html
calcsn html
concord html
cvv html
cvvPlot html
doANOVA html
doLPE html
doPlotEset html
doPlotFCT html
doVennDiagram html
drawVennDiagram html
getMemberEset html
getPantherMap html
hclusterPlot html
icpPlot html
imputeFlag html
lpe.fdr.BH html
mamaplot html
matrixPlot html
mvaPair2 html
panel.cor html
panel.scatter html
qnNormalize html
rgcolorsfunc html
savejpg html
scaleColorBar html
snSummary html
** building package indices
** installing vignettes
** testing if installed package can be loaded from temporary location
** testing if installed package can be loaded from final location
** testing if installed package keeps a record of temporary installation path
install for x64
* installing *source* package 'ABarray' ...
** testing if installed package can be loaded
* MD5 sums
packaged installation of 'ABarray' as ABarray_1.62.0.zip
* DONE (ABarray)