| Back to Workflows build report for BioC 3.13 |
This page was generated on 2021-10-15 15:50:07 -0400 (Fri, 15 Oct 2021).
|
To the developers/maintainers of the generegulation package: Make sure to use the following settings in order to reproduce any error or warning you see on this page. |
| Package 14/29 | Hostname | OS / Arch | INSTALL | BUILD | ||||||||
| generegulation 1.16.0 (landing page) Bioconductor Package Maintainer
| nebbiolo1 | Linux (Ubuntu 20.04.2 LTS) / x86_64 | OK | OK | ||||||||
| Package: generegulation |
| Version: 1.16.0 |
| Command: /home/biocbuild/bbs-3.13-bioc/R/bin/R CMD INSTALL generegulation |
| StartedAt: 2021-10-15 09:00:08 -0400 (Fri, 15 Oct 2021) |
| EndedAt: 2021-10-15 09:00:36 -0400 (Fri, 15 Oct 2021) |
| EllapsedTime: 28.5 seconds |
| RetCode: 0 |
| Status: OK |
##############################################################################
##############################################################################
###
### Running command:
###
### /home/biocbuild/bbs-3.13-bioc/R/bin/R CMD INSTALL generegulation
###
##############################################################################
##############################################################################
* installing to library ‘/home/biocbuild/bbs-3.13-bioc/R/library’
* installing *source* package ‘generegulation’ ...
** using staged installation
** help
No man pages found in package ‘generegulation’
*** installing help indices
** building package indices
** installing vignettes
** testing if installed package can be loaded from temporary location
See system.file("LICENSE", package="MotifDb") for use restrictions.
** testing if installed package can be loaded from final location
See system.file("LICENSE", package="MotifDb") for use restrictions.
** testing if installed package keeps a record of temporary installation path
* DONE (generegulation)