| Back to Workflows build report for BioC 3.13 |
This page was generated on 2021-10-15 15:50:07 -0400 (Fri, 15 Oct 2021).
|
To the developers/maintainers of the eQTL package: Make sure to use the following settings in order to reproduce any error or warning you see on this page. |
| Package 10/29 | Hostname | OS / Arch | INSTALL | BUILD | ||||||||
Vincent Carey
| nebbiolo1 | Linux (Ubuntu 20.04.2 LTS) / x86_64 | ERROR | ERROR | ||||||||
| Package: eQTL |
| Version: 1.16.0 |
| Command: /home/biocbuild/bbs-3.13-bioc/R/bin/R CMD INSTALL eQTL |
| StartedAt: 2021-10-15 09:02:16 -0400 (Fri, 15 Oct 2021) |
| EndedAt: 2021-10-15 09:02:16 -0400 (Fri, 15 Oct 2021) |
| EllapsedTime: 0.2 seconds |
| RetCode: 1 |
| Status: ERROR |
############################################################################## ############################################################################## ### ### Running command: ### ### /home/biocbuild/bbs-3.13-bioc/R/bin/R CMD INSTALL eQTL ### ############################################################################## ############################################################################## * installing to library ‘/home/biocbuild/bbs-3.13-bioc/R/library’ ERROR: dependencies ‘GGdata’, ‘GGtools’, ‘yri1kgv’ are not available for package ‘eQTL’ * removing ‘/home/biocbuild/bbs-3.13-bioc/R/library/eQTL’