| Back to Build/check report for BioC 3.13 experimental data |
|
This page was generated on 2021-10-16 15:58:42 -0400 (Sat, 16 Oct 2021).
|
To the developers/maintainers of the msqc1 package: Make sure to use the following settings in order to reproduce any error or warning you see on this page. |
| Package 252/406 | Hostname | OS / Arch | INSTALL | BUILD | CHECK | ||||||||
| msqc1 1.20.0 (landing page) Christian Panse
| malbec2 | Linux (Ubuntu 20.04.2 LTS) / x86_64 | OK | OK | OK | ||||||||
| Package: msqc1 |
| Version: 1.20.0 |
| Command: /home/biocbuild/bbs-3.13-bioc/R/bin/R CMD build --keep-empty-dirs --no-resave-data msqc1 |
| StartedAt: 2021-10-16 12:22:51 -0400 (Sat, 16 Oct 2021) |
| EndedAt: 2021-10-16 12:23:37 -0400 (Sat, 16 Oct 2021) |
| EllapsedTime: 45.3 seconds |
| RetCode: 0 |
| Status: OK |
| PackageFile: msqc1_1.20.0.tar.gz |
| PackageFileSize: 6.468 MiB |
############################################################################## ############################################################################## ### ### Running command: ### ### /home/biocbuild/bbs-3.13-bioc/R/bin/R CMD build --keep-empty-dirs --no-resave-data msqc1 ### ############################################################################## ############################################################################## * checking for file ‘msqc1/DESCRIPTION’ ... OK * preparing ‘msqc1’: * checking DESCRIPTION meta-information ... OK * installing the package to process help pages * saving partial Rd database * creating vignettes ... OK * checking for LF line-endings in source and make files and shell scripts * checking for empty or unneeded directories * building ‘msqc1_1.20.0.tar.gz’