| Back to Build/check report for BioC 3.13 experimental data | 
 | 
This page was generated on 2021-10-16 15:58:41 -0400 (Sat, 16 Oct 2021).
| To the developers/maintainers of the macrophage package: Make sure to use the following settings in order to reproduce any error or warning you see on this page. | 
| Package 213/406 | Hostname | OS / Arch | INSTALL | BUILD | CHECK | ||||||||
| macrophage 1.8.0  (landing page) Michael Love 
 | malbec2 | Linux (Ubuntu 20.04.2 LTS) / x86_64 | OK | OK | OK |  | |||||||
| Package: macrophage | 
| Version: 1.8.0 | 
| Command: /home/biocbuild/bbs-3.13-bioc/R/bin/R CMD INSTALL macrophage | 
| StartedAt: 2021-10-16 11:02:00 -0400 (Sat, 16 Oct 2021) | 
| EndedAt: 2021-10-16 11:02:43 -0400 (Sat, 16 Oct 2021) | 
| EllapsedTime: 43.4 seconds | 
| RetCode: 0 | 
| Status: OK | 
############################################################################## ############################################################################## ### ### Running command: ### ### /home/biocbuild/bbs-3.13-bioc/R/bin/R CMD INSTALL macrophage ### ############################################################################## ############################################################################## * installing to library ‘/home/biocbuild/bbs-3.13-bioc/R/library’ * installing *source* package ‘macrophage’ ... ** using staged installation ** data ** inst ** help *** installing help indices ** building package indices ** installing vignettes ** testing if installed package can be loaded from temporary location ** testing if installed package can be loaded from final location ** testing if installed package keeps a record of temporary installation path * DONE (macrophage)