| Back to Build/check report for BioC 3.13 experimental data |
|
This page was generated on 2021-10-16 15:58:40 -0400 (Sat, 16 Oct 2021).
|
To the developers/maintainers of the cnvGSAdata package: Make sure to use the following settings in order to reproduce any error or warning you see on this page. |
| Package 71/406 | Hostname | OS / Arch | INSTALL | BUILD | CHECK | ||||||||
| cnvGSAdata 1.28.0 (landing page) Joseph Lugo
| malbec2 | Linux (Ubuntu 20.04.2 LTS) / x86_64 | OK | OK | WARNINGS | ||||||||
| Package: cnvGSAdata |
| Version: 1.28.0 |
| Command: /home/biocbuild/bbs-3.13-bioc/R/bin/R CMD check --install=check:cnvGSAdata.install-out.txt --library=/home/biocbuild/bbs-3.13-bioc/R/library --no-vignettes --timings cnvGSAdata_1.28.0.tar.gz |
| StartedAt: 2021-10-16 12:59:09 -0400 (Sat, 16 Oct 2021) |
| EndedAt: 2021-10-16 13:00:04 -0400 (Sat, 16 Oct 2021) |
| EllapsedTime: 55.0 seconds |
| RetCode: 0 |
| Status: WARNINGS |
| CheckDir: cnvGSAdata.Rcheck |
| Warnings: 1 |
##############################################################################
##############################################################################
###
### Running command:
###
### /home/biocbuild/bbs-3.13-bioc/R/bin/R CMD check --install=check:cnvGSAdata.install-out.txt --library=/home/biocbuild/bbs-3.13-bioc/R/library --no-vignettes --timings cnvGSAdata_1.28.0.tar.gz
###
##############################################################################
##############################################################################
* using log directory ‘/home/biocbuild/bbs-3.13-data-experiment/meat/cnvGSAdata.Rcheck’
* using R version 4.1.1 (2021-08-10)
* using platform: x86_64-pc-linux-gnu (64-bit)
* using session charset: UTF-8
* using option ‘--no-vignettes’
* checking for file ‘cnvGSAdata/DESCRIPTION’ ... OK
* this is package ‘cnvGSAdata’ version ‘1.28.0’
* checking package namespace information ... OK
* checking package dependencies ... OK
* checking if this is a source package ... OK
* checking if there is a namespace ... OK
* checking for hidden files and directories ... NOTE
Found the following hidden files and directories:
.git_fetch_output.txt
.git_merge_output.txt
These were most likely included in error. See section ‘Package
structure’ in the ‘Writing R Extensions’ manual.
* checking for portable file names ... OK
* checking for sufficient/correct file permissions ... OK
* checking whether package ‘cnvGSAdata’ can be installed ... OK
* checking installed package size ... NOTE
installed size is 9.1Mb
sub-directories of 1Mb or more:
data 5.2Mb
extdata 3.8Mb
* checking package directory ... OK
* checking DESCRIPTION meta-information ... OK
* checking top-level files ... OK
* checking for left-over files ... OK
* checking index information ... OK
* checking package subdirectories ... OK
* checking whether the package can be loaded ... OK
* checking whether the package can be loaded with stated dependencies ... OK
* checking whether the package can be unloaded cleanly ... OK
* checking whether the namespace can be loaded with stated dependencies ... OK
* checking whether the namespace can be unloaded cleanly ... OK
* checking Rd files ... OK
* checking Rd metadata ... OK
* checking Rd cross-references ... OK
* checking for missing documentation entries ... OK
* checking for code/documentation mismatches ... OK
* checking Rd \usage sections ... OK
* checking Rd contents ... OK
* checking for unstated dependencies in examples ... OK
* checking contents of ‘data’ directory ... OK
* checking data for non-ASCII characters ... OK
* checking data for ASCII and uncompressed saves ... WARNING
Note: significantly better compression could be obtained
by using R CMD build --resave-data
old_size new_size compress
cnvGSA_input_example.RData 2.4Mb 1.2Mb xz
cnvGSA_output_example.RData 2.5Mb 768Kb xz
gs_data_example.RData 310Kb 207Kb xz
* checking examples ... OK
* checking PDF version of manual ... OK
* DONE
Status: 1 WARNING, 2 NOTEs
See
‘/home/biocbuild/bbs-3.13-data-experiment/meat/cnvGSAdata.Rcheck/00check.log’
for details.
cnvGSAdata.Rcheck/00install.out
############################################################################## ############################################################################## ### ### Running command: ### ### /home/biocbuild/bbs-3.13-bioc/R/bin/R CMD INSTALL cnvGSAdata ### ############################################################################## ############################################################################## * installing to library ‘/home/biocbuild/bbs-3.13-bioc/R/library’ * installing *source* package ‘cnvGSAdata’ ... ** using staged installation ** data ** inst ** help *** installing help indices ** building package indices ** testing if installed package can be loaded from temporary location ** testing if installed package can be loaded from final location ** testing if installed package keeps a record of temporary installation path * DONE (cnvGSAdata)
cnvGSAdata.Rcheck/cnvGSAdata-Ex.timings
| name | user | system | elapsed | |
| cnv_AGP_demo.txt | 0.043 | 0.000 | 0.295 | |
| enrGMT_AGP_demo.gmt | 1.648 | 0.083 | 2.332 | |
| enrGeneric_AGP_demo.txt | 0.001 | 0.000 | 0.002 | |
| gene_ID_demo.txt | 0.148 | 0.000 | 0.324 | |
| kl_gene_AGP_demo.txt | 0.001 | 0.001 | 0.068 | |
| kl_loci_AGP_demo.txt | 0.001 | 0.001 | 0.003 | |
| ph_AGP_demo.txt | 0.024 | 0.004 | 0.131 | |