| Back to Build/check report for BioC 3.13 experimental data | 
 | 
This page was generated on 2021-10-16 15:58:39 -0400 (Sat, 16 Oct 2021).
| To the developers/maintainers of the cancerdata package: Make sure to use the following settings in order to reproduce any error or warning you see on this page. | 
| Package 46/406 | Hostname | OS / Arch | INSTALL | BUILD | CHECK | ||||||||
| cancerdata 1.30.0  (landing page) Daniel Kosztyla 
 | malbec2 | Linux (Ubuntu 20.04.2 LTS) / x86_64 | OK | OK | OK |  | |||||||
| Package: cancerdata | 
| Version: 1.30.0 | 
| Command: /home/biocbuild/bbs-3.13-bioc/R/bin/R CMD build --keep-empty-dirs --no-resave-data cancerdata | 
| StartedAt: 2021-10-16 11:31:01 -0400 (Sat, 16 Oct 2021) | 
| EndedAt: 2021-10-16 11:31:04 -0400 (Sat, 16 Oct 2021) | 
| EllapsedTime: 2.7 seconds | 
| RetCode: 0 | 
| Status: OK | 
| PackageFile: cancerdata_1.30.0.tar.gz | 
| PackageFileSize: 26.69 MiB | 
############################################################################## ############################################################################## ### ### Running command: ### ### /home/biocbuild/bbs-3.13-bioc/R/bin/R CMD build --keep-empty-dirs --no-resave-data cancerdata ### ############################################################################## ############################################################################## * checking for file ‘cancerdata/DESCRIPTION’ ... OK * preparing ‘cancerdata’: * checking DESCRIPTION meta-information ... OK * checking for LF line-endings in source and make files and shell scripts * checking for empty or unneeded directories * looking to see if a ‘data/datalist’ file should be added * building ‘cancerdata_1.30.0.tar.gz’