| Back to Build/check report for BioC 3.13 experimental data | 
 | 
This page was generated on 2021-10-16 15:58:43 -0400 (Sat, 16 Oct 2021).
| To the developers/maintainers of the TargetSearchData package: Make sure to use the following settings in order to reproduce any error or warning you see on this page. | 
| Package 372/406 | Hostname | OS / Arch | INSTALL | BUILD | CHECK | ||||||||
| TargetSearchData 1.30.0  (landing page) Alvaro Cuadros-Inostroza 
 | malbec2 | Linux (Ubuntu 20.04.2 LTS) / x86_64 | OK | OK | OK |  | |||||||
| Package: TargetSearchData | 
| Version: 1.30.0 | 
| Command: /home/biocbuild/bbs-3.13-bioc/R/bin/R CMD build --keep-empty-dirs --no-resave-data TargetSearchData | 
| StartedAt: 2021-10-16 12:40:14 -0400 (Sat, 16 Oct 2021) | 
| EndedAt: 2021-10-16 12:40:40 -0400 (Sat, 16 Oct 2021) | 
| EllapsedTime: 26.0 seconds | 
| RetCode: 0 | 
| Status: OK | 
| PackageFile: TargetSearchData_1.30.0.tar.gz | 
| PackageFileSize: 29.79 MiB | 
############################################################################## ############################################################################## ### ### Running command: ### ### /home/biocbuild/bbs-3.13-bioc/R/bin/R CMD build --keep-empty-dirs --no-resave-data TargetSearchData ### ############################################################################## ############################################################################## * checking for file ‘TargetSearchData/DESCRIPTION’ ... OK * preparing ‘TargetSearchData’: * checking DESCRIPTION meta-information ... OK * installing the package to process help pages * saving partial Rd database * checking for LF line-endings in source and make files and shell scripts * checking for empty or unneeded directories * building ‘TargetSearchData_1.30.0.tar.gz’