| Back to Build/check report for BioC 3.13 experimental data |
|
This page was generated on 2021-10-16 15:58:40 -0400 (Sat, 16 Oct 2021).
|
To the developers/maintainers of the GSE62944 package: Make sure to use the following settings in order to reproduce any error or warning you see on this page. |
| Package 154/406 | Hostname | OS / Arch | INSTALL | BUILD | CHECK | ||||||||
| GSE62944 1.20.0 (landing page) Bioconductor Package Maintainer
| malbec2 | Linux (Ubuntu 20.04.2 LTS) / x86_64 | OK | OK | OK | ||||||||
| Package: GSE62944 |
| Version: 1.20.0 |
| Command: /home/biocbuild/bbs-3.13-bioc/R/bin/R CMD INSTALL GSE62944 |
| StartedAt: 2021-10-16 11:12:29 -0400 (Sat, 16 Oct 2021) |
| EndedAt: 2021-10-16 11:12:32 -0400 (Sat, 16 Oct 2021) |
| EllapsedTime: 3.4 seconds |
| RetCode: 0 |
| Status: OK |
############################################################################## ############################################################################## ### ### Running command: ### ### /home/biocbuild/bbs-3.13-bioc/R/bin/R CMD INSTALL GSE62944 ### ############################################################################## ############################################################################## * installing to library ‘/home/biocbuild/bbs-3.13-bioc/R/library’ * installing *source* package ‘GSE62944’ ... ** using staged installation ** inst ** help *** installing help indices ** building package indices ** installing vignettes ** testing if installed package can be loaded from temporary location ** testing if installed package can be loaded from final location ** testing if installed package keeps a record of temporary installation path * DONE (GSE62944)