| Back to Multiple platform build/check report for BioC 3.13 |
|
This page was generated on 2021-10-15 15:06:58 -0400 (Fri, 15 Oct 2021).
|
To the developers/maintainers of the yaqcaffy package: - Please allow up to 24 hours (and sometimes 48 hours) for your latest push to git@git.bioconductor.org:packages/yaqcaffy.git to reflect on this report. See How and When does the builder pull? When will my changes propagate? here for more information. - Make sure to use the following settings in order to reproduce any error or warning you see on this page. |
| Package 2036/2041 | Hostname | OS / Arch | INSTALL | BUILD | CHECK | BUILD BIN | ||||||||
Laurent Gatto
| nebbiolo1 | Linux (Ubuntu 20.04.2 LTS) / x86_64 | ERROR | ERROR | skipped | |||||||||
| tokay2 | Windows Server 2012 R2 Standard / x64 | ERROR | ERROR | skipped | skipped | |||||||||
| machv2 | macOS 10.14.6 Mojave / x86_64 | ERROR | ERROR | skipped | skipped | |||||||||
| Package: yaqcaffy |
| Version: 1.52.0 |
| Command: /Library/Frameworks/R.framework/Versions/Current/Resources/bin/R CMD build --keep-empty-dirs --no-resave-data yaqcaffy |
| StartedAt: 2021-10-14 15:42:06 -0400 (Thu, 14 Oct 2021) |
| EndedAt: 2021-10-14 15:42:11 -0400 (Thu, 14 Oct 2021) |
| EllapsedTime: 5.5 seconds |
| RetCode: 1 |
| Status: ERROR |
| PackageFile: None |
| PackageFileSize: NA |
##############################################################################
##############################################################################
###
### Running command:
###
### /Library/Frameworks/R.framework/Versions/Current/Resources/bin/R CMD build --keep-empty-dirs --no-resave-data yaqcaffy
###
##############################################################################
##############################################################################
* checking for file ‘yaqcaffy/DESCRIPTION’ ... OK
* preparing ‘yaqcaffy’:
* checking DESCRIPTION meta-information ... OK
* installing the package to build vignettes
-----------------------------------
ERROR: dependency ‘simpleaffy’ is not available for package ‘yaqcaffy’
* removing ‘/private/tmp/RtmpRcvz3Q/Rinst14b041e17602f/yaqcaffy’
-----------------------------------
ERROR: package installation failed