| Back to Multiple platform build/check report for BioC 3.13 |
|
This page was generated on 2021-10-15 15:06:27 -0400 (Fri, 15 Oct 2021).
|
To the developers/maintainers of the yamss package: - Please allow up to 24 hours (and sometimes 48 hours) for your latest push to git@git.bioconductor.org:packages/yamss.git to reflect on this report. See How and When does the builder pull? When will my changes propagate? here for more information. - Make sure to use the following settings in order to reproduce any error or warning you see on this page. |
| Package 2034/2041 | Hostname | OS / Arch | INSTALL | BUILD | CHECK | BUILD BIN | ||||||||
| yamss 1.18.0 (landing page) Leslie Myint
| nebbiolo1 | Linux (Ubuntu 20.04.2 LTS) / x86_64 | OK | OK | OK | |||||||||
| tokay2 | Windows Server 2012 R2 Standard / x64 | OK | OK | OK | OK | |||||||||
| machv2 | macOS 10.14.6 Mojave / x86_64 | OK | OK | OK | OK | |||||||||
| Package: yamss |
| Version: 1.18.0 |
| Command: rm -rf yamss.buildbin-libdir && mkdir yamss.buildbin-libdir && C:\Users\biocbuild\bbs-3.13-bioc\R\bin\R.exe CMD INSTALL --merge-multiarch --build --library=yamss.buildbin-libdir yamss_1.18.0.tar.gz |
| StartedAt: 2021-10-15 12:26:52 -0400 (Fri, 15 Oct 2021) |
| EndedAt: 2021-10-15 12:28:06 -0400 (Fri, 15 Oct 2021) |
| EllapsedTime: 74.5 seconds |
| RetCode: 0 |
| Status: OK |
| PackageFile: yamss_1.18.0.zip |
| PackageFileSize: 698.2 KiB |
##############################################################################
##############################################################################
###
### Running command:
###
### rm -rf yamss.buildbin-libdir && mkdir yamss.buildbin-libdir && C:\Users\biocbuild\bbs-3.13-bioc\R\bin\R.exe CMD INSTALL --merge-multiarch --build --library=yamss.buildbin-libdir yamss_1.18.0.tar.gz
###
##############################################################################
##############################################################################
install for i386
* installing *source* package 'yamss' ...
** using staged installation
** R
** data
** inst
** byte-compile and prepare package for lazy loading
No methods found in package 'IRanges' for request: 'ifelse' when loading 'yamss'
** help
*** installing help indices
converting help for package 'yamss'
finding HTML links ... done
CMSproc-class html
CMSraw-class html
CMSslice-class html
bakedpi html
cmsRawExample html
diffrep html
getEICS html
getTIC html
plotDensityRegion html
readMSdata html
slicepi html
** building package indices
** installing vignettes
** testing if installed package can be loaded from temporary location
No methods found in package 'IRanges' for request: 'ifelse' when loading 'yamss'
** testing if installed package can be loaded from final location
No methods found in package 'IRanges' for request: 'ifelse' when loading 'yamss'
** testing if installed package keeps a record of temporary installation path
install for x64
* installing *source* package 'yamss' ...
** testing if installed package can be loaded
No methods found in package 'IRanges' for request: 'ifelse' when loading 'yamss'
* MD5 sums
packaged installation of 'yamss' as yamss_1.18.0.zip
* DONE (yamss)