| Back to Multiple platform build/check report for BioC 3.13 |
|
This page was generated on 2021-10-15 15:06:27 -0400 (Fri, 15 Oct 2021).
|
To the developers/maintainers of the wppi package: - Please allow up to 24 hours (and sometimes 48 hours) for your latest push to git@git.bioconductor.org:packages/wppi.git to reflect on this report. See How and When does the builder pull? When will my changes propagate? here for more information. - Make sure to use the following settings in order to reproduce any error or warning you see on this page. |
| Package 2023/2041 | Hostname | OS / Arch | INSTALL | BUILD | CHECK | BUILD BIN | ||||||||
| wppi 1.0.0 (landing page) Ana Galhoz
| nebbiolo1 | Linux (Ubuntu 20.04.2 LTS) / x86_64 | OK | ERROR | skipped | |||||||||
| tokay2 | Windows Server 2012 R2 Standard / x64 | OK | ERROR | skipped | skipped | |||||||||
| machv2 | macOS 10.14.6 Mojave / x86_64 | OK | ERROR | skipped | skipped | |||||||||
| Package: wppi |
| Version: 1.0.0 |
| Command: C:\cygwin\bin\curl.exe -O http://155.52.207.165/BBS/3.13/bioc/src/contrib/wppi_1.0.0.tar.gz && rm -rf wppi.buildbin-libdir && mkdir wppi.buildbin-libdir && C:\Users\biocbuild\bbs-3.13-bioc\R\bin\R.exe CMD INSTALL --merge-multiarch --build --library=wppi.buildbin-libdir wppi_1.0.0.tar.gz && C:\Users\biocbuild\bbs-3.13-bioc\R\bin\R.exe CMD INSTALL wppi_1.0.0.zip && rm wppi_1.0.0.tar.gz wppi_1.0.0.zip |
| StartedAt: 2021-10-14 09:45:26 -0400 (Thu, 14 Oct 2021) |
| EndedAt: 2021-10-14 09:46:10 -0400 (Thu, 14 Oct 2021) |
| EllapsedTime: 44.0 seconds |
| RetCode: 0 |
| Status: OK |
##############################################################################
##############################################################################
###
### Running command:
###
### C:\cygwin\bin\curl.exe -O http://155.52.207.165/BBS/3.13/bioc/src/contrib/wppi_1.0.0.tar.gz && rm -rf wppi.buildbin-libdir && mkdir wppi.buildbin-libdir && C:\Users\biocbuild\bbs-3.13-bioc\R\bin\R.exe CMD INSTALL --merge-multiarch --build --library=wppi.buildbin-libdir wppi_1.0.0.tar.gz && C:\Users\biocbuild\bbs-3.13-bioc\R\bin\R.exe CMD INSTALL wppi_1.0.0.zip && rm wppi_1.0.0.tar.gz wppi_1.0.0.zip
###
##############################################################################
##############################################################################
% Total % Received % Xferd Average Speed Time Time Time Current
Dload Upload Total Spent Left Speed
0 0 0 0 0 0 0 0 --:--:-- --:--:-- --:--:-- 0
100 419k 100 419k 0 0 1353k 0 --:--:-- --:--:-- --:--:-- 1358k
install for i386
* installing *source* package 'wppi' ...
** using staged installation
** R
** byte-compile and prepare package for lazy loading
Note: wrong number of arguments to '/'
** help
*** installing help indices
converting help for package 'wppi'
finding HTML links ... done
common_neighbors html
count_genes html
filter_annot_with_network html
functional_annot html
graph_from_op html
in_omnipath html
prioritization_genes html
process_annot html
random_walk html
score_candidate_genes_from_PPI html
subgraph_op html
weighted_adj html
wppi html
wppi_data html
wppi_go_data html
wppi_hpo_data html
wppi_omnipath_data html
** building package indices
** installing vignettes
** testing if installed package can be loaded from temporary location
** testing if installed package can be loaded from final location
** testing if installed package keeps a record of temporary installation path
install for x64
* installing *source* package 'wppi' ...
** testing if installed package can be loaded
* MD5 sums
packaged installation of 'wppi' as wppi_1.0.0.zip
* DONE (wppi)
* installing to library 'C:/Users/biocbuild/bbs-3.13-bioc/R/library'
package 'wppi' successfully unpacked and MD5 sums checked