| Back to Multiple platform build/check report for BioC 3.13 |
|
This page was generated on 2021-10-15 15:06:27 -0400 (Fri, 15 Oct 2021).
|
To the developers/maintainers of the wavClusteR package: - Please allow up to 24 hours (and sometimes 48 hours) for your latest push to git@git.bioconductor.org:packages/wavClusteR.git to reflect on this report. See How and When does the builder pull? When will my changes propagate? here for more information. - Make sure to use the following settings in order to reproduce any error or warning you see on this page. |
| Package 2016/2041 | Hostname | OS / Arch | INSTALL | BUILD | CHECK | BUILD BIN | ||||||||
| wavClusteR 2.26.0 (landing page) Federico Comoglio
| nebbiolo1 | Linux (Ubuntu 20.04.2 LTS) / x86_64 | OK | OK | OK | |||||||||
| tokay2 | Windows Server 2012 R2 Standard / x64 | OK | OK | OK | OK | |||||||||
| machv2 | macOS 10.14.6 Mojave / x86_64 | OK | OK | OK | OK | |||||||||
| Package: wavClusteR |
| Version: 2.26.0 |
| Command: C:\cygwin\bin\curl.exe -O http://155.52.207.165/BBS/3.13/bioc/src/contrib/wavClusteR_2.26.0.tar.gz && rm -rf wavClusteR.buildbin-libdir && mkdir wavClusteR.buildbin-libdir && C:\Users\biocbuild\bbs-3.13-bioc\R\bin\R.exe CMD INSTALL --merge-multiarch --build --library=wavClusteR.buildbin-libdir wavClusteR_2.26.0.tar.gz && C:\Users\biocbuild\bbs-3.13-bioc\R\bin\R.exe CMD INSTALL wavClusteR_2.26.0.zip && rm wavClusteR_2.26.0.tar.gz wavClusteR_2.26.0.zip |
| StartedAt: 2021-10-14 10:28:15 -0400 (Thu, 14 Oct 2021) |
| EndedAt: 2021-10-14 10:29:09 -0400 (Thu, 14 Oct 2021) |
| EllapsedTime: 53.7 seconds |
| RetCode: 0 |
| Status: OK |
##############################################################################
##############################################################################
###
### Running command:
###
### C:\cygwin\bin\curl.exe -O http://155.52.207.165/BBS/3.13/bioc/src/contrib/wavClusteR_2.26.0.tar.gz && rm -rf wavClusteR.buildbin-libdir && mkdir wavClusteR.buildbin-libdir && C:\Users\biocbuild\bbs-3.13-bioc\R\bin\R.exe CMD INSTALL --merge-multiarch --build --library=wavClusteR.buildbin-libdir wavClusteR_2.26.0.tar.gz && C:\Users\biocbuild\bbs-3.13-bioc\R\bin\R.exe CMD INSTALL wavClusteR_2.26.0.zip && rm wavClusteR_2.26.0.tar.gz wavClusteR_2.26.0.zip
###
##############################################################################
##############################################################################
% Total % Received % Xferd Average Speed Time Time Time Current
Dload Upload Total Spent Left Speed
0 0 0 0 0 0 0 0 --:--:-- --:--:-- --:--:-- 0
100 137k 100 137k 0 0 702k 0 --:--:-- --:--:-- --:--:-- 707k
install for i386
* installing *source* package 'wavClusteR' ...
** using staged installation
** R
** data
** inst
** byte-compile and prepare package for lazy loading
** help
*** installing help indices
converting help for package 'wavClusteR'
finding HTML links ... done
FitMixtureModel html
annotateClusters html
estimateFDR html
exportClusters html
exportCoverage html
exportHighConfSub html
exportSequences html
filterClusters html
finding level-2 HTML links ... done
getAllSub html
getClusters html
getExpInterval html
getHighConfSub html
getMetaCoverage html
getMetaGene html
getMetaTSS html
model html
plotSizeDistribution html
plotStatistics html
plotSubstitutions html
readSortedBam html
wavClusteR-package html
** building package indices
** installing vignettes
** testing if installed package can be loaded from temporary location
** testing if installed package can be loaded from final location
** testing if installed package keeps a record of temporary installation path
install for x64
* installing *source* package 'wavClusteR' ...
** testing if installed package can be loaded
* MD5 sums
packaged installation of 'wavClusteR' as wavClusteR_2.26.0.zip
* DONE (wavClusteR)
* installing to library 'C:/Users/biocbuild/bbs-3.13-bioc/R/library'
package 'wavClusteR' successfully unpacked and MD5 sums checked