| Back to Multiple platform build/check report for BioC 3.13 |
|
This page was generated on 2021-10-15 15:06:27 -0400 (Fri, 15 Oct 2021).
|
To the developers/maintainers of the vtpnet package: - Please allow up to 24 hours (and sometimes 48 hours) for your latest push to git@git.bioconductor.org:packages/vtpnet.git to reflect on this report. See How and When does the builder pull? When will my changes propagate? here for more information. - Make sure to use the following settings in order to reproduce any error or warning you see on this page. |
| Package 2012/2041 | Hostname | OS / Arch | INSTALL | BUILD | CHECK | BUILD BIN | ||||||||
| vtpnet 0.32.0 (landing page) VJ Carey
| nebbiolo1 | Linux (Ubuntu 20.04.2 LTS) / x86_64 | OK | OK | OK | |||||||||
| tokay2 | Windows Server 2012 R2 Standard / x64 | OK | OK | OK | OK | |||||||||
| machv2 | macOS 10.14.6 Mojave / x86_64 | OK | OK | OK | OK | |||||||||
| Package: vtpnet |
| Version: 0.32.0 |
| Command: C:\cygwin\bin\curl.exe -O http://155.52.207.165/BBS/3.13/bioc/src/contrib/vtpnet_0.32.0.tar.gz && rm -rf vtpnet.buildbin-libdir && mkdir vtpnet.buildbin-libdir && C:\Users\biocbuild\bbs-3.13-bioc\R\bin\R.exe CMD INSTALL --merge-multiarch --build --library=vtpnet.buildbin-libdir vtpnet_0.32.0.tar.gz && C:\Users\biocbuild\bbs-3.13-bioc\R\bin\R.exe CMD INSTALL vtpnet_0.32.0.zip && rm vtpnet_0.32.0.tar.gz vtpnet_0.32.0.zip |
| StartedAt: 2021-10-14 10:22:50 -0400 (Thu, 14 Oct 2021) |
| EndedAt: 2021-10-14 10:24:11 -0400 (Thu, 14 Oct 2021) |
| EllapsedTime: 81.5 seconds |
| RetCode: 0 |
| Status: OK |
##############################################################################
##############################################################################
###
### Running command:
###
### C:\cygwin\bin\curl.exe -O http://155.52.207.165/BBS/3.13/bioc/src/contrib/vtpnet_0.32.0.tar.gz && rm -rf vtpnet.buildbin-libdir && mkdir vtpnet.buildbin-libdir && C:\Users\biocbuild\bbs-3.13-bioc\R\bin\R.exe CMD INSTALL --merge-multiarch --build --library=vtpnet.buildbin-libdir vtpnet_0.32.0.tar.gz && C:\Users\biocbuild\bbs-3.13-bioc\R\bin\R.exe CMD INSTALL vtpnet_0.32.0.zip && rm vtpnet_0.32.0.tar.gz vtpnet_0.32.0.zip
###
##############################################################################
##############################################################################
% Total % Received % Xferd Average Speed Time Time Time Current
Dload Upload Total Spent Left Speed
0 0 0 0 0 0 0 0 --:--:-- --:--:-- --:--:-- 0
0 19.9M 0 3833 0 0 46841 0 0:07:27 --:--:-- 0:07:27 46743
17 19.9M 17 3501k 0 0 3230k 0 0:00:06 0:00:01 0:00:05 3230k
40 19.9M 40 8210k 0 0 3956k 0 0:00:05 0:00:02 0:00:03 3956k
68 19.9M 68 13.6M 0 0 4516k 0 0:00:04 0:00:03 0:00:01 4516k
96 19.9M 96 19.2M 0 0 4814k 0 0:00:04 0:00:04 --:--:-- 4814k
100 19.9M 100 19.9M 0 0 4905k 0 0:00:04 0:00:04 --:--:-- 5003k
install for i386
* installing *source* package 'vtpnet' ...
** using staged installation
** R
** data
** byte-compile and prepare package for lazy loading
** help
*** installing help indices
converting help for package 'vtpnet'
finding HTML links ... done
vtpnet-package html
** building package indices
** installing vignettes
** testing if installed package can be loaded from temporary location
** testing if installed package can be loaded from final location
** testing if installed package keeps a record of temporary installation path
install for x64
* installing *source* package 'vtpnet' ...
** testing if installed package can be loaded
* MD5 sums
packaged installation of 'vtpnet' as vtpnet_0.32.0.zip
* DONE (vtpnet)
* installing to library 'C:/Users/biocbuild/bbs-3.13-bioc/R/library'
package 'vtpnet' successfully unpacked and MD5 sums checked