| Back to Multiple platform build/check report for BioC 3.13 |
|
This page was generated on 2021-10-15 15:06:27 -0400 (Fri, 15 Oct 2021).
|
To the developers/maintainers of the vsn package: - Please allow up to 24 hours (and sometimes 48 hours) for your latest push to git@git.bioconductor.org:packages/vsn.git to reflect on this report. See How and When does the builder pull? When will my changes propagate? here for more information. - Make sure to use the following settings in order to reproduce any error or warning you see on this page. |
| Package 2011/2041 | Hostname | OS / Arch | INSTALL | BUILD | CHECK | BUILD BIN | ||||||||
| vsn 3.60.0 (landing page) Wolfgang Huber
| nebbiolo1 | Linux (Ubuntu 20.04.2 LTS) / x86_64 | OK | OK | OK | |||||||||
| tokay2 | Windows Server 2012 R2 Standard / x64 | OK | OK | OK | OK | |||||||||
| machv2 | macOS 10.14.6 Mojave / x86_64 | OK | OK | OK | OK | |||||||||
| Package: vsn |
| Version: 3.60.0 |
| Command: rm -rf vsn.buildbin-libdir && mkdir vsn.buildbin-libdir && C:\Users\biocbuild\bbs-3.13-bioc\R\bin\R.exe CMD INSTALL --merge-multiarch --build --library=vsn.buildbin-libdir vsn_3.60.0.tar.gz |
| StartedAt: 2021-10-15 12:23:47 -0400 (Fri, 15 Oct 2021) |
| EndedAt: 2021-10-15 12:25:24 -0400 (Fri, 15 Oct 2021) |
| EllapsedTime: 97.0 seconds |
| RetCode: 0 |
| Status: OK |
| PackageFile: vsn_3.60.0.zip |
| PackageFileSize: 1.575 MiB |
##############################################################################
##############################################################################
###
### Running command:
###
### rm -rf vsn.buildbin-libdir && mkdir vsn.buildbin-libdir && C:\Users\biocbuild\bbs-3.13-bioc\R\bin\R.exe CMD INSTALL --merge-multiarch --build --library=vsn.buildbin-libdir vsn_3.60.0.tar.gz
###
##############################################################################
##############################################################################
install for i386
* installing *source* package 'vsn' ...
** using staged installation
** libs
"C:/rtools40/mingw32/bin/"gcc -I"C:/Users/BIOCBU~1/BBS-3~1.13-/R/include" -DNDEBUG -I"c:/extsoft/include" -O2 -Wall -std=gnu99 -mfpmath=sse -msse2 -mstackrealign -c init.c -o init.o
"C:/rtools40/mingw32/bin/"gcc -I"C:/Users/BIOCBU~1/BBS-3~1.13-/R/include" -DNDEBUG -I"c:/extsoft/include" -O2 -Wall -std=gnu99 -mfpmath=sse -msse2 -mstackrealign -c vsn.c -o vsn.o
"C:/rtools40/mingw32/bin/"gcc -I"C:/Users/BIOCBU~1/BBS-3~1.13-/R/include" -DNDEBUG -I"c:/extsoft/include" -O2 -Wall -std=gnu99 -mfpmath=sse -msse2 -mstackrealign -c vsn2.c -o vsn2.o
C:/rtools40/mingw32/bin/gcc -shared -s -static-libgcc -o vsn.dll tmp.def init.o vsn.o vsn2.o -Lc:/extsoft/lib/i386 -Lc:/extsoft/lib -LC:/Users/BIOCBU~1/BBS-3~1.13-/R/bin/i386 -lR
installing to C:/Users/biocbuild/bbs-3.13-bioc/meat/vsn.buildbin-libdir/00LOCK-vsn/00new/vsn/libs/i386
** R
** data
** inst
** byte-compile and prepare package for lazy loading
** help
*** installing help indices
converting help for package 'vsn'
finding HTML links ... done
class.vsn html
class.vsnInput html
justvsn html
kidney html
lymphoma html
meanSdPlot html
normalize.AffyBatch.vsn html
sagmbSimulateData html
scalingFactorTransformation html
vsn-package html
vsn2 html
vsn2trsf html
vsnLikelihood html
** building package indices
** installing vignettes
** testing if installed package can be loaded from temporary location
** testing if installed package can be loaded from final location
** testing if installed package keeps a record of temporary installation path
install for x64
* installing *source* package 'vsn' ...
** libs
"C:/rtools40/mingw64/bin/"gcc -I"C:/Users/BIOCBU~1/BBS-3~1.13-/R/include" -DNDEBUG -I"C:/extsoft/include" -O2 -Wall -std=gnu99 -mfpmath=sse -msse2 -mstackrealign -c init.c -o init.o
"C:/rtools40/mingw64/bin/"gcc -I"C:/Users/BIOCBU~1/BBS-3~1.13-/R/include" -DNDEBUG -I"C:/extsoft/include" -O2 -Wall -std=gnu99 -mfpmath=sse -msse2 -mstackrealign -c vsn.c -o vsn.o
"C:/rtools40/mingw64/bin/"gcc -I"C:/Users/BIOCBU~1/BBS-3~1.13-/R/include" -DNDEBUG -I"C:/extsoft/include" -O2 -Wall -std=gnu99 -mfpmath=sse -msse2 -mstackrealign -c vsn2.c -o vsn2.o
C:/rtools40/mingw64/bin/gcc -shared -s -static-libgcc -o vsn.dll tmp.def init.o vsn.o vsn2.o -LC:/extsoft/lib/x64 -LC:/extsoft/lib -LC:/Users/BIOCBU~1/BBS-3~1.13-/R/bin/x64 -lR
installing to C:/Users/biocbuild/bbs-3.13-bioc/meat/vsn.buildbin-libdir/vsn/libs/x64
** testing if installed package can be loaded
* MD5 sums
packaged installation of 'vsn' as vsn_3.60.0.zip
* DONE (vsn)