| Back to Multiple platform build/check report for BioC 3.13 |
|
This page was generated on 2021-10-15 15:06:57 -0400 (Fri, 15 Oct 2021).
|
To the developers/maintainers of the variancePartition package: - Please allow up to 24 hours (and sometimes 48 hours) for your latest push to git@git.bioconductor.org:packages/variancePartition.git to reflect on this report. See How and When does the builder pull? When will my changes propagate? here for more information. - Make sure to use the following settings in order to reproduce any error or warning you see on this page. |
| Package 1994/2041 | Hostname | OS / Arch | INSTALL | BUILD | CHECK | BUILD BIN | ||||||||
| variancePartition 1.22.0 (landing page) Gabriel E. Hoffman
| nebbiolo1 | Linux (Ubuntu 20.04.2 LTS) / x86_64 | OK | OK | OK | |||||||||
| tokay2 | Windows Server 2012 R2 Standard / x64 | OK | OK | OK | OK | |||||||||
| machv2 | macOS 10.14.6 Mojave / x86_64 | OK | OK | OK | OK | |||||||||
| Package: variancePartition |
| Version: 1.22.0 |
| Command: /Library/Frameworks/R.framework/Versions/Current/Resources/bin/R CMD check --install=check:variancePartition.install-out.txt --library=/Library/Frameworks/R.framework/Versions/Current/Resources/library --no-vignettes --timings variancePartition_1.22.0.tar.gz |
| StartedAt: 2021-10-15 01:04:58 -0400 (Fri, 15 Oct 2021) |
| EndedAt: 2021-10-15 01:16:09 -0400 (Fri, 15 Oct 2021) |
| EllapsedTime: 671.0 seconds |
| RetCode: 0 |
| Status: OK |
| CheckDir: variancePartition.Rcheck |
| Warnings: 0 |
##############################################################################
##############################################################################
###
### Running command:
###
### /Library/Frameworks/R.framework/Versions/Current/Resources/bin/R CMD check --install=check:variancePartition.install-out.txt --library=/Library/Frameworks/R.framework/Versions/Current/Resources/library --no-vignettes --timings variancePartition_1.22.0.tar.gz
###
##############################################################################
##############################################################################
* using log directory ‘/Users/biocbuild/bbs-3.13-bioc/meat/variancePartition.Rcheck’
* using R version 4.1.1 (2021-08-10)
* using platform: x86_64-apple-darwin17.0 (64-bit)
* using session charset: UTF-8
* using option ‘--no-vignettes’
* checking for file ‘variancePartition/DESCRIPTION’ ... OK
* checking extension type ... Package
* this is package ‘variancePartition’ version ‘1.22.0’
* checking package namespace information ... OK
* checking package dependencies ... OK
* checking if this is a source package ... OK
* checking if there is a namespace ... OK
* checking for hidden files and directories ... NOTE
Found the following hidden files and directories:
.git_fetch_output.txt
.git_merge_output.txt
These were most likely included in error. See section ‘Package
structure’ in the ‘Writing R Extensions’ manual.
* checking for portable file names ... OK
* checking for sufficient/correct file permissions ... OK
* checking whether package ‘variancePartition’ can be installed ... OK
* checking installed package size ... OK
* checking package directory ... OK
* checking ‘build’ directory ... OK
* checking DESCRIPTION meta-information ... OK
* checking top-level files ... OK
* checking for left-over files ... OK
* checking index information ... OK
* checking package subdirectories ... OK
* checking R files for non-ASCII characters ... OK
* checking R files for syntax errors ... OK
* checking whether the package can be loaded ... OK
* checking whether the package can be loaded with stated dependencies ... OK
* checking whether the package can be unloaded cleanly ... OK
* checking whether the namespace can be loaded with stated dependencies ... OK
* checking whether the namespace can be unloaded cleanly ... OK
* checking dependencies in R code ... NOTE
Unexported object imported by a ':::' call: ‘lme4:::reOnly’
See the note in ?`:::` about the use of this operator.
* checking S3 generic/method consistency ... OK
* checking replacement functions ... OK
* checking foreign function calls ... OK
* checking R code for possible problems ... OK
* checking Rd files ... OK
* checking Rd metadata ... OK
* checking Rd cross-references ... OK
* checking for missing documentation entries ... OK
* checking for code/documentation mismatches ... OK
* checking Rd \usage sections ... OK
* checking Rd contents ... OK
* checking for unstated dependencies in examples ... OK
* checking contents of ‘data’ directory ... OK
* checking data for non-ASCII characters ... OK
* checking data for ASCII and uncompressed saves ... OK
* checking sizes of PDF files under ‘inst/doc’ ... OK
* checking files in ‘vignettes’ ... OK
* checking examples ... OK
Examples with CPU (user + system) or elapsed time > 5s
user system elapsed
fitVarPartModel-method 54.497 6.582 125.221
extractVarPart 33.911 4.406 75.422
residuals-VarParFitList-method 20.459 2.393 55.375
fitExtractVarPartModel-method 14.757 3.057 60.063
plotCompareP-method 9.768 1.960 34.111
sortCols-method 7.732 1.293 29.382
plotPercentBars 7.514 1.370 29.451
plotVarPart-method 7.232 1.253 28.126
varPartConfInf 5.344 0.260 37.477
dream-method 2.717 0.193 26.907
voomWithDreamWeights 1.945 0.201 17.709
plotCorrStructure 1.284 0.079 8.498
* checking for unstated dependencies in ‘tests’ ... OK
* checking tests ...
Running ‘runTests.R’
OK
* checking for unstated dependencies in vignettes ... OK
* checking package vignettes in ‘inst/doc’ ... OK
* checking running R code from vignettes ... SKIPPED
* checking re-building of vignette outputs ... SKIPPED
* checking PDF version of manual ... OK
* DONE
Status: 2 NOTEs
See
‘/Users/biocbuild/bbs-3.13-bioc/meat/variancePartition.Rcheck/00check.log’
for details.
variancePartition.Rcheck/00install.out
############################################################################## ############################################################################## ### ### Running command: ### ### /Library/Frameworks/R.framework/Versions/Current/Resources/bin/R CMD INSTALL variancePartition ### ############################################################################## ############################################################################## * installing to library ‘/Library/Frameworks/R.framework/Versions/4.1/Resources/library’ * installing *source* package ‘variancePartition’ ... ** using staged installation ** R ** data ** inst ** byte-compile and prepare package for lazy loading Creating a new generic function for ‘classifyTestsF’ in package ‘variancePartition’ ** help *** installing help indices ** building package indices ** installing vignettes ** testing if installed package can be loaded from temporary location ** testing if installed package can be loaded from final location ** testing if installed package keeps a record of temporary installation path * DONE (variancePartition)
variancePartition.Rcheck/tests/runTests.Rout
R version 4.1.1 (2021-08-10) -- "Kick Things"
Copyright (C) 2021 The R Foundation for Statistical Computing
Platform: x86_64-apple-darwin17.0 (64-bit)
R is free software and comes with ABSOLUTELY NO WARRANTY.
You are welcome to redistribute it under certain conditions.
Type 'license()' or 'licence()' for distribution details.
R is a collaborative project with many contributors.
Type 'contributors()' for more information and
'citation()' on how to cite R or R packages in publications.
Type 'demo()' for some demos, 'help()' for on-line help, or
'help.start()' for an HTML browser interface to help.
Type 'q()' to quit R.
> BiocGenerics:::testPackage("variancePartition")
Attaching package: 'BiocGenerics'
The following objects are masked from 'package:parallel':
clusterApply, clusterApplyLB, clusterCall, clusterEvalQ,
clusterExport, clusterMap, parApply, parCapply, parLapply,
parLapplyLB, parRapply, parSapply, parSapplyLB
The following object is masked from 'package:limma':
plotMA
The following objects are masked from 'package:stats':
IQR, mad, sd, var, xtabs
The following objects are masked from 'package:base':
Filter, Find, Map, Position, Reduce, anyDuplicated, append,
as.data.frame, basename, cbind, colnames, dirname, do.call,
duplicated, eval, evalq, get, grep, grepl, intersect, is.unsorted,
lapply, mapply, match, mget, order, paste, pmax, pmax.int, pmin,
pmin.int, rank, rbind, rownames, sapply, setdiff, sort, table,
tapply, union, unique, unsplit, which.max, which.min
Welcome to Bioconductor
Vignettes contain introductory material; view with
'browseVignettes()'. To cite Bioconductor, see
'citation("Biobase")', and for packages 'citation("pkgname")'.
Attaching package: 'variancePartition'
The following object is masked from 'package:limma':
classifyTestsF
Dividing work into 1 chunks...
Total:3 s
Dividing work into 1 chunks...
Total:3 s
Dividing work into 1 chunks...
Total:3 s
> proc.time()
user system elapsed
13.338 1.747 14.609
variancePartition.Rcheck/variancePartition-Ex.timings
| name | user | system | elapsed | |
| ESS-method | 0.353 | 0.012 | 0.366 | |
| as.data.frame-varPartResults-method | 1.575 | 0.327 | 1.734 | |
| as.matrix-varPartResults-method | 1.208 | 0.388 | 1.442 | |
| calcVarPart-method | 0.120 | 0.015 | 0.136 | |
| canCorPairs | 0.098 | 0.013 | 0.110 | |
| colinearityScore | 1.271 | 0.427 | 1.448 | |
| dream-method | 2.717 | 0.193 | 26.907 | |
| eBayesFMT | 1.948 | 0.024 | 1.972 | |
| extractVarPart | 33.911 | 4.406 | 75.422 | |
| fitExtractVarPartModel-method | 14.757 | 3.057 | 60.063 | |
| fitVarPartModel-method | 54.497 | 6.582 | 125.221 | |
| getContrast-method | 0.196 | 0.023 | 0.219 | |
| get_prediction-method | 0.094 | 0.018 | 0.159 | |
| ggColorHue | 0 | 0 | 0 | |
| plotCompareP-method | 9.768 | 1.960 | 34.111 | |
| plotContrasts | 0.372 | 0.009 | 0.382 | |
| plotCorrMatrix | 0.094 | 0.007 | 0.102 | |
| plotCorrStructure | 1.284 | 0.079 | 8.498 | |
| plotPercentBars | 7.514 | 1.370 | 29.451 | |
| plotStratify | 0.872 | 0.012 | 0.887 | |
| plotStratifyBy | 0.922 | 0.016 | 0.940 | |
| plotVarPart-method | 7.232 | 1.253 | 28.126 | |
| residuals-VarParFitList-method | 20.459 | 2.393 | 55.375 | |
| sortCols-method | 7.732 | 1.293 | 29.382 | |
| varPartConfInf | 5.344 | 0.260 | 37.477 | |
| voomWithDreamWeights | 1.945 | 0.201 | 17.709 | |