| Back to Multiple platform build/check report for BioC 3.13 |
|
This page was generated on 2021-10-15 15:06:26 -0400 (Fri, 15 Oct 2021).
|
To the developers/maintainers of the uSORT package: - Please allow up to 24 hours (and sometimes 48 hours) for your latest push to git@git.bioconductor.org:packages/uSORT.git to reflect on this report. See How and When does the builder pull? When will my changes propagate? here for more information. - Make sure to use the following settings in order to reproduce any error or warning you see on this page. |
| Package 1991/2041 | Hostname | OS / Arch | INSTALL | BUILD | CHECK | BUILD BIN | ||||||||
| uSORT 1.18.0 (landing page) Hao Chen
| nebbiolo1 | Linux (Ubuntu 20.04.2 LTS) / x86_64 | OK | OK | WARNINGS | |||||||||
| tokay2 | Windows Server 2012 R2 Standard / x64 | OK | OK | WARNINGS | OK | |||||||||
| machv2 | macOS 10.14.6 Mojave / x86_64 | OK | OK | WARNINGS | OK | |||||||||
| Package: uSORT |
| Version: 1.18.0 |
| Command: C:\cygwin\bin\curl.exe -O http://155.52.207.165/BBS/3.13/bioc/src/contrib/uSORT_1.18.0.tar.gz && rm -rf uSORT.buildbin-libdir && mkdir uSORT.buildbin-libdir && C:\Users\biocbuild\bbs-3.13-bioc\R\bin\R.exe CMD INSTALL --merge-multiarch --build --library=uSORT.buildbin-libdir uSORT_1.18.0.tar.gz && C:\Users\biocbuild\bbs-3.13-bioc\R\bin\R.exe CMD INSTALL uSORT_1.18.0.zip && rm uSORT_1.18.0.tar.gz uSORT_1.18.0.zip |
| StartedAt: 2021-10-14 11:14:34 -0400 (Thu, 14 Oct 2021) |
| EndedAt: 2021-10-14 11:15:16 -0400 (Thu, 14 Oct 2021) |
| EllapsedTime: 41.6 seconds |
| RetCode: 0 |
| Status: OK |
##############################################################################
##############################################################################
###
### Running command:
###
### C:\cygwin\bin\curl.exe -O http://155.52.207.165/BBS/3.13/bioc/src/contrib/uSORT_1.18.0.tar.gz && rm -rf uSORT.buildbin-libdir && mkdir uSORT.buildbin-libdir && C:\Users\biocbuild\bbs-3.13-bioc\R\bin\R.exe CMD INSTALL --merge-multiarch --build --library=uSORT.buildbin-libdir uSORT_1.18.0.tar.gz && C:\Users\biocbuild\bbs-3.13-bioc\R\bin\R.exe CMD INSTALL uSORT_1.18.0.zip && rm uSORT_1.18.0.tar.gz uSORT_1.18.0.zip
###
##############################################################################
##############################################################################
% Total % Received % Xferd Average Speed Time Time Time Current
Dload Upload Total Spent Left Speed
0 0 0 0 0 0 0 0 --:--:-- --:--:-- --:--:-- 0
61 1640k 61 1007k 0 0 2052k 0 --:--:-- --:--:-- --:--:-- 2051k
100 1640k 100 1640k 0 0 2555k 0 --:--:-- --:--:-- --:--:-- 2554k
install for i386
* installing *source* package 'uSORT' ...
** using staged installation
** R
** inst
** byte-compile and prepare package for lazy loading
Note: break used in wrong context: no loop is visible
** help
*** installing help indices
converting help for package 'uSORT'
finding HTML links ... done
EXP_to_CellDataSet html
Rwanderlust html
SPIN html
STS_sorting html
STS_sorting_wrapper html
STS_sortingcost html
autoSPIN html
clusterGenes1 html
compareModels1 html
diff_test_helper1 html
differentialGeneTest1 html
distance.function html
driving_force_gene_selection html
elbow_detection html
fluidigmSC_analyzeGeneDetection html
fluidigmSC_identifyExpOutliers html
fluidigmSC_isElementIgnoreCase html
fluidigmSC_readLinearExp html
fluidigmSC_removeGenesByLinearExpForAllType
html
fluidigmSC_removeGenesByLinearExpForAllType_log2
html
monocle_wrapper html
neighborhood_sorting html
neighborhood_sorting_wrapper html
neighborhood_sortingcost html
pca_gene_selection html
sWanderlust html
scattering_quantification_per_gene html
sorting_method_parameter_GUI html
summed_local_variance html
summed_local_variance_cyclical html
summed_local_variance_linear html
trajectory_landmarks html
uSORT html
uSORT_GUI html
uSORT_parameters_GUI html
uSORT_preProcess html
uSORT_sorting_wrapper html
uSORT_write_results html
variability_per_gene html
wanderlust_wrapper html
** building package indices
** installing vignettes
** testing if installed package can be loaded from temporary location
** testing if installed package can be loaded from final location
** testing if installed package keeps a record of temporary installation path
install for x64
* installing *source* package 'uSORT' ...
** testing if installed package can be loaded
* MD5 sums
packaged installation of 'uSORT' as uSORT_1.18.0.zip
* DONE (uSORT)
* installing to library 'C:/Users/biocbuild/bbs-3.13-bioc/R/library'
package 'uSORT' successfully unpacked and MD5 sums checked