| Back to Multiple platform build/check report for BioC 3.13 | 
 | 
This page was generated on 2021-10-15 15:06:26 -0400 (Fri, 15 Oct 2021).
| To the developers/maintainers of the trio package: - Please allow up to 24 hours (and sometimes 48 hours) for your latest push to git@git.bioconductor.org:packages/trio.git to reflect on this report. See How and When does the builder pull? When will my changes propagate? here for more information. - Make sure to use the following settings in order to reproduce any error or warning you see on this page. | 
| Package 1963/2041 | Hostname | OS / Arch | INSTALL | BUILD | CHECK | BUILD BIN | ||||||||
| trio 3.30.0  (landing page) Holger Schwender 
 | nebbiolo1 | Linux (Ubuntu 20.04.2 LTS) / x86_64 | OK | OK | OK |  | ||||||||
| tokay2 | Windows Server 2012 R2 Standard / x64 | OK | OK | OK | OK |  | ||||||||
| machv2 | macOS 10.14.6 Mojave / x86_64 | OK | OK | OK | OK |  | ||||||||
| Package: trio | 
| Version: 3.30.0 | 
| Command: C:\cygwin\bin\curl.exe -O http://155.52.207.165/BBS/3.13/bioc/src/contrib/trio_3.30.0.tar.gz && rm -rf trio.buildbin-libdir && mkdir trio.buildbin-libdir && C:\Users\biocbuild\bbs-3.13-bioc\R\bin\R.exe CMD INSTALL --merge-multiarch --build --library=trio.buildbin-libdir trio_3.30.0.tar.gz && C:\Users\biocbuild\bbs-3.13-bioc\R\bin\R.exe CMD INSTALL trio_3.30.0.zip && rm trio_3.30.0.tar.gz trio_3.30.0.zip | 
| StartedAt: 2021-10-14 07:55:28 -0400 (Thu, 14 Oct 2021) | 
| EndedAt: 2021-10-14 07:56:22 -0400 (Thu, 14 Oct 2021) | 
| EllapsedTime: 53.7 seconds | 
| RetCode: 0 | 
| Status: OK | 
##############################################################################
##############################################################################
###
### Running command:
###
###   C:\cygwin\bin\curl.exe -O http://155.52.207.165/BBS/3.13/bioc/src/contrib/trio_3.30.0.tar.gz && rm -rf trio.buildbin-libdir && mkdir trio.buildbin-libdir && C:\Users\biocbuild\bbs-3.13-bioc\R\bin\R.exe CMD INSTALL --merge-multiarch --build --library=trio.buildbin-libdir trio_3.30.0.tar.gz && C:\Users\biocbuild\bbs-3.13-bioc\R\bin\R.exe CMD INSTALL trio_3.30.0.zip && rm trio_3.30.0.tar.gz trio_3.30.0.zip
###
##############################################################################
##############################################################################
  % Total    % Received % Xferd  Average Speed   Time    Time     Time  Current
                                 Dload  Upload   Total   Spent    Left  Speed
  0     0    0     0    0     0      0      0 --:--:-- --:--:-- --:--:--     0
 71  725k   71  520k    0     0   859k      0 --:--:-- --:--:-- --:--:--  858k
100  725k  100  725k    0     0  1064k      0 --:--:-- --:--:-- --:--:-- 1065k
install for i386
* installing *source* package 'trio' ...
** using staged installation
** R
** data
** inst
** byte-compile and prepare package for lazy loading
** help
*** installing help indices
  converting help for package 'trio'
    finding HTML links ... done
    allelicTDT                              html  
    colEMlrt                                html  
    colGxE                                  html  
    colGxGPerms                             html  
    colPOlrt                                html  
    colTDTmaxTest                           html  
    colTDTsam                               html  
    findLDblocks                            html  
    getLD                                   html  
    getMatPseudo                            html  
    lrControl                               html  
    ped2geno                                html  
    plot.LDblocks                           html  
    plot.getLD                              html  
    plot.trioLR                             html  
    poly4root                               html  
    print.colGxE                            html  
    print.trioFS                            html  
    print.trioLR                            html  
    probTDT                                 html  
    read.pedfile                            html  
    removeSNPs                              html  
    scoreTDT                                html  
    tdt                                     html  
    tdtGxG                                  html  
    trio.check                              html  
    trio.data                               html  
    trio.permTest                           html  
    trio.power                              html  
    trio.prepare                            html  
    trio.sim                                html  
    trioFS                                  html  
    trioLR                                  html  
    vcf2geno                                html  
** building package indices
** installing vignettes
   'trio.Rnw' 
** testing if installed package can be loaded from temporary location
** testing if installed package can be loaded from final location
** testing if installed package keeps a record of temporary installation path
install for x64
* installing *source* package 'trio' ...
** testing if installed package can be loaded
* MD5 sums
packaged installation of 'trio' as trio_3.30.0.zip
* DONE (trio)
* installing to library 'C:/Users/biocbuild/bbs-3.13-bioc/R/library'
package 'trio' successfully unpacked and MD5 sums checked