| Back to Multiple platform build/check report for BioC 3.13 |
|
This page was generated on 2021-10-15 15:06:26 -0400 (Fri, 15 Oct 2021).
|
To the developers/maintainers of the trena package: - Please allow up to 24 hours (and sometimes 48 hours) for your latest push to git@git.bioconductor.org:packages/trena.git to reflect on this report. See How and When does the builder pull? When will my changes propagate? here for more information. - Make sure to use the following settings in order to reproduce any error or warning you see on this page. |
| Package 1959/2041 | Hostname | OS / Arch | INSTALL | BUILD | CHECK | BUILD BIN | ||||||||
| trena 1.14.0 (landing page) Paul Shannon
| nebbiolo1 | Linux (Ubuntu 20.04.2 LTS) / x86_64 | OK | ERROR | skipped | |||||||||
| tokay2 | Windows Server 2012 R2 Standard / x64 | OK | ERROR | skipped | skipped | |||||||||
| machv2 | macOS 10.14.6 Mojave / x86_64 | OK | ERROR | skipped | skipped | |||||||||
| Package: trena |
| Version: 1.14.0 |
| Command: C:\cygwin\bin\curl.exe -O http://155.52.207.165/BBS/3.13/bioc/src/contrib/trena_1.14.0.tar.gz && rm -rf trena.buildbin-libdir && mkdir trena.buildbin-libdir && C:\Users\biocbuild\bbs-3.13-bioc\R\bin\R.exe CMD INSTALL --merge-multiarch --build --library=trena.buildbin-libdir trena_1.14.0.tar.gz && C:\Users\biocbuild\bbs-3.13-bioc\R\bin\R.exe CMD INSTALL trena_1.14.0.zip && rm trena_1.14.0.tar.gz trena_1.14.0.zip |
| StartedAt: 2021-10-14 10:35:40 -0400 (Thu, 14 Oct 2021) |
| EndedAt: 2021-10-14 10:37:28 -0400 (Thu, 14 Oct 2021) |
| EllapsedTime: 107.7 seconds |
| RetCode: 0 |
| Status: OK |
##############################################################################
##############################################################################
###
### Running command:
###
### C:\cygwin\bin\curl.exe -O http://155.52.207.165/BBS/3.13/bioc/src/contrib/trena_1.14.0.tar.gz && rm -rf trena.buildbin-libdir && mkdir trena.buildbin-libdir && C:\Users\biocbuild\bbs-3.13-bioc\R\bin\R.exe CMD INSTALL --merge-multiarch --build --library=trena.buildbin-libdir trena_1.14.0.tar.gz && C:\Users\biocbuild\bbs-3.13-bioc\R\bin\R.exe CMD INSTALL trena_1.14.0.zip && rm trena_1.14.0.tar.gz trena_1.14.0.zip
###
##############################################################################
##############################################################################
% Total % Received % Xferd Average Speed Time Time Time Current
Dload Upload Total Spent Left Speed
0 0 0 0 0 0 0 0 --:--:-- --:--:-- --:--:-- 0
19 6894k 19 1312k 0 0 2075k 0 0:00:03 --:--:-- 0:00:03 2074k
69 6894k 69 4818k 0 0 2952k 0 0:00:02 0:00:01 0:00:01 2952k
100 6894k 100 6894k 0 0 3243k 0 0:00:02 0:00:02 --:--:-- 3246k
install for i386
* installing *source* package 'trena' ...
** using staged installation
** R
** inst
** byte-compile and prepare package for lazy loading
See system.file("LICENSE", package="MotifDb") for use restrictions.
** help
*** installing help indices
converting help for package 'trena'
finding HTML links ... done
BayesSpikeSolver-class html
BayesSpikeSolver html
CandidateFilter-class html
EnsembleSolver-class html
EnsembleSolver html
FootprintFilter-class html
FootprintFinder-class html
GeneOntologyFilter-class html
HumanDHSFilter-class html
LassoPVSolver-class html
LassoPVSolver html
LassoSolver-class html
LassoSolver html
MotifMatcher-class html
finding level-2 HTML links ... done
PCAMax html
PearsonSolver-class html
PearsonSolver html
RandomForestSolver-class html
RandomForestSolver html
RidgeSolver-class html
RidgeSolver html
Solver-class html
SpearmanSolver-class html
SpearmanSolver html
Trena-class html
VarianceFilter-class html
XGBoostSolver-class html
XGBoostSolver html
addStats html
addStatsSimple html
assessSnp html
closeDatabaseConnections html
createGeneModelFromRegulatoryRegions html
createGeneModelFromTfList html
elasticNetSolver html
findMatchesByChromosomalRegion html
getAssayData html
getAvailableSolvers html
getCandidates-FootprintFilter-method html
getCandidates-GeneOntologyFilter-method
html
getCandidates-HumanDHSFilter-method html
getCandidates-VarianceFilter-method html
getCandidates html
getChromLoc html
getCoverage html
getEncodeRegulatoryTableNames-HumanDHSFilter
html
getFootprintsForGene html
getFootprintsInRegion html
getGeneModelTableColumnNames html
getGenePromoterRegion html
getGtfGeneBioTypes html
getGtfMoleculeTypes html
getPfms html
getPromoterRegionsAllGenes html
getProximalPromoter html
getRegulators html
getRegulatoryChromosomalRegions html
getRegulatoryRegions html
getRegulatoryTableColumnNames html
getSequence html
getSolverNames html
getTarget html
normalizeModel html
parseChromLocString html
parseDatabaseUri html
rescalePredictorWeights html
run html
show-HumanDHSFilter-method html
show.BayesSpikeSolver html
show.EnsembleSolver html
show.LassoPVSolver html
show.LassoSolver html
show.MotifMatcher html
show.PearsonSolver html
show.RandomForestSolver html
show.RidgeSolver html
show.SpearmanSolver html
show.XGBoostSolver html
solve.BayesSpike html
solve.Ensemble html
solve.Lasso html
solve.LassoPV html
solve.Pearson html
solve.RandomForest html
solve.Ridge html
solve.Spearman html
solve.XGBoost html
trena-package html
** building package indices
** installing vignettes
** testing if installed package can be loaded from temporary location
See system.file("LICENSE", package="MotifDb") for use restrictions.
** testing if installed package can be loaded from final location
See system.file("LICENSE", package="MotifDb") for use restrictions.
** testing if installed package keeps a record of temporary installation path
install for x64
* installing *source* package 'trena' ...
** testing if installed package can be loaded
See system.file("LICENSE", package="MotifDb") for use restrictions.
* MD5 sums
packaged installation of 'trena' as trena_1.14.0.zip
* DONE (trena)
* installing to library 'C:/Users/biocbuild/bbs-3.13-bioc/R/library'
package 'trena' successfully unpacked and MD5 sums checked