| Back to Multiple platform build/check report for BioC 3.13 |
|
This page was generated on 2021-10-15 15:06:26 -0400 (Fri, 15 Oct 2021).
|
To the developers/maintainers of the treeio package: - Please allow up to 24 hours (and sometimes 48 hours) for your latest push to git@git.bioconductor.org:packages/treeio.git to reflect on this report. See How and When does the builder pull? When will my changes propagate? here for more information. - Make sure to use the following settings in order to reproduce any error or warning you see on this page. |
| Package 1956/2041 | Hostname | OS / Arch | INSTALL | BUILD | CHECK | BUILD BIN | ||||||||
| treeio 1.16.2 (landing page) Guangchuang Yu
| nebbiolo1 | Linux (Ubuntu 20.04.2 LTS) / x86_64 | OK | OK | OK | |||||||||
| tokay2 | Windows Server 2012 R2 Standard / x64 | OK | OK | OK | OK | |||||||||
| machv2 | macOS 10.14.6 Mojave / x86_64 | OK | OK | OK | OK | |||||||||
| Package: treeio |
| Version: 1.16.2 |
| Command: rm -rf treeio.buildbin-libdir && mkdir treeio.buildbin-libdir && C:\Users\biocbuild\bbs-3.13-bioc\R\bin\R.exe CMD INSTALL --merge-multiarch --build --library=treeio.buildbin-libdir treeio_1.16.2.tar.gz |
| StartedAt: 2021-10-15 12:16:36 -0400 (Fri, 15 Oct 2021) |
| EndedAt: 2021-10-15 12:18:09 -0400 (Fri, 15 Oct 2021) |
| EllapsedTime: 92.9 seconds |
| RetCode: 0 |
| Status: OK |
| PackageFile: treeio_1.16.2.zip |
| PackageFileSize: 915 KiB |
##############################################################################
##############################################################################
###
### Running command:
###
### rm -rf treeio.buildbin-libdir && mkdir treeio.buildbin-libdir && C:\Users\biocbuild\bbs-3.13-bioc\R\bin\R.exe CMD INSTALL --merge-multiarch --build --library=treeio.buildbin-libdir treeio_1.16.2.tar.gz
###
##############################################################################
##############################################################################
install for i386
* installing *source* package 'treeio' ...
** using staged installation
** R
** inst
** byte-compile and prepare package for lazy loading
** help
*** installing help indices
converting help for package 'treeio'
finding HTML links ... done
Nnode.treedata html
as.treedata html
beast-parser html
drop.tip-methods html
get-placements html
get.tree html
get.treetext-methods html
getNodeNum html
is.ggtree html
isTip html
jplace-class html
label_branch_paml html
mask html
merge_tree html
print.treedataList html
raxml2nwk html
read-jtree html
read.astral html
read.codeml html
read.codeml_mlc html
read.fasta html
read.hyphy html
read.hyphy.seq html
read.iqtree html
read.jplace html
read.mega_tabular html
read.newick html
read.nhx html
read.paml_rst html
read.phylip html
read.phylip.seq html
read.phylip.tree html
read.phyloxml html
read.r8s html
read.raxml html
read.treeqza html
reexports html
REDIRECT:topic Previous alias or file overwritten by alias: C:/Users/biocbuild/bbs-3.13-bioc/meat/treeio.buildbin-libdir/00LOCK-treeio/00new/treeio/help/as.treedata.html
rename_taxa html
rescale_tree html
root-method html
tree_subset html
write-jtree html
write.beast html
write.beast.newick html
** building package indices
** installing vignettes
** testing if installed package can be loaded from temporary location
** testing if installed package can be loaded from final location
** testing if installed package keeps a record of temporary installation path
install for x64
* installing *source* package 'treeio' ...
** testing if installed package can be loaded
* MD5 sums
packaged installation of 'treeio' as treeio_1.16.2.zip
* DONE (treeio)