| Back to Multiple platform build/check report for BioC 3.13 |
|
This page was generated on 2021-10-15 15:06:26 -0400 (Fri, 15 Oct 2021).
|
To the developers/maintainers of the tradeSeq package: - Please allow up to 24 hours (and sometimes 48 hours) for your latest push to git@git.bioconductor.org:packages/tradeSeq.git to reflect on this report. See How and When does the builder pull? When will my changes propagate? here for more information. - Make sure to use the following settings in order to reproduce any error or warning you see on this page. |
| Package 1943/2041 | Hostname | OS / Arch | INSTALL | BUILD | CHECK | BUILD BIN | ||||||||
| tradeSeq 1.6.0 (landing page) Hector Roux de Bezieux
| nebbiolo1 | Linux (Ubuntu 20.04.2 LTS) / x86_64 | OK | OK | OK | |||||||||
| tokay2 | Windows Server 2012 R2 Standard / x64 | OK | OK | TIMEOUT | OK | |||||||||
| machv2 | macOS 10.14.6 Mojave / x86_64 | OK | OK | OK | OK | |||||||||
| Package: tradeSeq |
| Version: 1.6.0 |
| Command: C:\cygwin\bin\curl.exe -O http://155.52.207.165/BBS/3.13/bioc/src/contrib/tradeSeq_1.6.0.tar.gz && rm -rf tradeSeq.buildbin-libdir && mkdir tradeSeq.buildbin-libdir && C:\Users\biocbuild\bbs-3.13-bioc\R\bin\R.exe CMD INSTALL --merge-multiarch --build --library=tradeSeq.buildbin-libdir tradeSeq_1.6.0.tar.gz && C:\Users\biocbuild\bbs-3.13-bioc\R\bin\R.exe CMD INSTALL tradeSeq_1.6.0.zip && rm tradeSeq_1.6.0.tar.gz tradeSeq_1.6.0.zip |
| StartedAt: 2021-10-14 09:27:39 -0400 (Thu, 14 Oct 2021) |
| EndedAt: 2021-10-14 09:28:38 -0400 (Thu, 14 Oct 2021) |
| EllapsedTime: 58.7 seconds |
| RetCode: 0 |
| Status: OK |
##############################################################################
##############################################################################
###
### Running command:
###
### C:\cygwin\bin\curl.exe -O http://155.52.207.165/BBS/3.13/bioc/src/contrib/tradeSeq_1.6.0.tar.gz && rm -rf tradeSeq.buildbin-libdir && mkdir tradeSeq.buildbin-libdir && C:\Users\biocbuild\bbs-3.13-bioc\R\bin\R.exe CMD INSTALL --merge-multiarch --build --library=tradeSeq.buildbin-libdir tradeSeq_1.6.0.tar.gz && C:\Users\biocbuild\bbs-3.13-bioc\R\bin\R.exe CMD INSTALL tradeSeq_1.6.0.zip && rm tradeSeq_1.6.0.tar.gz tradeSeq_1.6.0.zip
###
##############################################################################
##############################################################################
% Total % Received % Xferd Average Speed Time Time Time Current
Dload Upload Total Spent Left Speed
0 0 0 0 0 0 0 0 --:--:-- --:--:-- --:--:-- 0
100 1333k 100 1333k 0 0 2373k 0 --:--:-- --:--:-- --:--:-- 2376k
install for i386
* installing *source* package 'tradeSeq' ...
** using staged installation
** R
** data
** inst
** byte-compile and prepare package for lazy loading
** help
*** installing help indices
converting help for package 'tradeSeq'
finding HTML links ... done
associationTest html
celltype html
clusterExpressionPatterns html
conditionTest html
countMatrix html
crv html
diffEndTest html
earlyDETest html
evaluateK html
extract_monocle_info html
fitGAM html
gamList html
getSmootherPvalues html
getSmootherTestStats html
nknots html
patternTest html
plotGeneCount html
finding level-2 HTML links ... done
plotSmoothers html
plot_evalutateK_results html
predictCells html
predictSmooth html
sds html
startVsEndTest html
** building package indices
** installing vignettes
** testing if installed package can be loaded from temporary location
** testing if installed package can be loaded from final location
** testing if installed package keeps a record of temporary installation path
install for x64
* installing *source* package 'tradeSeq' ...
** testing if installed package can be loaded
* MD5 sums
packaged installation of 'tradeSeq' as tradeSeq_1.6.0.zip
* DONE (tradeSeq)
* installing to library 'C:/Users/biocbuild/bbs-3.13-bioc/R/library'
package 'tradeSeq' successfully unpacked and MD5 sums checked