| Back to Multiple platform build/check report for BioC 3.13 |
|
This page was generated on 2021-10-15 15:06:25 -0400 (Fri, 15 Oct 2021).
|
To the developers/maintainers of the topGO package: - Please allow up to 24 hours (and sometimes 48 hours) for your latest push to git@git.bioconductor.org:packages/topGO.git to reflect on this report. See How and When does the builder pull? When will my changes propagate? here for more information. - Make sure to use the following settings in order to reproduce any error or warning you see on this page. |
| Package 1937/2041 | Hostname | OS / Arch | INSTALL | BUILD | CHECK | BUILD BIN | ||||||||
| topGO 2.44.0 (landing page) Adrian Alexa
| nebbiolo1 | Linux (Ubuntu 20.04.2 LTS) / x86_64 | OK | OK | OK | |||||||||
| tokay2 | Windows Server 2012 R2 Standard / x64 | OK | OK | OK | OK | |||||||||
| machv2 | macOS 10.14.6 Mojave / x86_64 | OK | OK | OK | OK | |||||||||
| Package: topGO |
| Version: 2.44.0 |
| Command: C:\cygwin\bin\curl.exe -O http://155.52.207.165/BBS/3.13/bioc/src/contrib/topGO_2.44.0.tar.gz && rm -rf topGO.buildbin-libdir && mkdir topGO.buildbin-libdir && C:\Users\biocbuild\bbs-3.13-bioc\R\bin\R.exe CMD INSTALL --merge-multiarch --build --library=topGO.buildbin-libdir topGO_2.44.0.tar.gz && C:\Users\biocbuild\bbs-3.13-bioc\R\bin\R.exe CMD INSTALL topGO_2.44.0.zip && rm topGO_2.44.0.tar.gz topGO_2.44.0.zip |
| StartedAt: 2021-10-14 08:09:15 -0400 (Thu, 14 Oct 2021) |
| EndedAt: 2021-10-14 08:10:14 -0400 (Thu, 14 Oct 2021) |
| EllapsedTime: 59.4 seconds |
| RetCode: 0 |
| Status: OK |
##############################################################################
##############################################################################
###
### Running command:
###
### C:\cygwin\bin\curl.exe -O http://155.52.207.165/BBS/3.13/bioc/src/contrib/topGO_2.44.0.tar.gz && rm -rf topGO.buildbin-libdir && mkdir topGO.buildbin-libdir && C:\Users\biocbuild\bbs-3.13-bioc\R\bin\R.exe CMD INSTALL --merge-multiarch --build --library=topGO.buildbin-libdir topGO_2.44.0.tar.gz && C:\Users\biocbuild\bbs-3.13-bioc\R\bin\R.exe CMD INSTALL topGO_2.44.0.zip && rm topGO_2.44.0.tar.gz topGO_2.44.0.zip
###
##############################################################################
##############################################################################
% Total % Received % Xferd Average Speed Time Time Time Current
Dload Upload Total Spent Left Speed
0 0 0 0 0 0 0 0 --:--:-- --:--:-- --:--:-- 0
100 424k 100 424k 0 0 1078k 0 --:--:-- --:--:-- --:--:-- 1082k
install for i386
* installing *source* package 'topGO' ...
** using staged installation
** R
** data
** inst
** byte-compile and prepare package for lazy loading
** help
*** installing help indices
converting help for package 'topGO'
finding HTML links ... done
GOTests html
GOdata html
annFUN html
classicCount-class html
classicExpr-class html
classicScore-class html
dagFunctions html
diagnosticMethods html
elimCount-class html
elimExpr-class html
elimScore-class html
geneList html
getPvalues html
getSigGroups html
groupGOTerms html
groupStats-class html
inducedGraph html
parentChild-class html
printGraph-methods html
topGO-package html
topGOdata-class html
topGOresult-class html
weightCount-class html
** building package indices
** installing vignettes
** testing if installed package can be loaded from temporary location
groupGOTerms: GOBPTerm, GOMFTerm, GOCCTerm environments built.
** testing if installed package can be loaded from final location
groupGOTerms: GOBPTerm, GOMFTerm, GOCCTerm environments built.
** testing if installed package keeps a record of temporary installation path
install for x64
* installing *source* package 'topGO' ...
** testing if installed package can be loaded
groupGOTerms: GOBPTerm, GOMFTerm, GOCCTerm environments built.
* MD5 sums
packaged installation of 'topGO' as topGO_2.44.0.zip
* DONE (topGO)
* installing to library 'C:/Users/biocbuild/bbs-3.13-bioc/R/library'
package 'topGO' successfully unpacked and MD5 sums checked