| Back to Multiple platform build/check report for BioC 3.13 |
|
This page was generated on 2021-10-15 15:06:25 -0400 (Fri, 15 Oct 2021).
|
To the developers/maintainers of the tomoda package: - Please allow up to 24 hours (and sometimes 48 hours) for your latest push to git@git.bioconductor.org:packages/tomoda.git to reflect on this report. See How and When does the builder pull? When will my changes propagate? here for more information. - Make sure to use the following settings in order to reproduce any error or warning you see on this page. |
| Package 1933/2041 | Hostname | OS / Arch | INSTALL | BUILD | CHECK | BUILD BIN | ||||||||
| tomoda 1.2.0 (landing page) Wendao Liu
| nebbiolo1 | Linux (Ubuntu 20.04.2 LTS) / x86_64 | OK | OK | OK | |||||||||
| tokay2 | Windows Server 2012 R2 Standard / x64 | OK | OK | OK | OK | |||||||||
| machv2 | macOS 10.14.6 Mojave / x86_64 | OK | OK | OK | OK | |||||||||
| Package: tomoda |
| Version: 1.2.0 |
| Command: C:\cygwin\bin\curl.exe -O http://155.52.207.165/BBS/3.13/bioc/src/contrib/tomoda_1.2.0.tar.gz && rm -rf tomoda.buildbin-libdir && mkdir tomoda.buildbin-libdir && C:\Users\biocbuild\bbs-3.13-bioc\R\bin\R.exe CMD INSTALL --merge-multiarch --build --library=tomoda.buildbin-libdir tomoda_1.2.0.tar.gz && C:\Users\biocbuild\bbs-3.13-bioc\R\bin\R.exe CMD INSTALL tomoda_1.2.0.zip && rm tomoda_1.2.0.tar.gz tomoda_1.2.0.zip |
| StartedAt: 2021-10-14 08:47:26 -0400 (Thu, 14 Oct 2021) |
| EndedAt: 2021-10-14 08:48:17 -0400 (Thu, 14 Oct 2021) |
| EllapsedTime: 50.7 seconds |
| RetCode: 0 |
| Status: OK |
##############################################################################
##############################################################################
###
### Running command:
###
### C:\cygwin\bin\curl.exe -O http://155.52.207.165/BBS/3.13/bioc/src/contrib/tomoda_1.2.0.tar.gz && rm -rf tomoda.buildbin-libdir && mkdir tomoda.buildbin-libdir && C:\Users\biocbuild\bbs-3.13-bioc\R\bin\R.exe CMD INSTALL --merge-multiarch --build --library=tomoda.buildbin-libdir tomoda_1.2.0.tar.gz && C:\Users\biocbuild\bbs-3.13-bioc\R\bin\R.exe CMD INSTALL tomoda_1.2.0.zip && rm tomoda_1.2.0.tar.gz tomoda_1.2.0.zip
###
##############################################################################
##############################################################################
% Total % Received % Xferd Average Speed Time Time Time Current
Dload Upload Total Spent Left Speed
0 0 0 0 0 0 0 0 --:--:-- --:--:-- --:--:-- 0
100 250k 100 250k 0 0 745k 0 --:--:-- --:--:-- --:--:-- 748k
install for i386
* installing *source* package 'tomoda' ...
** using staged installation
** R
** data
** byte-compile and prepare package for lazy loading
** help
*** installing help indices
converting help for package 'tomoda'
finding HTML links ... done
corHeatmap html
createTomo html
embedPlot html
expHeatmap html
findPeak html
findPeakGene html
geneCorHeatmap html
geneEmbedPlot html
hierarchClust html
kmeansClust html
linePlot html
normalizeTomo html
runPCA html
runTSNE html
runUMAP html
scaleTomo html
tomoMatrix html
tomoSummarizedExperiment html
zh.data html
** building package indices
** installing vignettes
** testing if installed package can be loaded from temporary location
** testing if installed package can be loaded from final location
** testing if installed package keeps a record of temporary installation path
install for x64
* installing *source* package 'tomoda' ...
** testing if installed package can be loaded
* MD5 sums
packaged installation of 'tomoda' as tomoda_1.2.0.zip
* DONE (tomoda)
* installing to library 'C:/Users/biocbuild/bbs-3.13-bioc/R/library'
package 'tomoda' successfully unpacked and MD5 sums checked