| Back to Multiple platform build/check report for BioC 3.13 |
|
This page was generated on 2021-10-15 15:06:25 -0400 (Fri, 15 Oct 2021).
|
To the developers/maintainers of the timescape package: - Please allow up to 24 hours (and sometimes 48 hours) for your latest push to git@git.bioconductor.org:packages/timescape.git to reflect on this report. See How and When does the builder pull? When will my changes propagate? here for more information. - Make sure to use the following settings in order to reproduce any error or warning you see on this page. |
| Package 1920/2041 | Hostname | OS / Arch | INSTALL | BUILD | CHECK | BUILD BIN | ||||||||
| timescape 1.16.0 (landing page) Maia Smith
| nebbiolo1 | Linux (Ubuntu 20.04.2 LTS) / x86_64 | OK | OK | WARNINGS | |||||||||
| tokay2 | Windows Server 2012 R2 Standard / x64 | OK | OK | WARNINGS | OK | |||||||||
| machv2 | macOS 10.14.6 Mojave / x86_64 | OK | OK | WARNINGS | OK | |||||||||
| Package: timescape |
| Version: 1.16.0 |
| Command: C:\cygwin\bin\curl.exe -O http://155.52.207.165/BBS/3.13/bioc/src/contrib/timescape_1.16.0.tar.gz && rm -rf timescape.buildbin-libdir && mkdir timescape.buildbin-libdir && C:\Users\biocbuild\bbs-3.13-bioc\R\bin\R.exe CMD INSTALL --merge-multiarch --build --library=timescape.buildbin-libdir timescape_1.16.0.tar.gz && C:\Users\biocbuild\bbs-3.13-bioc\R\bin\R.exe CMD INSTALL timescape_1.16.0.zip && rm timescape_1.16.0.tar.gz timescape_1.16.0.zip |
| StartedAt: 2021-10-14 08:10:14 -0400 (Thu, 14 Oct 2021) |
| EndedAt: 2021-10-14 08:11:11 -0400 (Thu, 14 Oct 2021) |
| EllapsedTime: 56.7 seconds |
| RetCode: 0 |
| Status: OK |
##############################################################################
##############################################################################
###
### Running command:
###
### C:\cygwin\bin\curl.exe -O http://155.52.207.165/BBS/3.13/bioc/src/contrib/timescape_1.16.0.tar.gz && rm -rf timescape.buildbin-libdir && mkdir timescape.buildbin-libdir && C:\Users\biocbuild\bbs-3.13-bioc\R\bin\R.exe CMD INSTALL --merge-multiarch --build --library=timescape.buildbin-libdir timescape_1.16.0.tar.gz && C:\Users\biocbuild\bbs-3.13-bioc\R\bin\R.exe CMD INSTALL timescape_1.16.0.zip && rm timescape_1.16.0.tar.gz timescape_1.16.0.zip
###
##############################################################################
##############################################################################
% Total % Received % Xferd Average Speed Time Time Time Current
Dload Upload Total Spent Left Speed
0 0 0 0 0 0 0 0 --:--:-- --:--:-- --:--:-- 0
100 449k 100 449k 0 0 1095k 0 --:--:-- --:--:-- --:--:-- 1096k
100 449k 100 449k 0 0 1094k 0 --:--:-- --:--:-- --:--:-- 1093k
install for i386
* installing *source* package 'timescape' ...
** using staged installation
** R
** inst
** byte-compile and prepare package for lazy loading
** help
*** installing help indices
converting help for package 'timescape'
finding HTML links ... done
helpers html
timescape html
** building package indices
** installing vignettes
** testing if installed package can be loaded from temporary location
** testing if installed package can be loaded from final location
** testing if installed package keeps a record of temporary installation path
install for x64
* installing *source* package 'timescape' ...
** testing if installed package can be loaded
* MD5 sums
packaged installation of 'timescape' as timescape_1.16.0.zip
* DONE (timescape)
* installing to library 'C:/Users/biocbuild/bbs-3.13-bioc/R/library'
package 'timescape' successfully unpacked and MD5 sums checked