| Back to Multiple platform build/check report for BioC 3.13 |
|
This page was generated on 2021-10-15 15:06:24 -0400 (Fri, 15 Oct 2021).
|
To the developers/maintainers of the synergyfinder package: - Please allow up to 24 hours (and sometimes 48 hours) for your latest push to git@git.bioconductor.org:packages/synergyfinder.git to reflect on this report. See How and When does the builder pull? When will my changes propagate? here for more information. - Make sure to use the following settings in order to reproduce any error or warning you see on this page. |
| Package 1884/2041 | Hostname | OS / Arch | INSTALL | BUILD | CHECK | BUILD BIN | ||||||||
| synergyfinder 3.0.14 (landing page) Shuyu Zheng
| nebbiolo1 | Linux (Ubuntu 20.04.2 LTS) / x86_64 | OK | OK | OK | |||||||||
| tokay2 | Windows Server 2012 R2 Standard / x64 | OK | OK | OK | OK | |||||||||
| machv2 | macOS 10.14.6 Mojave / x86_64 | OK | OK | OK | OK | |||||||||
| Package: synergyfinder |
| Version: 3.0.14 |
| Command: rm -rf synergyfinder.buildbin-libdir && mkdir synergyfinder.buildbin-libdir && C:\Users\biocbuild\bbs-3.13-bioc\R\bin\R.exe CMD INSTALL --merge-multiarch --build --library=synergyfinder.buildbin-libdir synergyfinder_3.0.14.tar.gz |
| StartedAt: 2021-10-15 12:05:06 -0400 (Fri, 15 Oct 2021) |
| EndedAt: 2021-10-15 12:08:09 -0400 (Fri, 15 Oct 2021) |
| EllapsedTime: 183.1 seconds |
| RetCode: 0 |
| Status: OK |
| PackageFile: synergyfinder_3.0.14.zip |
| PackageFileSize: 3.458 MiB |
##############################################################################
##############################################################################
###
### Running command:
###
### rm -rf synergyfinder.buildbin-libdir && mkdir synergyfinder.buildbin-libdir && C:\Users\biocbuild\bbs-3.13-bioc\R\bin\R.exe CMD INSTALL --merge-multiarch --build --library=synergyfinder.buildbin-libdir synergyfinder_3.0.14.tar.gz
###
##############################################################################
##############################################################################
install for i386
* installing *source* package 'synergyfinder' ...
** using staged installation
** R
** data
** inst
** byte-compile and prepare package for lazy loading
** help
*** installing help indices
converting help for package 'synergyfinder'
finding HTML links ... done
Bliss html
CalculateCSS html
CalculateIC50 html
CalculateRI html
CalculateSensitivity html
CalculateSynergy html
CorrectBaseLine html
DimensionReduction html
ExtractSingleDrug html
FindModelPar html
FindModelType html
FitDoseResponse html
GenerateSurface html
HSA html
HighlightBarPlot html
ImputeIC50 html
Loewe html
NCATS_screening_data html
ONEIL_screening_data html
Plot2DrugContour html
Plot2DrugHeatmap html
Plot2DrugSurface html
PlotBarometer html
PlotDoseResponse html
PlotDoseResponseCurve html
PlotMultiDrugBar html
PlotMultiDrugSurface html
PlotSensitivitySynergy html
PlotSynergy html
PredictResponse html
ReshapeData html
ZIP html
dot-AdjustColumnName html
dot-Bootstrapping html
dot-Distance html
dot-ExtendedScores html
dot-Extract2DrugPlotData html
dot-ExtractMultiDrugPlotData html
dot-Own_log html
dot-Own_log2 html
dot-PredictResponseFromModel html
dot-Pt2mm html
dot-RoundValues html
dot-ScoreCurve html
dot-ScoreCurve_L4 html
dot-SolveExpDoesL4 html
dot-SolveExpDoesLL4 html
dot-SolveExpDose html
dot-SolveLoewe html
mathews_screening_data html
** building package indices
** installing vignettes
** testing if installed package can be loaded from temporary location
** testing if installed package can be loaded from final location
** testing if installed package keeps a record of temporary installation path
install for x64
* installing *source* package 'synergyfinder' ...
** testing if installed package can be loaded
* MD5 sums
packaged installation of 'synergyfinder' as synergyfinder_3.0.14.zip
* DONE (synergyfinder)