| Back to Multiple platform build/check report for BioC 3.13 |
|
This page was generated on 2021-10-15 15:06:24 -0400 (Fri, 15 Oct 2021).
|
To the developers/maintainers of the switchBox package: - Please allow up to 24 hours (and sometimes 48 hours) for your latest push to git@git.bioconductor.org:packages/switchBox.git to reflect on this report. See How and When does the builder pull? When will my changes propagate? here for more information. - Make sure to use the following settings in order to reproduce any error or warning you see on this page. |
| Package 1881/2041 | Hostname | OS / Arch | INSTALL | BUILD | CHECK | BUILD BIN | ||||||||
| switchBox 1.28.0 (landing page) Bahman Afsari
| nebbiolo1 | Linux (Ubuntu 20.04.2 LTS) / x86_64 | OK | OK | WARNINGS | |||||||||
| tokay2 | Windows Server 2012 R2 Standard / x64 | OK | OK | WARNINGS | OK | |||||||||
| machv2 | macOS 10.14.6 Mojave / x86_64 | OK | OK | WARNINGS | OK | |||||||||
| Package: switchBox |
| Version: 1.28.0 |
| Command: C:\cygwin\bin\curl.exe -O http://155.52.207.165/BBS/3.13/bioc/src/contrib/switchBox_1.28.0.tar.gz && rm -rf switchBox.buildbin-libdir && mkdir switchBox.buildbin-libdir && C:\Users\biocbuild\bbs-3.13-bioc\R\bin\R.exe CMD INSTALL --merge-multiarch --build --library=switchBox.buildbin-libdir switchBox_1.28.0.tar.gz && C:\Users\biocbuild\bbs-3.13-bioc\R\bin\R.exe CMD INSTALL switchBox_1.28.0.zip && rm switchBox_1.28.0.tar.gz switchBox_1.28.0.zip |
| StartedAt: 2021-10-14 07:10:52 -0400 (Thu, 14 Oct 2021) |
| EndedAt: 2021-10-14 07:12:12 -0400 (Thu, 14 Oct 2021) |
| EllapsedTime: 80.1 seconds |
| RetCode: 0 |
| Status: OK |
##############################################################################
##############################################################################
###
### Running command:
###
### C:\cygwin\bin\curl.exe -O http://155.52.207.165/BBS/3.13/bioc/src/contrib/switchBox_1.28.0.tar.gz && rm -rf switchBox.buildbin-libdir && mkdir switchBox.buildbin-libdir && C:\Users\biocbuild\bbs-3.13-bioc\R\bin\R.exe CMD INSTALL --merge-multiarch --build --library=switchBox.buildbin-libdir switchBox_1.28.0.tar.gz && C:\Users\biocbuild\bbs-3.13-bioc\R\bin\R.exe CMD INSTALL switchBox_1.28.0.zip && rm switchBox_1.28.0.tar.gz switchBox_1.28.0.zip
###
##############################################################################
##############################################################################
% Total % Received % Xferd Average Speed Time Time Time Current
Dload Upload Total Spent Left Speed
0 0 0 0 0 0 0 0 --:--:-- --:--:-- --:--:-- 0
100 455k 100 455k 0 0 1209k 0 --:--:-- --:--:-- --:--:-- 1213k
install for i386
* installing *source* package 'switchBox' ...
** using staged installation
** libs
"C:/rtools40/mingw32/bin/"g++ -std=gnu++11 -I"C:/Users/BIOCBU~1/BBS-3~1.13-/R/include" -DNDEBUG -I"c:/extsoft/include" -O2 -Wall -mfpmath=sse -msse2 -mstackrealign -c CalculateSignedScoreCore.cc -o CalculateSignedScoreCore.o
CalculateSignedScoreCore.cc: In function 'void CalculateSignedScoreCore(int*, int*, double*, int*, double*, int*, double*, double*, double*, double*, double*, double*, double*)':
CalculateSignedScoreCore.cc:36:26: warning: variable 'pairsNo' set but not used [-Wunused-but-set-variable]
int i,j,l,countplace,pairsNo;
^~~~~~~
"C:/rtools40/mingw32/bin/"g++ -std=gnu++11 -I"C:/Users/BIOCBU~1/BBS-3~1.13-/R/include" -DNDEBUG -I"c:/extsoft/include" -O2 -Wall -mfpmath=sse -msse2 -mstackrealign -c CalculateSignedScoreCoreTieHandler.cc -o CalculateSignedScoreCoreTieHandler.o
CalculateSignedScoreCoreTieHandler.cc: In function 'void CalculateSignedScoreCoreTieHandler(int*, int*, double*, int*, double*, int*, double*, double*, double*, double*)':
CalculateSignedScoreCoreTieHandler.cc:49:12: warning: unused variable 'score1' [-Wunused-variable]
double score1, score2, type;
^~~~~~
"C:/rtools40/mingw32/bin/"g++ -std=gnu++11 -I"C:/Users/BIOCBU~1/BBS-3~1.13-/R/include" -DNDEBUG -I"c:/extsoft/include" -O2 -Wall -mfpmath=sse -msse2 -mstackrealign -c CalculateSignedScoreRestrictedPairsCore.cc -o CalculateSignedScoreRestrictedPairsCore.o
CalculateSignedScoreRestrictedPairsCore.cc: In function 'void CalculateSignedScoreRestrictedPairsCore(int*, int*, double*, int*, double*, int*, int*, int*, int*, double*, double*, double*)':
CalculateSignedScoreRestrictedPairsCore.cc:22:11: warning: variable 'countplace' set but not used [-Wunused-but-set-variable]
int i,l,countplace,pairsNo;
^~~~~~~~~~
"C:/rtools40/mingw32/bin/"g++ -std=gnu++11 -I"C:/Users/BIOCBU~1/BBS-3~1.13-/R/include" -DNDEBUG -I"c:/extsoft/include" -O2 -Wall -mfpmath=sse -msse2 -mstackrealign -c CalculateSignedScoreRestrictedPairsCoreTieHandler.cc -o CalculateSignedScoreRestrictedPairsCoreTieHandler.o
CalculateSignedScoreRestrictedPairsCoreTieHandler.cc: In function 'void CalculateSignedScoreRestrictedPairsCoreTieHandler(int*, int*, double*, int*, double*, int*, int*, int*, int*, double*, double*, double*, double*)':
CalculateSignedScoreRestrictedPairsCoreTieHandler.cc:25:11: warning: unused variable 'countplace' [-Wunused-variable]
int i,l,countplace,pairsNo;
^~~~~~~~~~
CalculateSignedScoreRestrictedPairsCoreTieHandler.cc:35:10: warning: unused variable 'score1' [-Wunused-variable]
double score1, score2, type;
^~~~~~
"C:/rtools40/mingw32/bin/"gcc -I"C:/Users/BIOCBU~1/BBS-3~1.13-/R/include" -DNDEBUG -I"c:/extsoft/include" -O2 -Wall -std=gnu99 -mfpmath=sse -msse2 -mstackrealign -c rinit.c -o rinit.o
"C:/rtools40/mingw32/bin/"g++ -std=gnu++11 -I"C:/Users/BIOCBU~1/BBS-3~1.13-/R/include" -DNDEBUG -I"c:/extsoft/include" -O2 -Wall -mfpmath=sse -msse2 -mstackrealign -c vect2compC.cc -o vect2compC.o
C:/rtools40/mingw32/bin/g++ -std=gnu++11 -shared -s -static-libgcc -o switchBox.dll tmp.def CalculateSignedScoreCore.o CalculateSignedScoreCoreTieHandler.o CalculateSignedScoreRestrictedPairsCore.o CalculateSignedScoreRestrictedPairsCoreTieHandler.o rinit.o vect2compC.o -Lc:/extsoft/lib/i386 -Lc:/extsoft/lib -LC:/Users/BIOCBU~1/BBS-3~1.13-/R/bin/i386 -lR
installing to C:/Users/biocbuild/bbs-3.13-bioc/meat/switchBox.buildbin-libdir/00LOCK-switchBox/00new/switchBox/libs/i386
** R
** data
** inst
** byte-compile and prepare package for lazy loading
** help
*** installing help indices
converting help for package 'switchBox'
finding HTML links ... done
KTSP.Classify html
KTSP.Train html
SWAP.Calculate.BasicTSPScores html
SWAP.Calculate.SignedTSPScores html
SWAP.CalculateScores html
SWAP.CalculateSignedScore html
SWAP.Filter.Wilcoxon html
SWAP.GetKTSP.PredictionStats html
SWAP.GetKTSP.Result html
SWAP.GetKTSP.TrainTestResults html
SWAP.KTSP.CV html
SWAP.KTSP.Classify html
SWAP.KTSP.LOO html
SWAP.KTSP.Statistic html
SWAP.KTSP.Train html
SWAP.Kby.Measurement html
SWAP.Kby.Ttest html
SWAP.MakeTSPTable html
SWAP.PlotKTSP.GenePairBoxplot html
SWAP.PlotKTSP.GenePairClassesBoxplot html
SWAP.PlotKTSP.GenePairScatter html
SWAP.PlotKTSP.Genes html
SWAP.PlotKTSP.TrainTestROC html
finding level-2 HTML links ... done
Rd warning: C:/Users/biocbuild/bbs-3.13-bioc/tmpdir/RtmpYDH1IF/R.INSTALLed42bca37b6/switchBox/man/SWAP.PlotKTSP.TrainTestROC.Rd:35: missing link 'SWAP.GetkTSPTrainTestResults'
SWAP.PlotKTSP.Votes html
SWAP.Train.1TSP html
SWAP.Train.KTSP html
matTesting html
matTraining html
switchBox-package html
testingGroup html
trainingGroup html
** building package indices
** installing vignettes
** testing if installed package can be loaded from temporary location
** testing if installed package can be loaded from final location
** testing if installed package keeps a record of temporary installation path
install for x64
* installing *source* package 'switchBox' ...
** libs
"C:/rtools40/mingw64/bin/"g++ -std=gnu++11 -I"C:/Users/BIOCBU~1/BBS-3~1.13-/R/include" -DNDEBUG -I"C:/extsoft/include" -O2 -Wall -mfpmath=sse -msse2 -mstackrealign -c CalculateSignedScoreCore.cc -o CalculateSignedScoreCore.o
CalculateSignedScoreCore.cc: In function 'void CalculateSignedScoreCore(int*, int*, double*, int*, double*, int*, double*, double*, double*, double*, double*, double*, double*)':
CalculateSignedScoreCore.cc:36:26: warning: variable 'pairsNo' set but not used [-Wunused-but-set-variable]
int i,j,l,countplace,pairsNo;
^~~~~~~
"C:/rtools40/mingw64/bin/"g++ -std=gnu++11 -I"C:/Users/BIOCBU~1/BBS-3~1.13-/R/include" -DNDEBUG -I"C:/extsoft/include" -O2 -Wall -mfpmath=sse -msse2 -mstackrealign -c CalculateSignedScoreCoreTieHandler.cc -o CalculateSignedScoreCoreTieHandler.o
CalculateSignedScoreCoreTieHandler.cc: In function 'void CalculateSignedScoreCoreTieHandler(int*, int*, double*, int*, double*, int*, double*, double*, double*, double*)':
CalculateSignedScoreCoreTieHandler.cc:49:12: warning: unused variable 'score1' [-Wunused-variable]
double score1, score2, type;
^~~~~~
"C:/rtools40/mingw64/bin/"g++ -std=gnu++11 -I"C:/Users/BIOCBU~1/BBS-3~1.13-/R/include" -DNDEBUG -I"C:/extsoft/include" -O2 -Wall -mfpmath=sse -msse2 -mstackrealign -c CalculateSignedScoreRestrictedPairsCore.cc -o CalculateSignedScoreRestrictedPairsCore.o
CalculateSignedScoreRestrictedPairsCore.cc: In function 'void CalculateSignedScoreRestrictedPairsCore(int*, int*, double*, int*, double*, int*, int*, int*, int*, double*, double*, double*)':
CalculateSignedScoreRestrictedPairsCore.cc:22:11: warning: variable 'countplace' set but not used [-Wunused-but-set-variable]
int i,l,countplace,pairsNo;
^~~~~~~~~~
"C:/rtools40/mingw64/bin/"g++ -std=gnu++11 -I"C:/Users/BIOCBU~1/BBS-3~1.13-/R/include" -DNDEBUG -I"C:/extsoft/include" -O2 -Wall -mfpmath=sse -msse2 -mstackrealign -c CalculateSignedScoreRestrictedPairsCoreTieHandler.cc -o CalculateSignedScoreRestrictedPairsCoreTieHandler.o
CalculateSignedScoreRestrictedPairsCoreTieHandler.cc: In function 'void CalculateSignedScoreRestrictedPairsCoreTieHandler(int*, int*, double*, int*, double*, int*, int*, int*, int*, double*, double*, double*, double*)':
CalculateSignedScoreRestrictedPairsCoreTieHandler.cc:25:11: warning: unused variable 'countplace' [-Wunused-variable]
int i,l,countplace,pairsNo;
^~~~~~~~~~
CalculateSignedScoreRestrictedPairsCoreTieHandler.cc:35:10: warning: unused variable 'score1' [-Wunused-variable]
double score1, score2, type;
^~~~~~
"C:/rtools40/mingw64/bin/"gcc -I"C:/Users/BIOCBU~1/BBS-3~1.13-/R/include" -DNDEBUG -I"C:/extsoft/include" -O2 -Wall -std=gnu99 -mfpmath=sse -msse2 -mstackrealign -c rinit.c -o rinit.o
"C:/rtools40/mingw64/bin/"g++ -std=gnu++11 -I"C:/Users/BIOCBU~1/BBS-3~1.13-/R/include" -DNDEBUG -I"C:/extsoft/include" -O2 -Wall -mfpmath=sse -msse2 -mstackrealign -c vect2compC.cc -o vect2compC.o
C:/rtools40/mingw64/bin/g++ -std=gnu++11 -shared -s -static-libgcc -o switchBox.dll tmp.def CalculateSignedScoreCore.o CalculateSignedScoreCoreTieHandler.o CalculateSignedScoreRestrictedPairsCore.o CalculateSignedScoreRestrictedPairsCoreTieHandler.o rinit.o vect2compC.o -LC:/extsoft/lib/x64 -LC:/extsoft/lib -LC:/Users/BIOCBU~1/BBS-3~1.13-/R/bin/x64 -lR
installing to C:/Users/biocbuild/bbs-3.13-bioc/meat/switchBox.buildbin-libdir/switchBox/libs/x64
** testing if installed package can be loaded
* MD5 sums
packaged installation of 'switchBox' as switchBox_1.28.0.zip
* DONE (switchBox)
* installing to library 'C:/Users/biocbuild/bbs-3.13-bioc/R/library'
package 'switchBox' successfully unpacked and MD5 sums checked