| Back to Multiple platform build/check report for BioC 3.13 |
|
This page was generated on 2021-10-15 15:05:54 -0400 (Fri, 15 Oct 2021).
|
To the developers/maintainers of the sva package: - Please allow up to 24 hours (and sometimes 48 hours) for your latest push to git@git.bioconductor.org:packages/sva.git to reflect on this report. See How and When does the builder pull? When will my changes propagate? here for more information. - Make sure to use the following settings in order to reproduce any error or warning you see on this page. |
| Package 1876/2041 | Hostname | OS / Arch | INSTALL | BUILD | CHECK | BUILD BIN | ||||||||
| sva 3.40.0 (landing page) Jeffrey T. Leek
| nebbiolo1 | Linux (Ubuntu 20.04.2 LTS) / x86_64 | OK | OK | OK | |||||||||
| tokay2 | Windows Server 2012 R2 Standard / x64 | OK | OK | OK | OK | |||||||||
| machv2 | macOS 10.14.6 Mojave / x86_64 | OK | OK | OK | OK | |||||||||
| Package: sva |
| Version: 3.40.0 |
| Command: /home/biocbuild/bbs-3.13-bioc/R/bin/R CMD check --install=check:sva.install-out.txt --library=/home/biocbuild/bbs-3.13-bioc/R/library --no-vignettes --timings sva_3.40.0.tar.gz |
| StartedAt: 2021-10-14 11:48:40 -0400 (Thu, 14 Oct 2021) |
| EndedAt: 2021-10-14 11:51:56 -0400 (Thu, 14 Oct 2021) |
| EllapsedTime: 196.5 seconds |
| RetCode: 0 |
| Status: OK |
| CheckDir: sva.Rcheck |
| Warnings: 0 |
##############################################################################
##############################################################################
###
### Running command:
###
### /home/biocbuild/bbs-3.13-bioc/R/bin/R CMD check --install=check:sva.install-out.txt --library=/home/biocbuild/bbs-3.13-bioc/R/library --no-vignettes --timings sva_3.40.0.tar.gz
###
##############################################################################
##############################################################################
* using log directory ‘/home/biocbuild/bbs-3.13-bioc/meat/sva.Rcheck’
* using R version 4.1.1 (2021-08-10)
* using platform: x86_64-pc-linux-gnu (64-bit)
* using session charset: UTF-8
* using option ‘--no-vignettes’
* checking for file ‘sva/DESCRIPTION’ ... OK
* this is package ‘sva’ version ‘3.40.0’
* checking package namespace information ... OK
* checking package dependencies ... OK
* checking if this is a source package ... OK
* checking if there is a namespace ... OK
* checking for hidden files and directories ... OK
* checking for portable file names ... OK
* checking for sufficient/correct file permissions ... OK
* checking whether package ‘sva’ can be installed ... OK
* checking installed package size ... OK
* checking package directory ... OK
* checking ‘build’ directory ... OK
* checking DESCRIPTION meta-information ... OK
* checking top-level files ... OK
* checking for left-over files ... OK
* checking index information ... OK
* checking package subdirectories ... OK
* checking R files for non-ASCII characters ... OK
* checking R files for syntax errors ... OK
* checking whether the package can be loaded ... OK
* checking whether the package can be loaded with stated dependencies ... OK
* checking whether the package can be unloaded cleanly ... OK
* checking whether the namespace can be loaded with stated dependencies ... OK
* checking whether the namespace can be unloaded cleanly ... OK
* checking dependencies in R code ... OK
* checking S3 generic/method consistency ... OK
* checking replacement functions ... OK
* checking foreign function calls ... OK
* checking R code for possible problems ... OK
* checking Rd files ... OK
* checking Rd metadata ... OK
* checking Rd cross-references ... OK
* checking for missing documentation entries ... OK
* checking for code/documentation mismatches ... OK
* checking Rd \usage sections ... OK
* checking Rd contents ... OK
* checking for unstated dependencies in examples ... OK
* checking line endings in C/C++/Fortran sources/headers ... OK
* checking compiled code ... OK
* checking files in ‘vignettes’ ... OK
* checking examples ... OK
Examples with CPU (user + system) or elapsed time > 5s
user system elapsed
sva_network 8.494 0.044 8.539
sva.check 5.667 0.036 5.704
* checking for unstated dependencies in ‘tests’ ... OK
* checking tests ...
Running ‘testthat.R’
OK
* checking for unstated dependencies in vignettes ... OK
* checking package vignettes in ‘inst/doc’ ... OK
* checking running R code from vignettes ... SKIPPED
* checking re-building of vignette outputs ... SKIPPED
* checking PDF version of manual ... OK
* DONE
Status: OK
sva.Rcheck/00install.out
##############################################################################
##############################################################################
###
### Running command:
###
### /home/biocbuild/bbs-3.13-bioc/R/bin/R CMD INSTALL sva
###
##############################################################################
##############################################################################
* installing to library ‘/home/biocbuild/bbs-3.13-bioc/R/library’
* installing *source* package ‘sva’ ...
** using staged installation
** libs
gcc -I"/home/biocbuild/bbs-3.13-bioc/R/include" -DNDEBUG -I/usr/local/include -fpic -g -O2 -Wall -c sva.c -o sva.o
sva.c:27:34: warning: missing braces around initializer [-Wmissing-braces]
27 | R_CallMethodDef callMethods[] = {
| ^
gcc -shared -L/home/biocbuild/bbs-3.13-bioc/R/lib -L/usr/local/lib -o sva.so sva.o -L/home/biocbuild/bbs-3.13-bioc/R/lib -lR
installing to /home/biocbuild/bbs-3.13-bioc/R/library/00LOCK-sva/00new/sva/libs
** R
** inst
** byte-compile and prepare package for lazy loading
** help
*** installing help indices
** building package indices
** installing vignettes
** testing if installed package can be loaded from temporary location
** checking absolute paths in shared objects and dynamic libraries
** testing if installed package can be loaded from final location
** testing if installed package keeps a record of temporary installation path
* DONE (sva)
sva.Rcheck/tests/testthat.Rout
R version 4.1.1 (2021-08-10) -- "Kick Things"
Copyright (C) 2021 The R Foundation for Statistical Computing
Platform: x86_64-pc-linux-gnu (64-bit)
R is free software and comes with ABSOLUTELY NO WARRANTY.
You are welcome to redistribute it under certain conditions.
Type 'license()' or 'licence()' for distribution details.
R is a collaborative project with many contributors.
Type 'contributors()' for more information and
'citation()' on how to cite R or R packages in publications.
Type 'demo()' for some demos, 'help()' for on-line help, or
'help.start()' for an HTML browser interface to help.
Type 'q()' to quit R.
> library(testthat)
> library(sva)
Loading required package: mgcv
Loading required package: nlme
This is mgcv 1.8-38. For overview type 'help("mgcv-package")'.
Loading required package: genefilter
Loading required package: BiocParallel
>
> test_check("sva")
Found 2 batches
Using full model in ComBat-seq.
Adjusting for 1 covariate(s) or covariate level(s)
[ FAIL 0 | WARN 0 | SKIP 0 | PASS 33 ]
>
> proc.time()
user system elapsed
51.523 4.249 53.586
sva.Rcheck/sva-Ex.timings
| name | user | system | elapsed | |
| ComBat | 2.026 | 0.040 | 2.063 | |
| ComBat_seq | 0.133 | 0.004 | 0.138 | |
| empirical.controls | 1.599 | 0.072 | 1.671 | |
| f.pvalue | 0.247 | 0.012 | 0.260 | |
| fstats | 0.224 | 0.012 | 0.237 | |
| fsva | 0.373 | 0.010 | 0.383 | |
| irwsva.build | 1.061 | 0.008 | 1.070 | |
| num.sv | 0.502 | 0.008 | 0.510 | |
| psva | 0.319 | 0.008 | 0.326 | |
| qsva | 0.364 | 0.297 | 0.387 | |
| read.degradation.matrix | 0.510 | 0.633 | 0.422 | |
| ssva | 0.571 | 0.050 | 0.621 | |
| sva | 1.497 | 0.088 | 1.585 | |
| sva.check | 5.667 | 0.036 | 5.704 | |
| sva_network | 8.494 | 0.044 | 8.539 | |
| svaseq | 0.464 | 0.032 | 0.496 | |
| twostepsva.build | 3.046 | 0.092 | 3.139 | |