| Back to Multiple platform build/check report for BioC 3.13 |
|
This page was generated on 2021-10-15 15:06:55 -0400 (Fri, 15 Oct 2021).
|
To the developers/maintainers of the supraHex package: - Please allow up to 24 hours (and sometimes 48 hours) for your latest push to git@git.bioconductor.org:packages/supraHex.git to reflect on this report. See How and When does the builder pull? When will my changes propagate? here for more information. - Make sure to use the following settings in order to reproduce any error or warning you see on this page. |
| Package 1872/2041 | Hostname | OS / Arch | INSTALL | BUILD | CHECK | BUILD BIN | ||||||||
| supraHex 1.30.0 (landing page) Hai Fang
| nebbiolo1 | Linux (Ubuntu 20.04.2 LTS) / x86_64 | OK | OK | OK | |||||||||
| tokay2 | Windows Server 2012 R2 Standard / x64 | OK | OK | OK | OK | |||||||||
| machv2 | macOS 10.14.6 Mojave / x86_64 | OK | OK | OK | OK | |||||||||
| Package: supraHex |
| Version: 1.30.0 |
| Command: /Library/Frameworks/R.framework/Versions/Current/Resources/bin/R CMD check --install=check:supraHex.install-out.txt --library=/Library/Frameworks/R.framework/Versions/Current/Resources/library --no-vignettes --timings supraHex_1.30.0.tar.gz |
| StartedAt: 2021-10-15 00:31:27 -0400 (Fri, 15 Oct 2021) |
| EndedAt: 2021-10-15 00:33:07 -0400 (Fri, 15 Oct 2021) |
| EllapsedTime: 99.8 seconds |
| RetCode: 0 |
| Status: OK |
| CheckDir: supraHex.Rcheck |
| Warnings: 0 |
##############################################################################
##############################################################################
###
### Running command:
###
### /Library/Frameworks/R.framework/Versions/Current/Resources/bin/R CMD check --install=check:supraHex.install-out.txt --library=/Library/Frameworks/R.framework/Versions/Current/Resources/library --no-vignettes --timings supraHex_1.30.0.tar.gz
###
##############################################################################
##############################################################################
* using log directory ‘/Users/biocbuild/bbs-3.13-bioc/meat/supraHex.Rcheck’
* using R version 4.1.1 (2021-08-10)
* using platform: x86_64-apple-darwin17.0 (64-bit)
* using session charset: UTF-8
* using option ‘--no-vignettes’
* checking for file ‘supraHex/DESCRIPTION’ ... OK
* checking extension type ... Package
* this is package ‘supraHex’ version ‘1.30.0’
* checking package namespace information ... OK
* checking package dependencies ... OK
* checking if this is a source package ... OK
* checking if there is a namespace ... OK
* checking for hidden files and directories ... NOTE
Found the following hidden files and directories:
.git_fetch_output.txt
.git_merge_output.txt
These were most likely included in error. See section ‘Package
structure’ in the ‘Writing R Extensions’ manual.
* checking for portable file names ... OK
* checking for sufficient/correct file permissions ... OK
* checking whether package ‘supraHex’ can be installed ... OK
* checking installed package size ... OK
* checking package directory ... OK
* checking ‘build’ directory ... OK
* checking DESCRIPTION meta-information ... OK
* checking top-level files ... OK
* checking for left-over files ... OK
* checking index information ... OK
* checking package subdirectories ... OK
* checking R files for non-ASCII characters ... OK
* checking R files for syntax errors ... OK
* checking whether the package can be loaded ... OK
* checking whether the package can be loaded with stated dependencies ... OK
* checking whether the package can be unloaded cleanly ... OK
* checking whether the namespace can be loaded with stated dependencies ... OK
* checking whether the namespace can be unloaded cleanly ... OK
* checking dependencies in R code ... OK
* checking S3 generic/method consistency ... OK
* checking replacement functions ... OK
* checking foreign function calls ... OK
* checking R code for possible problems ... OK
* checking Rd files ... OK
* checking Rd metadata ... OK
* checking Rd cross-references ... OK
* checking for missing documentation entries ... OK
* checking for code/documentation mismatches ... OK
* checking Rd \usage sections ... OK
* checking Rd contents ... OK
* checking for unstated dependencies in examples ... OK
* checking contents of ‘data’ directory ... OK
* checking data for non-ASCII characters ... OK
* checking data for ASCII and uncompressed saves ... OK
* checking sizes of PDF files under ‘inst/doc’ ... OK
* checking files in ‘vignettes’ ... OK
* checking examples ... OK
Examples with CPU (user + system) or elapsed time > 5s
user system elapsed
visCompReorder 4.941 0.262 5.213
* checking for unstated dependencies in vignettes ... OK
* checking package vignettes in ‘inst/doc’ ... OK
* checking running R code from vignettes ... SKIPPED
* checking re-building of vignette outputs ... SKIPPED
* checking PDF version of manual ... OK
* DONE
Status: 1 NOTE
See
‘/Users/biocbuild/bbs-3.13-bioc/meat/supraHex.Rcheck/00check.log’
for details.
supraHex.Rcheck/00install.out
############################################################################## ############################################################################## ### ### Running command: ### ### /Library/Frameworks/R.framework/Versions/Current/Resources/bin/R CMD INSTALL supraHex ### ############################################################################## ############################################################################## * installing to library ‘/Library/Frameworks/R.framework/Versions/4.1/Resources/library’ * installing *source* package ‘supraHex’ ... ** using staged installation ** R ** data ** inst ** byte-compile and prepare package for lazy loading ** help *** installing help indices ** building package indices ** installing vignettes ** testing if installed package can be loaded from temporary location ** testing if installed package can be loaded from final location ** testing if installed package keeps a record of temporary installation path * DONE (supraHex)
supraHex.Rcheck/supraHex-Ex.timings
| name | user | system | elapsed | |
| sBMH | 0.078 | 0.011 | 0.089 | |
| sCompReorder | 3.865 | 0.219 | 4.095 | |
| sDistance | 0.502 | 0.010 | 0.511 | |
| sDmat | 0.546 | 0.011 | 0.558 | |
| sDmatCluster | 0.623 | 0.006 | 0.630 | |
| sDmatMinima | 0.497 | 0.009 | 0.507 | |
| sHexDist | 0.007 | 0.000 | 0.008 | |
| sHexGrid | 0.002 | 0.000 | 0.002 | |
| sHexGridVariant | 0.003 | 0.002 | 0.004 | |
| sHexPolygon | 0.150 | 0.001 | 0.151 | |
| sInitial | 0.007 | 0.000 | 0.007 | |
| sMapOverlay | 0.524 | 0.016 | 0.541 | |
| sNeighAny | 0.010 | 0.001 | 0.011 | |
| sNeighDirect | 0.008 | 0.001 | 0.009 | |
| sPipeline | 0.001 | 0.001 | 0.001 | |
| sTopology | 0.037 | 0.008 | 0.045 | |
| sTrainBatch | 0.050 | 0.002 | 0.053 | |
| sTrainSeq | 0.524 | 0.009 | 0.533 | |
| sTrainology | 0.011 | 0.001 | 0.011 | |
| sWriteData | 0.730 | 0.031 | 0.754 | |
| visColoralpha | 0.006 | 0.000 | 0.006 | |
| visColorbar | 0.025 | 0.001 | 0.025 | |
| visColormap | 0.004 | 0.000 | 0.004 | |
| visCompReorder | 4.941 | 0.262 | 5.213 | |
| visDmatCluster | 0.000 | 0.001 | 0.002 | |
| visDmatHeatmap | 0.001 | 0.001 | 0.001 | |
| visHeatmap | 0.161 | 0.004 | 0.168 | |
| visHeatmapAdv | 0.644 | 0.014 | 0.692 | |
| visHexAnimate | 0.002 | 0.000 | 0.001 | |
| visHexBarplot | 1.290 | 0.049 | 1.341 | |
| visHexComp | 0.487 | 0.009 | 0.497 | |
| visHexGrid | 0.448 | 0.005 | 0.454 | |
| visHexMapping | 2.252 | 0.093 | 2.356 | |
| visHexMulComp | 1.653 | 0.060 | 1.721 | |
| visHexPattern | 2.322 | 0.159 | 2.484 | |
| visKernels | 0.011 | 0.009 | 0.020 | |
| visTreeBSclust | 0.001 | 0.000 | 0.001 | |
| visTreeBootstrap | 0.001 | 0.001 | 0.001 | |
| visVp | 0.020 | 0.010 | 0.029 | |