| Back to Multiple platform build/check report for BioC 3.13 |
|
This page was generated on 2021-10-15 15:06:24 -0400 (Fri, 15 Oct 2021).
|
To the developers/maintainers of the splineTimeR package: - Please allow up to 24 hours (and sometimes 48 hours) for your latest push to git@git.bioconductor.org:packages/splineTimeR.git to reflect on this report. See How and When does the builder pull? When will my changes propagate? here for more information. - Make sure to use the following settings in order to reproduce any error or warning you see on this page. |
| Package 1831/2041 | Hostname | OS / Arch | INSTALL | BUILD | CHECK | BUILD BIN | ||||||||
| splineTimeR 1.20.0 (landing page) Herbert Braselmann
| nebbiolo1 | Linux (Ubuntu 20.04.2 LTS) / x86_64 | OK | OK | OK | |||||||||
| tokay2 | Windows Server 2012 R2 Standard / x64 | OK | OK | OK | OK | |||||||||
| machv2 | macOS 10.14.6 Mojave / x86_64 | OK | OK | OK | OK | |||||||||
| Package: splineTimeR |
| Version: 1.20.0 |
| Command: C:\cygwin\bin\curl.exe -O http://155.52.207.165/BBS/3.13/bioc/src/contrib/splineTimeR_1.20.0.tar.gz && rm -rf splineTimeR.buildbin-libdir && mkdir splineTimeR.buildbin-libdir && C:\Users\biocbuild\bbs-3.13-bioc\R\bin\R.exe CMD INSTALL --merge-multiarch --build --library=splineTimeR.buildbin-libdir splineTimeR_1.20.0.tar.gz && C:\Users\biocbuild\bbs-3.13-bioc\R\bin\R.exe CMD INSTALL splineTimeR_1.20.0.zip && rm splineTimeR_1.20.0.tar.gz splineTimeR_1.20.0.zip |
| StartedAt: 2021-10-14 09:16:12 -0400 (Thu, 14 Oct 2021) |
| EndedAt: 2021-10-14 09:17:05 -0400 (Thu, 14 Oct 2021) |
| EllapsedTime: 53.2 seconds |
| RetCode: 0 |
| Status: OK |
##############################################################################
##############################################################################
###
### Running command:
###
### C:\cygwin\bin\curl.exe -O http://155.52.207.165/BBS/3.13/bioc/src/contrib/splineTimeR_1.20.0.tar.gz && rm -rf splineTimeR.buildbin-libdir && mkdir splineTimeR.buildbin-libdir && C:\Users\biocbuild\bbs-3.13-bioc\R\bin\R.exe CMD INSTALL --merge-multiarch --build --library=splineTimeR.buildbin-libdir splineTimeR_1.20.0.tar.gz && C:\Users\biocbuild\bbs-3.13-bioc\R\bin\R.exe CMD INSTALL splineTimeR_1.20.0.zip && rm splineTimeR_1.20.0.tar.gz splineTimeR_1.20.0.zip
###
##############################################################################
##############################################################################
% Total % Received % Xferd Average Speed Time Time Time Current
Dload Upload Total Spent Left Speed
0 0 0 0 0 0 0 0 --:--:-- --:--:-- --:--:-- 0
18 530k 18 99689 0 0 511k 0 0:00:01 --:--:-- 0:00:01 512k
100 530k 100 530k 0 0 1542k 0 --:--:-- --:--:-- --:--:-- 1541k
install for i386
* installing *source* package 'splineTimeR' ...
** using staged installation
** R
** data
** inst
** byte-compile and prepare package for lazy loading
** help
*** installing help indices
converting help for package 'splineTimeR'
finding HTML links ... done
TCsimData html
networkProperties html
finding level-2 HTML links ... done
pathEnrich html
splineDiffExprs html
splineNetRecon html
splinePlot html
** building package indices
** installing vignettes
** testing if installed package can be loaded from temporary location
** testing if installed package can be loaded from final location
** testing if installed package keeps a record of temporary installation path
install for x64
* installing *source* package 'splineTimeR' ...
** testing if installed package can be loaded
* MD5 sums
packaged installation of 'splineTimeR' as splineTimeR_1.20.0.zip
* DONE (splineTimeR)
* installing to library 'C:/Users/biocbuild/bbs-3.13-bioc/R/library'
package 'splineTimeR' successfully unpacked and MD5 sums checked