| Back to Multiple platform build/check report for BioC 3.13 |
|
This page was generated on 2021-10-15 15:06:24 -0400 (Fri, 15 Oct 2021).
|
To the developers/maintainers of the splatter package: - Please allow up to 24 hours (and sometimes 48 hours) for your latest push to git@git.bioconductor.org:packages/splatter.git to reflect on this report. See How and When does the builder pull? When will my changes propagate? here for more information. - Make sure to use the following settings in order to reproduce any error or warning you see on this page. |
| Package 1828/2041 | Hostname | OS / Arch | INSTALL | BUILD | CHECK | BUILD BIN | ||||||||
| splatter 1.16.1 (landing page) Luke Zappia
| nebbiolo1 | Linux (Ubuntu 20.04.2 LTS) / x86_64 | OK | OK | OK | |||||||||
| tokay2 | Windows Server 2012 R2 Standard / x64 | OK | OK | OK | OK | |||||||||
| machv2 | macOS 10.14.6 Mojave / x86_64 | OK | OK | OK | OK | |||||||||
| Package: splatter |
| Version: 1.16.1 |
| Command: C:\Users\biocbuild\bbs-3.13-bioc\R\bin\R.exe CMD check --force-multiarch --install=check:splatter.install-out.txt --library=C:\Users\biocbuild\bbs-3.13-bioc\R\library --no-vignettes --timings splatter_1.16.1.tar.gz |
| StartedAt: 2021-10-15 06:05:25 -0400 (Fri, 15 Oct 2021) |
| EndedAt: 2021-10-15 06:23:26 -0400 (Fri, 15 Oct 2021) |
| EllapsedTime: 1081.2 seconds |
| RetCode: 0 |
| Status: OK |
| CheckDir: splatter.Rcheck |
| Warnings: 0 |
##############################################################################
##############################################################################
###
### Running command:
###
### C:\Users\biocbuild\bbs-3.13-bioc\R\bin\R.exe CMD check --force-multiarch --install=check:splatter.install-out.txt --library=C:\Users\biocbuild\bbs-3.13-bioc\R\library --no-vignettes --timings splatter_1.16.1.tar.gz
###
##############################################################################
##############################################################################
* using log directory 'C:/Users/biocbuild/bbs-3.13-bioc/meat/splatter.Rcheck'
* using R version 4.1.1 (2021-08-10)
* using platform: x86_64-w64-mingw32 (64-bit)
* using session charset: ISO8859-1
* using option '--no-vignettes'
* checking for file 'splatter/DESCRIPTION' ... OK
* checking extension type ... Package
* this is package 'splatter' version '1.16.1'
* package encoding: UTF-8
* checking package namespace information ... OK
* checking package dependencies ... OK
* checking if this is a source package ... OK
* checking if there is a namespace ... OK
* checking for hidden files and directories ... OK
* checking for portable file names ... OK
* checking whether package 'splatter' can be installed ... OK
* checking installed package size ... OK
* checking package directory ... OK
* checking 'build' directory ... OK
* checking DESCRIPTION meta-information ... OK
* checking top-level files ... OK
* checking for left-over files ... OK
* checking index information ... OK
* checking package subdirectories ... OK
* checking R files for non-ASCII characters ... OK
* checking R files for syntax errors ... OK
* loading checks for arch 'i386'
** checking whether the package can be loaded ... OK
** checking whether the package can be loaded with stated dependencies ... OK
** checking whether the package can be unloaded cleanly ... OK
** checking whether the namespace can be loaded with stated dependencies ... OK
** checking whether the namespace can be unloaded cleanly ... OK
* loading checks for arch 'x64'
** checking whether the package can be loaded ... OK
** checking whether the package can be loaded with stated dependencies ... OK
** checking whether the package can be unloaded cleanly ... OK
** checking whether the namespace can be loaded with stated dependencies ... OK
** checking whether the namespace can be unloaded cleanly ... OK
* checking dependencies in R code ... OK
* checking S3 generic/method consistency ... OK
* checking replacement functions ... OK
* checking foreign function calls ... OK
* checking R code for possible problems ... OK
* checking Rd files ... OK
* checking Rd metadata ... OK
* checking Rd cross-references ... OK
* checking for missing documentation entries ... OK
* checking for code/documentation mismatches ... OK
* checking Rd \usage sections ... OK
* checking Rd contents ... OK
* checking for unstated dependencies in examples ... OK
* checking files in 'vignettes' ... OK
* checking examples ...
** running examples for arch 'i386' ... OK
Examples with CPU (user + system) or elapsed time > 5s
user system elapsed
scDDEstimate 42.72 1.04 43.77
zinbEstimate 15.41 0.03 15.44
kersplatEstimate 9.21 0.13 9.33
splatEstimate 8.39 0.20 8.60
splatPopEstimate 7.89 0.16 8.04
summariseDiff 5.12 0.00 5.12
** running examples for arch 'x64' ... OK
Examples with CPU (user + system) or elapsed time > 5s
user system elapsed
scDDEstimate 48.39 0.28 48.68
zinbEstimate 18.36 0.00 18.39
kersplatEstimate 8.40 0.06 8.47
splatPopEstimate 7.81 0.09 7.91
splatEstimate 7.58 0.08 7.65
* checking for unstated dependencies in 'tests' ... OK
* checking tests ...
** running tests for arch 'i386' ...
Running 'spelling.R'
Running 'testthat.R'
OK
** running tests for arch 'x64' ...
Running 'spelling.R'
Running 'testthat.R'
OK
* checking for unstated dependencies in vignettes ... OK
* checking package vignettes in 'inst/doc' ... OK
* checking running R code from vignettes ... SKIPPED
* checking re-building of vignette outputs ... SKIPPED
* checking PDF version of manual ... OK
* DONE
Status: OK
splatter.Rcheck/00install.out
##############################################################################
##############################################################################
###
### Running command:
###
### C:\cygwin\bin\curl.exe -O http://155.52.207.165/BBS/3.13/bioc/src/contrib/splatter_1.16.1.tar.gz && rm -rf splatter.buildbin-libdir && mkdir splatter.buildbin-libdir && C:\Users\biocbuild\bbs-3.13-bioc\R\bin\R.exe CMD INSTALL --merge-multiarch --build --library=splatter.buildbin-libdir splatter_1.16.1.tar.gz && C:\Users\biocbuild\bbs-3.13-bioc\R\bin\R.exe CMD INSTALL splatter_1.16.1.zip && rm splatter_1.16.1.tar.gz splatter_1.16.1.zip
###
##############################################################################
##############################################################################
% Total % Received % Xferd Average Speed Time Time Time Current
Dload Upload Total Spent Left Speed
0 0 0 0 0 0 0 0 --:--:-- --:--:-- --:--:-- 0
100 1557k 100 1557k 0 0 2939k 0 --:--:-- --:--:-- --:--:-- 2945k
install for i386
* installing *source* package 'splatter' ...
** using staged installation
** R
** inst
** byte-compile and prepare package for lazy loading
** help
*** installing help indices
converting help for package 'splatter'
finding HTML links ... done
BASiCSEstimate html
BASiCSParams html
BASiCSSimulate html
KersplatParams html
Lun2Params html
LunParams html
MFAParams html
Params html
PhenoParams html
SCDDParams html
SimpleParams html
SparseDCParams html
SplatParams html
SplatPopParams html
ZINBParams html
addFeatureStats html
finding level-2 HTML links ... done
addGeneLengths html
bridge html
bringItemsForward html
checkDependencies html
co.var html
compareSCEs html
diffSCEs html
expandParams html
getBetaStepProbs html
getCounts html
getLNormFactors html
getParam html
getParams html
getPathOrder html
kersplatEstBCV html
kersplatEstLib html
kersplatEstMean html
kersplatEstimate html
kersplatGenNetwork html
kersplatSample html
kersplatSelectRegs html
kersplatSetup html
kersplatSimAmbientCounts html
kersplatSimCellCounts html
kersplatSimCellMeans html
kersplatSimCounts html
kersplatSimGeneMeans html
kersplatSimLibSizes html
kersplatSimPaths html
kersplatSimulate html
listSims html
logistic html
lun2Estimate html
lun2Simulate html
lunEstimate html
lunSimulate html
makeCompPanel html
makeDiffPanel html
makeOverallPanel html
mfaEstimate html
mfaSimulate html
minimiseSCE html
mockBulkMatrix html
mockBulkeQTL html
mockGFF html
mockVCF html
newParams html
phenoEstimate html
phenoSimulate html
rbindMatched html
sampleDensity html
scDDEstimate html
scDDSimulate html
selectFit html
setParam html
setParamUnchecked html
setParams html
setParamsUnchecked html
showDFs html
showPP html
showValues html
simpleEstimate html
simpleSimulate html
sparseDCEstimate html
sparseDCSimulate html
sparsifyMatrices html
splatEstBCV html
splatEstDropout html
splatEstLib html
splatEstMean html
splatEstOutlier html
splatEstimate html
splatPopAssignMeans html
splatPopCleanSCE html
splatPopConditionEffects html
splatPopConditionalEffects html
splatPopDesignBatches html
splatPopDesignConditions html
splatPopEstimate html
splatPopEstimateEffectSize html
splatPopEstimateMeanCV html
splatPopGroupEffects html
splatPopParseGenes html
splatPopParseVCF html
splatPopQuantNorm html
splatPopQuantNormKey html
splatPopSimBatchEffects html
splatPopSimConditionalEffects html
splatPopSimEffects html
splatPopSimGeneMeans html
splatPopSimMeans html
splatPopSimulate html
splatPopSimulateMeans html
splatPopSimulateSC html
splatPopSimulateSample html
splatPopeQTLEffects html
splatSimBCVMeans html
splatSimBatchCellMeans html
splatSimBatchEffects html
splatSimCellMeans html
splatSimDE html
splatSimDropout html
splatSimGeneMeans html
splatSimLibSizes html
splatSimTrueCounts html
splatSimulate html
splatter html
summariseDiff html
summariseKS html
summariseStats html
tidyStatSumm html
winsorize html
zinbEstimate html
zinbSimulate html
** building package indices
** installing vignettes
** testing if installed package can be loaded from temporary location
** testing if installed package can be loaded from final location
** testing if installed package keeps a record of temporary installation path
install for x64
* installing *source* package 'splatter' ...
** testing if installed package can be loaded
* MD5 sums
packaged installation of 'splatter' as splatter_1.16.1.zip
* DONE (splatter)
* installing to library 'C:/Users/biocbuild/bbs-3.13-bioc/R/library'
package 'splatter' successfully unpacked and MD5 sums checked
|
splatter.Rcheck/tests_i386/spelling.Rout
R version 4.1.1 (2021-08-10) -- "Kick Things"
Copyright (C) 2021 The R Foundation for Statistical Computing
Platform: i386-w64-mingw32/i386 (32-bit)
R is free software and comes with ABSOLUTELY NO WARRANTY.
You are welcome to redistribute it under certain conditions.
Type 'license()' or 'licence()' for distribution details.
R is a collaborative project with many contributors.
Type 'contributors()' for more information and
'citation()' on how to cite R or R packages in publications.
Type 'demo()' for some demos, 'help()' for on-line help, or
'help.start()' for an HTML browser interface to help.
Type 'q()' to quit R.
> if(requireNamespace('spelling', quietly = TRUE))
+ spelling::spell_check_test(vignettes = TRUE, error = FALSE,
+ skip_on_cran = TRUE)
NULL
>
> proc.time()
user system elapsed
0.25 0.06 0.28
|
splatter.Rcheck/tests_x64/spelling.Rout
R version 4.1.1 (2021-08-10) -- "Kick Things"
Copyright (C) 2021 The R Foundation for Statistical Computing
Platform: x86_64-w64-mingw32/x64 (64-bit)
R is free software and comes with ABSOLUTELY NO WARRANTY.
You are welcome to redistribute it under certain conditions.
Type 'license()' or 'licence()' for distribution details.
R is a collaborative project with many contributors.
Type 'contributors()' for more information and
'citation()' on how to cite R or R packages in publications.
Type 'demo()' for some demos, 'help()' for on-line help, or
'help.start()' for an HTML browser interface to help.
Type 'q()' to quit R.
> if(requireNamespace('spelling', quietly = TRUE))
+ spelling::spell_check_test(vignettes = TRUE, error = FALSE,
+ skip_on_cran = TRUE)
NULL
>
> proc.time()
user system elapsed
0.15 0.03 0.17
|
|
splatter.Rcheck/tests_i386/testthat.Rout
R version 4.1.1 (2021-08-10) -- "Kick Things"
Copyright (C) 2021 The R Foundation for Statistical Computing
Platform: i386-w64-mingw32/i386 (32-bit)
R is free software and comes with ABSOLUTELY NO WARRANTY.
You are welcome to redistribute it under certain conditions.
Type 'license()' or 'licence()' for distribution details.
R is a collaborative project with many contributors.
Type 'contributors()' for more information and
'citation()' on how to cite R or R packages in publications.
Type 'demo()' for some demos, 'help()' for on-line help, or
'help.start()' for an HTML browser interface to help.
Type 'q()' to quit R.
> # setting R_TESTS to empty string because of
> # https://github.com/hadley/testthat/issues/144
> # revert this when that issue in R is fixed.
> Sys.setenv("R_TESTS" = "")
>
> library(testthat)
> library(splatter)
Loading required package: SingleCellExperiment
Loading required package: SummarizedExperiment
Loading required package: MatrixGenerics
Loading required package: matrixStats
Attaching package: 'MatrixGenerics'
The following objects are masked from 'package:matrixStats':
colAlls, colAnyNAs, colAnys, colAvgsPerRowSet, colCollapse,
colCounts, colCummaxs, colCummins, colCumprods, colCumsums,
colDiffs, colIQRDiffs, colIQRs, colLogSumExps, colMadDiffs,
colMads, colMaxs, colMeans2, colMedians, colMins, colOrderStats,
colProds, colQuantiles, colRanges, colRanks, colSdDiffs, colSds,
colSums2, colTabulates, colVarDiffs, colVars, colWeightedMads,
colWeightedMeans, colWeightedMedians, colWeightedSds,
colWeightedVars, rowAlls, rowAnyNAs, rowAnys, rowAvgsPerColSet,
rowCollapse, rowCounts, rowCummaxs, rowCummins, rowCumprods,
rowCumsums, rowDiffs, rowIQRDiffs, rowIQRs, rowLogSumExps,
rowMadDiffs, rowMads, rowMaxs, rowMeans2, rowMedians, rowMins,
rowOrderStats, rowProds, rowQuantiles, rowRanges, rowRanks,
rowSdDiffs, rowSds, rowSums2, rowTabulates, rowVarDiffs, rowVars,
rowWeightedMads, rowWeightedMeans, rowWeightedMedians,
rowWeightedSds, rowWeightedVars
Loading required package: GenomicRanges
Loading required package: stats4
Loading required package: BiocGenerics
Loading required package: parallel
Attaching package: 'BiocGenerics'
The following objects are masked from 'package:parallel':
clusterApply, clusterApplyLB, clusterCall, clusterEvalQ,
clusterExport, clusterMap, parApply, parCapply, parLapply,
parLapplyLB, parRapply, parSapply, parSapplyLB
The following objects are masked from 'package:stats':
IQR, mad, sd, var, xtabs
The following objects are masked from 'package:base':
Filter, Find, Map, Position, Reduce, anyDuplicated, append,
as.data.frame, basename, cbind, colnames, dirname, do.call,
duplicated, eval, evalq, get, grep, grepl, intersect, is.unsorted,
lapply, mapply, match, mget, order, paste, pmax, pmax.int, pmin,
pmin.int, rank, rbind, rownames, sapply, setdiff, sort, table,
tapply, union, unique, unsplit, which.max, which.min
Loading required package: S4Vectors
Attaching package: 'S4Vectors'
The following objects are masked from 'package:base':
I, expand.grid, unname
Loading required package: IRanges
Attaching package: 'IRanges'
The following object is masked from 'package:grDevices':
windows
Loading required package: GenomeInfoDb
Loading required package: Biobase
Welcome to Bioconductor
Vignettes contain introductory material; view with
'browseVignettes()'. To cite Bioconductor, see
'citation("Biobase")', and for packages 'citation("pkgname")'.
Attaching package: 'Biobase'
The following object is masked from 'package:MatrixGenerics':
rowMedians
The following objects are masked from 'package:matrixStats':
anyMissing, rowMedians
>
> test_check("splatter")
-----------------------------------------------------
MCMC sampler has been started: 20000 iterations to go.
-----------------------------------------------------
-----------------------------------------------------
End of Burn-in period.
-----------------------------------------------------
-----------------------------------------------------
-----------------------------------------------------
All 20000 MCMC iterations have been completed.
-----------------------------------------------------
-----------------------------------------------------
-----------------------------------------------------
Please see below a summary of the overall acceptance rates.
-----------------------------------------------------
Minimum acceptance rate among mu[i]'s: 0.318933
Average acceptance rate among mu[i]'s: 0.442449
Maximum acceptance rate among mu[i]'s: 0.642267
Minimum acceptance rate among delta[i]'s: 0.3818
Average acceptance rate among delta[i]'s: 0.450307
Maximum acceptance rate among delta[i]'s: 0.525867
Acceptance rate for phi (joint): 0.407
Minimum acceptance rate among nu[j]'s: 0.392933
Average acceptance rate among nu[j]'s: 0.446416
Maximum acceptance rate among nu[j]'s: 0.5014
Minimum acceptance rate among theta[k]'s: 0.422333
Average acceptance rate among theta[k]'s: 0.422333
Maximum acceptance rate among theta[k]'s: 0.422333
-----------------------------------------------------
-----------------------------------------------------
MCMC sampler has been started: 20000 iterations to go.
-----------------------------------------------------
-----------------------------------------------------
End of Burn-in period.
-----------------------------------------------------
-----------------------------------------------------
-----------------------------------------------------
All 20000 MCMC iterations have been completed.
-----------------------------------------------------
-----------------------------------------------------
-----------------------------------------------------
Please see below a summary of the overall acceptance rates.
-----------------------------------------------------
Minimum acceptance rate among mu[i]'s: 0.3176
Average acceptance rate among mu[i]'s: 0.459391
Maximum acceptance rate among mu[i]'s: 0.6118
Minimum acceptance rate among delta[i]'s: 0.381067
Average acceptance rate among delta[i]'s: 0.448929
Maximum acceptance rate among delta[i]'s: 0.522067
Minimum acceptance rate among nu[jk]'s: 0.376667
Average acceptance rate among nu[jk]'s: 0.4292
Maximum acceptance rate among nu[jk]'s: 0.470267
Minimum acceptance rate among theta[k]'s: 0.433533
Average acceptance rate among theta[k]'s: 0.4432
Maximum acceptance rate among theta[k]'s: 0.452867
-----------------------------------------------------
[ FAIL 0 | WARN 7 | SKIP 0 | PASS 167 ]
>
> proc.time()
user system elapsed
258.64 8.76 267.76
|
splatter.Rcheck/tests_x64/testthat.Rout
R version 4.1.1 (2021-08-10) -- "Kick Things"
Copyright (C) 2021 The R Foundation for Statistical Computing
Platform: x86_64-w64-mingw32/x64 (64-bit)
R is free software and comes with ABSOLUTELY NO WARRANTY.
You are welcome to redistribute it under certain conditions.
Type 'license()' or 'licence()' for distribution details.
R is a collaborative project with many contributors.
Type 'contributors()' for more information and
'citation()' on how to cite R or R packages in publications.
Type 'demo()' for some demos, 'help()' for on-line help, or
'help.start()' for an HTML browser interface to help.
Type 'q()' to quit R.
> # setting R_TESTS to empty string because of
> # https://github.com/hadley/testthat/issues/144
> # revert this when that issue in R is fixed.
> Sys.setenv("R_TESTS" = "")
>
> library(testthat)
> library(splatter)
Loading required package: SingleCellExperiment
Loading required package: SummarizedExperiment
Loading required package: MatrixGenerics
Loading required package: matrixStats
Attaching package: 'MatrixGenerics'
The following objects are masked from 'package:matrixStats':
colAlls, colAnyNAs, colAnys, colAvgsPerRowSet, colCollapse,
colCounts, colCummaxs, colCummins, colCumprods, colCumsums,
colDiffs, colIQRDiffs, colIQRs, colLogSumExps, colMadDiffs,
colMads, colMaxs, colMeans2, colMedians, colMins, colOrderStats,
colProds, colQuantiles, colRanges, colRanks, colSdDiffs, colSds,
colSums2, colTabulates, colVarDiffs, colVars, colWeightedMads,
colWeightedMeans, colWeightedMedians, colWeightedSds,
colWeightedVars, rowAlls, rowAnyNAs, rowAnys, rowAvgsPerColSet,
rowCollapse, rowCounts, rowCummaxs, rowCummins, rowCumprods,
rowCumsums, rowDiffs, rowIQRDiffs, rowIQRs, rowLogSumExps,
rowMadDiffs, rowMads, rowMaxs, rowMeans2, rowMedians, rowMins,
rowOrderStats, rowProds, rowQuantiles, rowRanges, rowRanks,
rowSdDiffs, rowSds, rowSums2, rowTabulates, rowVarDiffs, rowVars,
rowWeightedMads, rowWeightedMeans, rowWeightedMedians,
rowWeightedSds, rowWeightedVars
Loading required package: GenomicRanges
Loading required package: stats4
Loading required package: BiocGenerics
Loading required package: parallel
Attaching package: 'BiocGenerics'
The following objects are masked from 'package:parallel':
clusterApply, clusterApplyLB, clusterCall, clusterEvalQ,
clusterExport, clusterMap, parApply, parCapply, parLapply,
parLapplyLB, parRapply, parSapply, parSapplyLB
The following objects are masked from 'package:stats':
IQR, mad, sd, var, xtabs
The following objects are masked from 'package:base':
Filter, Find, Map, Position, Reduce, anyDuplicated, append,
as.data.frame, basename, cbind, colnames, dirname, do.call,
duplicated, eval, evalq, get, grep, grepl, intersect, is.unsorted,
lapply, mapply, match, mget, order, paste, pmax, pmax.int, pmin,
pmin.int, rank, rbind, rownames, sapply, setdiff, sort, table,
tapply, union, unique, unsplit, which.max, which.min
Loading required package: S4Vectors
Attaching package: 'S4Vectors'
The following objects are masked from 'package:base':
I, expand.grid, unname
Loading required package: IRanges
Attaching package: 'IRanges'
The following object is masked from 'package:grDevices':
windows
Loading required package: GenomeInfoDb
Loading required package: Biobase
Welcome to Bioconductor
Vignettes contain introductory material; view with
'browseVignettes()'. To cite Bioconductor, see
'citation("Biobase")', and for packages 'citation("pkgname")'.
Attaching package: 'Biobase'
The following object is masked from 'package:MatrixGenerics':
rowMedians
The following objects are masked from 'package:matrixStats':
anyMissing, rowMedians
>
> test_check("splatter")
-----------------------------------------------------
MCMC sampler has been started: 20000 iterations to go.
-----------------------------------------------------
-----------------------------------------------------
End of Burn-in period.
-----------------------------------------------------
-----------------------------------------------------
-----------------------------------------------------
All 20000 MCMC iterations have been completed.
-----------------------------------------------------
-----------------------------------------------------
-----------------------------------------------------
Please see below a summary of the overall acceptance rates.
-----------------------------------------------------
Minimum acceptance rate among mu[i]'s: 0.318933
Average acceptance rate among mu[i]'s: 0.442449
Maximum acceptance rate among mu[i]'s: 0.642267
Minimum acceptance rate among delta[i]'s: 0.3818
Average acceptance rate among delta[i]'s: 0.450307
Maximum acceptance rate among delta[i]'s: 0.525867
Acceptance rate for phi (joint): 0.407
Minimum acceptance rate among nu[j]'s: 0.392933
Average acceptance rate among nu[j]'s: 0.446416
Maximum acceptance rate among nu[j]'s: 0.5014
Minimum acceptance rate among theta[k]'s: 0.422333
Average acceptance rate among theta[k]'s: 0.422333
Maximum acceptance rate among theta[k]'s: 0.422333
-----------------------------------------------------
-----------------------------------------------------
MCMC sampler has been started: 20000 iterations to go.
-----------------------------------------------------
-----------------------------------------------------
End of Burn-in period.
-----------------------------------------------------
-----------------------------------------------------
-----------------------------------------------------
All 20000 MCMC iterations have been completed.
-----------------------------------------------------
-----------------------------------------------------
-----------------------------------------------------
Please see below a summary of the overall acceptance rates.
-----------------------------------------------------
Minimum acceptance rate among mu[i]'s: 0.3176
Average acceptance rate among mu[i]'s: 0.459391
Maximum acceptance rate among mu[i]'s: 0.6118
Minimum acceptance rate among delta[i]'s: 0.381067
Average acceptance rate among delta[i]'s: 0.448929
Maximum acceptance rate among delta[i]'s: 0.522067
Minimum acceptance rate among nu[jk]'s: 0.376667
Average acceptance rate among nu[jk]'s: 0.4292
Maximum acceptance rate among nu[jk]'s: 0.470267
Minimum acceptance rate among theta[k]'s: 0.433533
Average acceptance rate among theta[k]'s: 0.4432
Maximum acceptance rate among theta[k]'s: 0.452867
-----------------------------------------------------
[ FAIL 0 | WARN 7 | SKIP 0 | PASS 167 ]
>
> proc.time()
user system elapsed
276.32 10.62 287.21
|
|
splatter.Rcheck/examples_i386/splatter-Ex.timings
|
splatter.Rcheck/examples_x64/splatter-Ex.timings
|