| Back to Multiple platform build/check report for BioC 3.13 |
|
This page was generated on 2021-10-15 15:06:23 -0400 (Fri, 15 Oct 2021).
|
To the developers/maintainers of the snm package: - Please allow up to 24 hours (and sometimes 48 hours) for your latest push to git@git.bioconductor.org:packages/snm.git to reflect on this report. See How and When does the builder pull? When will my changes propagate? here for more information. - Make sure to use the following settings in order to reproduce any error or warning you see on this page. |
| Package 1799/2041 | Hostname | OS / Arch | INSTALL | BUILD | CHECK | BUILD BIN | ||||||||
| snm 1.40.0 (landing page) John D. Storey
| nebbiolo1 | Linux (Ubuntu 20.04.2 LTS) / x86_64 | OK | OK | OK | |||||||||
| tokay2 | Windows Server 2012 R2 Standard / x64 | OK | OK | OK | OK | |||||||||
| machv2 | macOS 10.14.6 Mojave / x86_64 | OK | OK | OK | OK | |||||||||
| Package: snm |
| Version: 1.40.0 |
| Command: C:\cygwin\bin\curl.exe -O http://155.52.207.165/BBS/3.13/bioc/src/contrib/snm_1.40.0.tar.gz && rm -rf snm.buildbin-libdir && mkdir snm.buildbin-libdir && C:\Users\biocbuild\bbs-3.13-bioc\R\bin\R.exe CMD INSTALL --merge-multiarch --build --library=snm.buildbin-libdir snm_1.40.0.tar.gz && C:\Users\biocbuild\bbs-3.13-bioc\R\bin\R.exe CMD INSTALL snm_1.40.0.zip && rm snm_1.40.0.tar.gz snm_1.40.0.zip |
| StartedAt: 2021-10-14 07:15:07 -0400 (Thu, 14 Oct 2021) |
| EndedAt: 2021-10-14 07:15:44 -0400 (Thu, 14 Oct 2021) |
| EllapsedTime: 36.8 seconds |
| RetCode: 0 |
| Status: OK |
##############################################################################
##############################################################################
###
### Running command:
###
### C:\cygwin\bin\curl.exe -O http://155.52.207.165/BBS/3.13/bioc/src/contrib/snm_1.40.0.tar.gz && rm -rf snm.buildbin-libdir && mkdir snm.buildbin-libdir && C:\Users\biocbuild\bbs-3.13-bioc\R\bin\R.exe CMD INSTALL --merge-multiarch --build --library=snm.buildbin-libdir snm_1.40.0.tar.gz && C:\Users\biocbuild\bbs-3.13-bioc\R\bin\R.exe CMD INSTALL snm_1.40.0.zip && rm snm_1.40.0.tar.gz snm_1.40.0.zip
###
##############################################################################
##############################################################################
% Total % Received % Xferd Average Speed Time Time Time Current
Dload Upload Total Spent Left Speed
0 0 0 0 0 0 0 0 --:--:-- --:--:-- --:--:-- 0
7 212k 7 16137 0 0 137k 0 0:00:01 --:--:-- 0:00:01 137k
100 212k 100 212k 0 0 938k 0 --:--:-- --:--:-- --:--:-- 936k
install for i386
* installing *source* package 'snm' ...
** using staged installation
** R
** inst
** byte-compile and prepare package for lazy loading
** help
*** installing help indices
converting help for package 'snm'
finding HTML links ... done
fitted.snm html
plot.snm html
sim.doubleChannel html
sim.preProcessed html
sim.refDesign html
sim.singleChannel html
snm-internal html
snm html
summary.snm html
** building package indices
** installing vignettes
** testing if installed package can be loaded from temporary location
** testing if installed package can be loaded from final location
** testing if installed package keeps a record of temporary installation path
install for x64
* installing *source* package 'snm' ...
** testing if installed package can be loaded
* MD5 sums
packaged installation of 'snm' as snm_1.40.0.zip
* DONE (snm)
* installing to library 'C:/Users/biocbuild/bbs-3.13-bioc/R/library'
package 'snm' successfully unpacked and MD5 sums checked