| Back to Multiple platform build/check report for BioC 3.13 |
|
This page was generated on 2021-10-15 15:06:23 -0400 (Fri, 15 Oct 2021).
|
To the developers/maintainers of the slingshot package: - Please allow up to 24 hours (and sometimes 48 hours) for your latest push to git@git.bioconductor.org:packages/slingshot.git to reflect on this report. See How and When does the builder pull? When will my changes propagate? here for more information. - Make sure to use the following settings in order to reproduce any error or warning you see on this page. |
| Package 1789/2041 | Hostname | OS / Arch | INSTALL | BUILD | CHECK | BUILD BIN | ||||||||
| slingshot 2.0.0 (landing page) Kelly Street
| nebbiolo1 | Linux (Ubuntu 20.04.2 LTS) / x86_64 | OK | OK | OK | |||||||||
| tokay2 | Windows Server 2012 R2 Standard / x64 | OK | OK | OK | OK | |||||||||
| machv2 | macOS 10.14.6 Mojave / x86_64 | OK | OK | OK | OK | |||||||||
| Package: slingshot |
| Version: 2.0.0 |
| Command: rm -rf slingshot.buildbin-libdir && mkdir slingshot.buildbin-libdir && C:\Users\biocbuild\bbs-3.13-bioc\R\bin\R.exe CMD INSTALL --merge-multiarch --build --library=slingshot.buildbin-libdir slingshot_2.0.0.tar.gz |
| StartedAt: 2021-10-15 11:52:34 -0400 (Fri, 15 Oct 2021) |
| EndedAt: 2021-10-15 11:53:57 -0400 (Fri, 15 Oct 2021) |
| EllapsedTime: 83.3 seconds |
| RetCode: 0 |
| Status: OK |
| PackageFile: slingshot_2.0.0.zip |
| PackageFileSize: 1.588 MiB |
##############################################################################
##############################################################################
###
### Running command:
###
### rm -rf slingshot.buildbin-libdir && mkdir slingshot.buildbin-libdir && C:\Users\biocbuild\bbs-3.13-bioc\R\bin\R.exe CMD INSTALL --merge-multiarch --build --library=slingshot.buildbin-libdir slingshot_2.0.0.tar.gz
###
##############################################################################
##############################################################################
install for i386
* installing *source* package 'slingshot' ...
** using staged installation
** R
** data
** inst
** byte-compile and prepare package for lazy loading
in method for 'slingshot' with signature 'data="ClusterExperiment"': no definition for class "ClusterExperiment"
** help
*** installing help indices
converting help for package 'slingshot'
finding HTML links ... done
SlingshotDataSet-class html
finding level-2 HTML links ... done
SlingshotDataSet html
as.PseudotimeOrdering html
as.SlingshotDataSet html
embedCurves html
getCurves html
getLineages html
newSlingshotDataSet html
pairs-SlingshotDataSet html
plot-SlingshotDataSet html
plot3d-SlingshotDataSet html
predict.SlingshotDataSet html
slingBranchGraph html
slingBranchID html
slingClusterLabels html
slingCurves html
slingLineages html
slingMST html
slingParams html
slingPseudotime html
slingReducedDim html
slingshot html
slingshotExample html
** building package indices
** installing vignettes
** testing if installed package can be loaded from temporary location
** testing if installed package can be loaded from final location
** testing if installed package keeps a record of temporary installation path
install for x64
* installing *source* package 'slingshot' ...
** testing if installed package can be loaded
* MD5 sums
packaged installation of 'slingshot' as slingshot_2.0.0.zip
* DONE (slingshot)