| Back to Multiple platform build/check report for BioC 3.13 |
|
This page was generated on 2021-10-15 15:06:23 -0400 (Fri, 15 Oct 2021).
|
To the developers/maintainers of the skewr package: - Please allow up to 24 hours (and sometimes 48 hours) for your latest push to git@git.bioconductor.org:packages/skewr.git to reflect on this report. See How and When does the builder pull? When will my changes propagate? here for more information. - Make sure to use the following settings in order to reproduce any error or warning you see on this page. |
| Package 1786/2041 | Hostname | OS / Arch | INSTALL | BUILD | CHECK | BUILD BIN | ||||||||
| skewr 1.24.0 (landing page) Ryan Putney
| nebbiolo1 | Linux (Ubuntu 20.04.2 LTS) / x86_64 | OK | OK | OK | |||||||||
| tokay2 | Windows Server 2012 R2 Standard / x64 | OK | OK | OK | OK | |||||||||
| machv2 | macOS 10.14.6 Mojave / x86_64 | OK | OK | OK | OK | |||||||||
| Package: skewr |
| Version: 1.24.0 |
| Command: rm -rf skewr.buildbin-libdir && mkdir skewr.buildbin-libdir && C:\Users\biocbuild\bbs-3.13-bioc\R\bin\R.exe CMD INSTALL --merge-multiarch --build --library=skewr.buildbin-libdir skewr_1.24.0.tar.gz |
| StartedAt: 2021-10-15 11:52:09 -0400 (Fri, 15 Oct 2021) |
| EndedAt: 2021-10-15 11:53:40 -0400 (Fri, 15 Oct 2021) |
| EllapsedTime: 90.8 seconds |
| RetCode: 0 |
| Status: OK |
| PackageFile: skewr_1.24.0.zip |
| PackageFileSize: 383 KiB |
##############################################################################
##############################################################################
###
### Running command:
###
### rm -rf skewr.buildbin-libdir && mkdir skewr.buildbin-libdir && C:\Users\biocbuild\bbs-3.13-bioc\R\bin\R.exe CMD INSTALL --merge-multiarch --build --library=skewr.buildbin-libdir skewr_1.24.0.tar.gz
###
##############################################################################
##############################################################################
install for i386
* installing *source* package 'skewr' ...
** using staged installation
** R
** inst
** byte-compile and prepare package for lazy loading
No methods found in package 'RSQLite' for request: 'dbListFields' when loading 'lumi'
** help
*** installing help indices
converting help for package 'skewr'
finding HTML links ... done
getBarcodes html
getMethyLumiSet html
getSNparams html
panelPlots html
preprocess html
subsetProbes html
** building package indices
** installing vignettes
** testing if installed package can be loaded from temporary location
No methods found in package 'RSQLite' for request: 'dbListFields' when loading 'lumi'
** testing if installed package can be loaded from final location
No methods found in package 'RSQLite' for request: 'dbListFields' when loading 'lumi'
** testing if installed package keeps a record of temporary installation path
install for x64
* installing *source* package 'skewr' ...
** testing if installed package can be loaded
No methods found in package 'RSQLite' for request: 'dbListFields' when loading 'lumi'
* MD5 sums
packaged installation of 'skewr' as skewr_1.24.0.zip
* DONE (skewr)