| Back to Multiple platform build/check report for BioC 3.13 |
|
This page was generated on 2021-10-15 15:06:53 -0400 (Fri, 15 Oct 2021).
|
To the developers/maintainers of the singleCellTK package: - Please allow up to 24 hours (and sometimes 48 hours) for your latest push to git@git.bioconductor.org:packages/singleCellTK.git to reflect on this report. See How and When does the builder pull? When will my changes propagate? here for more information. - Make sure to use the following settings in order to reproduce any error or warning you see on this page. |
| Package 1778/2041 | Hostname | OS / Arch | INSTALL | BUILD | CHECK | BUILD BIN | ||||||||
| singleCellTK 2.2.0 (landing page) Yusuke Koga
| nebbiolo1 | Linux (Ubuntu 20.04.2 LTS) / x86_64 | OK | OK | OK | |||||||||
| tokay2 | Windows Server 2012 R2 Standard / x64 | OK | OK | ERROR | OK | |||||||||
| machv2 | macOS 10.14.6 Mojave / x86_64 | OK | OK | OK | OK | |||||||||
| Package: singleCellTK |
| Version: 2.2.0 |
| Command: /Library/Frameworks/R.framework/Versions/Current/Resources/bin/R CMD check --install=check:singleCellTK.install-out.txt --library=/Library/Frameworks/R.framework/Versions/Current/Resources/library --no-vignettes --timings singleCellTK_2.2.0.tar.gz |
| StartedAt: 2021-10-15 00:05:20 -0400 (Fri, 15 Oct 2021) |
| EndedAt: 2021-10-15 00:18:16 -0400 (Fri, 15 Oct 2021) |
| EllapsedTime: 776.1 seconds |
| RetCode: 0 |
| Status: OK |
| CheckDir: singleCellTK.Rcheck |
| Warnings: 0 |
##############################################################################
##############################################################################
###
### Running command:
###
### /Library/Frameworks/R.framework/Versions/Current/Resources/bin/R CMD check --install=check:singleCellTK.install-out.txt --library=/Library/Frameworks/R.framework/Versions/Current/Resources/library --no-vignettes --timings singleCellTK_2.2.0.tar.gz
###
##############################################################################
##############################################################################
* using log directory ‘/Users/biocbuild/bbs-3.13-bioc/meat/singleCellTK.Rcheck’
* using R version 4.1.1 (2021-08-10)
* using platform: x86_64-apple-darwin17.0 (64-bit)
* using session charset: UTF-8
* using option ‘--no-vignettes’
* checking for file ‘singleCellTK/DESCRIPTION’ ... OK
* checking extension type ... Package
* this is package ‘singleCellTK’ version ‘2.2.0’
* package encoding: UTF-8
* checking package namespace information ... OK
* checking package dependencies ... OK
* checking if this is a source package ... OK
* checking if there is a namespace ... OK
* checking for hidden files and directories ... NOTE
Found the following hidden files and directories:
.git_fetch_output.txt
.git_merge_output.txt
These were most likely included in error. See section ‘Package
structure’ in the ‘Writing R Extensions’ manual.
* checking for portable file names ... OK
* checking for sufficient/correct file permissions ... OK
* checking whether package ‘singleCellTK’ can be installed ... OK
* checking installed package size ... OK
* checking package directory ... OK
* checking ‘build’ directory ... OK
* checking DESCRIPTION meta-information ... OK
* checking top-level files ... OK
* checking for left-over files ... OK
* checking index information ... OK
* checking package subdirectories ... OK
* checking R files for non-ASCII characters ... OK
* checking R files for syntax errors ... OK
* checking whether the package can be loaded ... OK
* checking whether the package can be loaded with stated dependencies ... OK
* checking whether the package can be unloaded cleanly ... OK
* checking whether the namespace can be loaded with stated dependencies ... OK
* checking whether the namespace can be unloaded cleanly ... OK
* checking dependencies in R code ... OK
* checking S3 generic/method consistency ... OK
* checking replacement functions ... OK
* checking foreign function calls ... OK
* checking R code for possible problems ... OK
* checking Rd files ... OK
* checking Rd metadata ... OK
* checking Rd cross-references ... OK
* checking for missing documentation entries ... OK
* checking for code/documentation mismatches ... OK
* checking Rd \usage sections ... OK
* checking Rd contents ... OK
* checking for unstated dependencies in examples ... OK
* checking contents of ‘data’ directory ... OK
* checking data for non-ASCII characters ... OK
* checking LazyData ... OK
* checking data for ASCII and uncompressed saves ... OK
* checking R/sysdata.rda ... OK
* checking files in ‘vignettes’ ... OK
* checking examples ... OK
Examples with CPU (user + system) or elapsed time > 5s
user system elapsed
plotDoubletFinderResults 25.111 0.213 25.379
importExampleData 19.486 1.374 22.445
plotScDblFinderResults 20.120 0.421 20.584
runDoubletFinder 17.581 0.103 17.732
runScDblFinder 14.186 0.241 14.465
plotDecontXResults 13.457 0.130 13.620
plotScdsHybridResults 10.400 0.091 10.496
plotBcdsResults 9.855 0.162 10.017
plotMarkerDiffExp 8.959 0.076 9.061
findMarkerDiffExp 8.808 0.171 8.988
plotEmptyDropsScatter 8.755 0.048 8.831
runEmptyDrops 8.550 0.048 8.628
plotEmptyDropsResults 8.562 0.020 8.595
runDESeq2 8.130 0.043 8.192
plotCxdsResults 7.182 0.058 7.242
runDecontX 6.344 0.044 6.406
runMAST 6.285 0.032 6.326
plotDEGViolin 5.919 0.073 5.997
plotUMAP 5.717 0.051 5.767
importGeneSetsFromMSigDB 5.459 0.306 5.769
plotDEGRegression 5.464 0.062 5.544
convertGeneIDs 4.844 0.459 5.307
* checking for unstated dependencies in ‘tests’ ... OK
* checking tests ...
Running ‘spelling.R’
Running ‘testthat.R’
OK
* checking for unstated dependencies in vignettes ... OK
* checking package vignettes in ‘inst/doc’ ... OK
* checking running R code from vignettes ... SKIPPED
* checking re-building of vignette outputs ... SKIPPED
* checking PDF version of manual ... OK
* DONE
Status: 1 NOTE
See
‘/Users/biocbuild/bbs-3.13-bioc/meat/singleCellTK.Rcheck/00check.log’
for details.
singleCellTK.Rcheck/00install.out
############################################################################## ############################################################################## ### ### Running command: ### ### /Library/Frameworks/R.framework/Versions/Current/Resources/bin/R CMD INSTALL singleCellTK ### ############################################################################## ############################################################################## * installing to library ‘/Library/Frameworks/R.framework/Versions/4.1/Resources/library’ * installing *source* package ‘singleCellTK’ ... ** using staged installation ** R ** data *** moving datasets to lazyload DB ** exec ** inst ** byte-compile and prepare package for lazy loading ** help *** installing help indices ** building package indices ** installing vignettes ** testing if installed package can be loaded from temporary location ** testing if installed package can be loaded from final location ** testing if installed package keeps a record of temporary installation path * DONE (singleCellTK)
singleCellTK.Rcheck/tests/spelling.Rout
R version 4.1.1 (2021-08-10) -- "Kick Things"
Copyright (C) 2021 The R Foundation for Statistical Computing
Platform: x86_64-apple-darwin17.0 (64-bit)
R is free software and comes with ABSOLUTELY NO WARRANTY.
You are welcome to redistribute it under certain conditions.
Type 'license()' or 'licence()' for distribution details.
R is a collaborative project with many contributors.
Type 'contributors()' for more information and
'citation()' on how to cite R or R packages in publications.
Type 'demo()' for some demos, 'help()' for on-line help, or
'help.start()' for an HTML browser interface to help.
Type 'q()' to quit R.
> if (requireNamespace('spelling', quietly = TRUE))
+ spelling::spell_check_test(vignettes = TRUE, error = FALSE, skip_on_cran = TRUE)
NULL
>
> proc.time()
user system elapsed
0.264 0.065 0.308
singleCellTK.Rcheck/tests/testthat.Rout
R version 4.1.1 (2021-08-10) -- "Kick Things"
Copyright (C) 2021 The R Foundation for Statistical Computing
Platform: x86_64-apple-darwin17.0 (64-bit)
R is free software and comes with ABSOLUTELY NO WARRANTY.
You are welcome to redistribute it under certain conditions.
Type 'license()' or 'licence()' for distribution details.
R is a collaborative project with many contributors.
Type 'contributors()' for more information and
'citation()' on how to cite R or R packages in publications.
Type 'demo()' for some demos, 'help()' for on-line help, or
'help.start()' for an HTML browser interface to help.
Type 'q()' to quit R.
> library(testthat)
> library(singleCellTK)
Loading required package: SummarizedExperiment
Loading required package: MatrixGenerics
Loading required package: matrixStats
Attaching package: 'MatrixGenerics'
The following objects are masked from 'package:matrixStats':
colAlls, colAnyNAs, colAnys, colAvgsPerRowSet, colCollapse,
colCounts, colCummaxs, colCummins, colCumprods, colCumsums,
colDiffs, colIQRDiffs, colIQRs, colLogSumExps, colMadDiffs,
colMads, colMaxs, colMeans2, colMedians, colMins, colOrderStats,
colProds, colQuantiles, colRanges, colRanks, colSdDiffs, colSds,
colSums2, colTabulates, colVarDiffs, colVars, colWeightedMads,
colWeightedMeans, colWeightedMedians, colWeightedSds,
colWeightedVars, rowAlls, rowAnyNAs, rowAnys, rowAvgsPerColSet,
rowCollapse, rowCounts, rowCummaxs, rowCummins, rowCumprods,
rowCumsums, rowDiffs, rowIQRDiffs, rowIQRs, rowLogSumExps,
rowMadDiffs, rowMads, rowMaxs, rowMeans2, rowMedians, rowMins,
rowOrderStats, rowProds, rowQuantiles, rowRanges, rowRanks,
rowSdDiffs, rowSds, rowSums2, rowTabulates, rowVarDiffs, rowVars,
rowWeightedMads, rowWeightedMeans, rowWeightedMedians,
rowWeightedSds, rowWeightedVars
Loading required package: GenomicRanges
Loading required package: stats4
Loading required package: BiocGenerics
Loading required package: parallel
Attaching package: 'BiocGenerics'
The following objects are masked from 'package:parallel':
clusterApply, clusterApplyLB, clusterCall, clusterEvalQ,
clusterExport, clusterMap, parApply, parCapply, parLapply,
parLapplyLB, parRapply, parSapply, parSapplyLB
The following objects are masked from 'package:stats':
IQR, mad, sd, var, xtabs
The following objects are masked from 'package:base':
Filter, Find, Map, Position, Reduce, anyDuplicated, append,
as.data.frame, basename, cbind, colnames, dirname, do.call,
duplicated, eval, evalq, get, grep, grepl, intersect, is.unsorted,
lapply, mapply, match, mget, order, paste, pmax, pmax.int, pmin,
pmin.int, rank, rbind, rownames, sapply, setdiff, sort, table,
tapply, union, unique, unsplit, which.max, which.min
Loading required package: S4Vectors
Attaching package: 'S4Vectors'
The following objects are masked from 'package:base':
I, expand.grid, unname
Loading required package: IRanges
Loading required package: GenomeInfoDb
Loading required package: Biobase
Welcome to Bioconductor
Vignettes contain introductory material; view with
'browseVignettes()'. To cite Bioconductor, see
'citation("Biobase")', and for packages 'citation("pkgname")'.
Attaching package: 'Biobase'
The following object is masked from 'package:MatrixGenerics':
rowMedians
The following objects are masked from 'package:matrixStats':
anyMissing, rowMedians
Loading required package: SingleCellExperiment
Loading required package: DelayedArray
Loading required package: Matrix
Attaching package: 'Matrix'
The following object is masked from 'package:S4Vectors':
expand
Attaching package: 'DelayedArray'
The following objects are masked from 'package:base':
aperm, apply, rowsum, scale, sweep
Attaching package: 'singleCellTK'
The following object is masked from 'package:BiocGenerics':
plotPCA
>
> test_check("singleCellTK")
[1] "Creating 65 artificial doublets..."
Performing log-normalization
0% 10 20 30 40 50 60 70 80 90 100%
[----|----|----|----|----|----|----|----|----|----|
**************************************************|
Calculating gene variances
0% 10 20 30 40 50 60 70 80 90 100%
[----|----|----|----|----|----|----|----|----|----|
**************************************************|
Calculating feature variances of standardized and clipped values
0% 10 20 30 40 50 60 70 80 90 100%
[----|----|----|----|----|----|----|----|----|----|
**************************************************|
|
| | 0%
|
|======================================================================| 100%
[00:17:02] WARNING: amalgamation/../src/learner.cc:1095: Starting in XGBoost 1.3.0, the default evaluation metric used with the objective 'binary:logistic' was changed from 'error' to 'logloss'. Explicitly set eval_metric if you'd like to restore the old behavior.
[00:17:04] WARNING: amalgamation/../src/learner.cc:1095: Starting in XGBoost 1.3.0, the default evaluation metric used with the objective 'binary:logistic' was changed from 'error' to 'logloss'. Explicitly set eval_metric if you'd like to restore the old behavior.
[00:17:26] WARNING: amalgamation/../src/learner.cc:1095: Starting in XGBoost 1.3.0, the default evaluation metric used with the objective 'binary:logistic' was changed from 'error' to 'logloss'. Explicitly set eval_metric if you'd like to restore the old behavior.
[ FAIL 0 | WARN 1 | SKIP 0 | PASS 44 ]
>
> proc.time()
user system elapsed
123.660 2.316 126.061
singleCellTK.Rcheck/singleCellTK-Ex.timings
| name | user | system | elapsed | |
| MitoGenes | 0.004 | 0.003 | 0.007 | |
| SEG | 0.003 | 0.003 | 0.006 | |
| calcEffectSizes | 0.260 | 0.005 | 0.265 | |
| combineSCE | 3.895 | 0.120 | 4.017 | |
| computeZScore | 0.546 | 0.019 | 0.567 | |
| convertGeneIDs | 4.844 | 0.459 | 5.307 | |
| convertSCEToSeurat | 3.377 | 0.142 | 3.522 | |
| convertSeuratToSCE | 1.002 | 0.006 | 1.009 | |
| dedupRowNames | 0.078 | 0.000 | 0.079 | |
| diffAbundanceFET | 0.057 | 0.001 | 0.058 | |
| discreteColorPalette | 0.011 | 0.001 | 0.013 | |
| distinctColors | 0.003 | 0.000 | 0.003 | |
| downSampleCells | 1.987 | 0.064 | 2.051 | |
| downSampleDepth | 0.862 | 0.039 | 0.901 | |
| enrichRSCE | 0.622 | 0.023 | 2.146 | |
| exportSCE | 0.001 | 0.001 | 0.003 | |
| exportSCEtoAnnData | 0.187 | 0.003 | 0.191 | |
| exportSCEtoFlatFile | 0.229 | 0.009 | 0.237 | |
| featureIndex | 0.048 | 0.004 | 0.052 | |
| findMarkerDiffExp | 8.808 | 0.171 | 8.988 | |
| generateMeta | 0.077 | 0.013 | 0.091 | |
| generateSimulatedData | 0.063 | 0.004 | 0.067 | |
| getBiomarker | 0.054 | 0.001 | 0.055 | |
| getMSigDBTable | 0.004 | 0.002 | 0.007 | |
| getTSNE | 0.774 | 0.012 | 0.787 | |
| getTopHVG | 0.457 | 0.006 | 0.463 | |
| getUMAP | 4.398 | 0.064 | 4.464 | |
| importAnnData | 0.000 | 0.000 | 0.001 | |
| importBUStools | 0.572 | 0.003 | 0.577 | |
| importCellRanger | 1.797 | 0.039 | 1.837 | |
| importCellRangerV2Sample | 0.451 | 0.002 | 0.453 | |
| importCellRangerV3Sample | 0.629 | 0.010 | 0.640 | |
| importDropEst | 0.542 | 0.004 | 0.548 | |
| importExampleData | 19.486 | 1.374 | 22.445 | |
| importGeneSetsFromCollection | 1.248 | 0.086 | 1.335 | |
| importGeneSetsFromGMT | 0.084 | 0.005 | 0.090 | |
| importGeneSetsFromList | 0.267 | 0.003 | 0.271 | |
| importGeneSetsFromMSigDB | 5.459 | 0.306 | 5.769 | |
| importMitoGeneSet | 0.099 | 0.006 | 0.105 | |
| importOptimus | 0.001 | 0.000 | 0.002 | |
| importSEQC | 0.467 | 0.002 | 0.471 | |
| importSTARsolo | 0.487 | 0.003 | 0.490 | |
| iterateSimulations | 0.918 | 0.007 | 0.927 | |
| mergeSCEColData | 0.856 | 0.014 | 0.897 | |
| mouseBrainSubsetSCE | 0.001 | 0.002 | 0.003 | |
| msigdb_table | 0.002 | 0.003 | 0.005 | |
| plotBarcodeRankDropsResults | 1.681 | 0.020 | 1.705 | |
| plotBarcodeRankScatter | 1.397 | 0.006 | 1.405 | |
| plotBatchVariance | 0.500 | 0.007 | 0.508 | |
| plotBcdsResults | 9.855 | 0.162 | 10.017 | |
| plotBiomarker | 0.931 | 0.005 | 0.936 | |
| plotClusterAbundance | 0.916 | 0.006 | 0.924 | |
| plotCxdsResults | 7.182 | 0.058 | 7.242 | |
| plotDEGHeatmap | 4.839 | 0.091 | 4.935 | |
| plotDEGRegression | 5.464 | 0.062 | 5.544 | |
| plotDEGViolin | 5.919 | 0.073 | 5.997 | |
| plotDecontXResults | 13.457 | 0.130 | 13.620 | |
| plotDimRed | 0.595 | 0.033 | 0.630 | |
| plotDoubletFinderResults | 25.111 | 0.213 | 25.379 | |
| plotEmptyDropsResults | 8.562 | 0.020 | 8.595 | |
| plotEmptyDropsScatter | 8.755 | 0.048 | 8.831 | |
| plotMASTThresholdGenes | 3.220 | 0.032 | 3.255 | |
| plotMarkerDiffExp | 8.959 | 0.076 | 9.061 | |
| plotPCA | 1.231 | 0.010 | 1.242 | |
| plotRunPerCellQCResults | 0.002 | 0.001 | 0.003 | |
| plotSCEBarAssayData | 0.162 | 0.001 | 0.164 | |
| plotSCEBarColData | 0.118 | 0.001 | 0.119 | |
| plotSCEBatchFeatureMean | 0.283 | 0.002 | 0.287 | |
| plotSCEDensity | 0.322 | 0.002 | 0.324 | |
| plotSCEDensityAssayData | 0.195 | 0.001 | 0.197 | |
| plotSCEDensityColData | 0.329 | 0.002 | 0.331 | |
| plotSCEDimReduceColData | 1.194 | 0.006 | 1.201 | |
| plotSCEDimReduceFeatures | 0.719 | 0.003 | 0.723 | |
| plotSCEHeatmap | 1.090 | 0.006 | 1.099 | |
| plotSCEScatter | 0.763 | 0.012 | 0.780 | |
| plotSCEViolin | 0.307 | 0.006 | 0.316 | |
| plotSCEViolinAssayData | 0.333 | 0.005 | 0.342 | |
| plotSCEViolinColData | 0.307 | 0.006 | 0.315 | |
| plotScDblFinderResults | 20.120 | 0.421 | 20.584 | |
| plotScdsHybridResults | 10.400 | 0.091 | 10.496 | |
| plotScrubletResults | 0.002 | 0.001 | 0.002 | |
| plotTSNE | 1.246 | 0.027 | 1.275 | |
| plotTopHVG | 0.744 | 0.014 | 0.771 | |
| plotUMAP | 5.717 | 0.051 | 5.767 | |
| readSingleCellMatrix | 0.006 | 0.000 | 0.007 | |
| reportCellQC | 0.364 | 0.006 | 0.373 | |
| reportDropletQC | 0.001 | 0.001 | 0.002 | |
| reportQCTool | 0.399 | 0.007 | 0.409 | |
| retrieveSCEIndex | 0.025 | 0.001 | 0.027 | |
| runANOVA | 1.948 | 0.022 | 1.977 | |
| runBBKNN | 0 | 0 | 0 | |
| runBarcodeRankDrops | 1.139 | 0.005 | 1.145 | |
| runBcds | 3.619 | 0.033 | 3.655 | |
| runCellQC | 0.325 | 0.002 | 0.327 | |
| runComBatSeq | 0.776 | 0.010 | 0.787 | |
| runCxds | 1.018 | 0.004 | 1.024 | |
| runCxdsBcdsHybrid | 3.412 | 0.040 | 3.461 | |
| runDEAnalysis | 1.710 | 0.038 | 1.761 | |
| runDESeq2 | 8.130 | 0.043 | 8.192 | |
| runDecontX | 6.344 | 0.044 | 6.406 | |
| runDimensionalityReduction | 1.373 | 0.006 | 1.379 | |
| runDoubletFinder | 17.581 | 0.103 | 17.732 | |
| runDropletQC | 0.002 | 0.000 | 0.002 | |
| runEmptyDrops | 8.550 | 0.048 | 8.628 | |
| runFastMNN | 2.825 | 0.018 | 2.845 | |
| runFeatureSelection | 0.351 | 0.003 | 0.356 | |
| runKMeans | 1.020 | 0.013 | 1.037 | |
| runLimmaBC | 0.179 | 0.003 | 0.183 | |
| runLimmaDE | 1.609 | 0.015 | 1.628 | |
| runMAST | 6.285 | 0.032 | 6.326 | |
| runMNNCorrect | 1.348 | 0.006 | 1.355 | |
| runNormalization | 2.010 | 0.026 | 2.041 | |
| runPerCellQC | 0.705 | 0.003 | 0.707 | |
| runSCANORAMA | 0.000 | 0.001 | 0.001 | |
| runSCMerge | 0.002 | 0.001 | 0.003 | |
| runScDblFinder | 14.186 | 0.241 | 14.465 | |
| runScranSNN | 1.036 | 0.009 | 1.045 | |
| runScrublet | 0.003 | 0.001 | 0.004 | |
| runSingleR | 0.096 | 0.003 | 0.099 | |
| runWilcox | 1.866 | 0.008 | 1.874 | |
| runZINBWaVE | 0.002 | 0.001 | 0.003 | |
| sampleSummaryStats | 0.665 | 0.003 | 0.668 | |
| scaterCPM | 0.310 | 0.009 | 0.318 | |
| scaterPCA | 1.388 | 0.010 | 1.399 | |
| scaterlogNormCounts | 1.444 | 0.021 | 1.469 | |
| sce | 0.001 | 0.002 | 0.004 | |
| scranModelGeneVar | 0.397 | 0.010 | 0.408 | |
| sctkListGeneSetCollections | 0.308 | 0.008 | 0.315 | |
| sctkPythonInstallConda | 0.001 | 0.000 | 0.000 | |
| sctkPythonInstallVirtualEnv | 0.000 | 0.001 | 0.000 | |
| selectSCTKConda | 0.000 | 0.000 | 0.001 | |
| selectSCTKVirtualEnvironment | 0.000 | 0.000 | 0.001 | |
| setSCTKDisplayRow | 0.950 | 0.028 | 0.982 | |
| seuratComputeHeatmap | 0.003 | 0.001 | 0.003 | |
| seuratComputeJackStraw | 0.002 | 0.001 | 0.003 | |
| seuratElbowPlot | 0.002 | 0.001 | 0.003 | |
| seuratFindClusters | 0.002 | 0.001 | 0.003 | |
| seuratFindHVG | 0.002 | 0.000 | 0.003 | |
| seuratICA | 0.002 | 0.001 | 0.003 | |
| seuratJackStrawPlot | 0.002 | 0.001 | 0.003 | |
| seuratNormalizeData | 0.002 | 0.001 | 0.003 | |
| seuratPCA | 0.002 | 0.001 | 0.003 | |
| seuratPlotHVG | 0.003 | 0.000 | 0.003 | |
| seuratReductionPlot | 0.002 | 0.001 | 0.003 | |
| seuratRunUMAP | 0.002 | 0.001 | 0.002 | |
| seuratSCTransform | 4.329 | 0.037 | 4.369 | |
| seuratScaleData | 0.002 | 0.001 | 0.003 | |
| singleCellTK | 0.000 | 0.001 | 0.001 | |
| subDiffEx | 1.308 | 0.012 | 1.321 | |
| subsetSCECols | 0.442 | 0.004 | 0.447 | |
| subsetSCERows | 1.146 | 0.013 | 1.160 | |
| summarizeSCE | 0.112 | 0.003 | 0.115 | |
| trimCounts | 0.508 | 0.020 | 0.529 | |
| visPlot | 1.211 | 0.005 | 1.217 | |