| Back to Multiple platform build/check report for BioC 3.13 | 
  | 
This page was generated on 2021-10-15 15:06:22 -0400 (Fri, 15 Oct 2021).
| 
To the developers/maintainers of the sigsquared package: - Please allow up to 24 hours (and sometimes 48 hours) for your latest push to git@git.bioconductor.org:packages/sigsquared.git to reflect on this report. See How and When does the builder pull? When will my changes propagate? here for more information. - Make sure to use the following settings in order to reproduce any error or warning you see on this page.  | 
| Package 1765/2041 | Hostname | OS / Arch | INSTALL | BUILD | CHECK | BUILD BIN | ||||||||
| sigsquared 1.24.0  (landing page) UnJin Lee 
  | nebbiolo1 | Linux (Ubuntu 20.04.2 LTS) / x86_64 | OK | OK | OK | |||||||||
| tokay2 | Windows Server 2012 R2 Standard / x64 | OK | OK | OK | OK | |||||||||
| machv2 | macOS 10.14.6 Mojave / x86_64 | OK | OK | OK | OK | |||||||||
| Package: sigsquared | 
| Version: 1.24.0 | 
| Command: C:\cygwin\bin\curl.exe -O http://155.52.207.165/BBS/3.13/bioc/src/contrib/sigsquared_1.24.0.tar.gz && rm -rf sigsquared.buildbin-libdir && mkdir sigsquared.buildbin-libdir && C:\Users\biocbuild\bbs-3.13-bioc\R\bin\R.exe CMD INSTALL --merge-multiarch --build --library=sigsquared.buildbin-libdir sigsquared_1.24.0.tar.gz && C:\Users\biocbuild\bbs-3.13-bioc\R\bin\R.exe CMD INSTALL sigsquared_1.24.0.zip && rm sigsquared_1.24.0.tar.gz sigsquared_1.24.0.zip | 
| StartedAt: 2021-10-14 07:39:20 -0400 (Thu, 14 Oct 2021) | 
| EndedAt: 2021-10-14 07:40:36 -0400 (Thu, 14 Oct 2021) | 
| EllapsedTime: 76.1 seconds | 
| RetCode: 0 | 
| Status: OK | 
##############################################################################
##############################################################################
###
### Running command:
###
###   C:\cygwin\bin\curl.exe -O http://155.52.207.165/BBS/3.13/bioc/src/contrib/sigsquared_1.24.0.tar.gz && rm -rf sigsquared.buildbin-libdir && mkdir sigsquared.buildbin-libdir && C:\Users\biocbuild\bbs-3.13-bioc\R\bin\R.exe CMD INSTALL --merge-multiarch --build --library=sigsquared.buildbin-libdir sigsquared_1.24.0.tar.gz && C:\Users\biocbuild\bbs-3.13-bioc\R\bin\R.exe CMD INSTALL sigsquared_1.24.0.zip && rm sigsquared_1.24.0.tar.gz sigsquared_1.24.0.zip
###
##############################################################################
##############################################################################
  % Total    % Received % Xferd  Average Speed   Time    Time     Time  Current
                                 Dload  Upload   Total   Spent    Left  Speed
  0     0    0     0    0     0      0      0 --:--:-- --:--:-- --:--:--     0
100  149k  100  149k    0     0   751k      0 --:--:-- --:--:-- --:--:--  756k
install for i386
* installing *source* package 'sigsquared' ...
** using staged installation
** R
** data
** inst
** byte-compile and prepare package for lazy loading
in method for 'ensembleCostFcn' with signature 'dataSet="ExpressionSet",geneSig="geneSignature",jpdf="solnSpace"': no definition for class "solnSpace"
in method for 'getCVCuts' with signature 'cutoffResults="solnSpace"': no definition for class "solnSpace"
in method for 'summarizeCVCuts' with signature 'cutoffResults="solnSpace"': no definition for class "solnSpace"
** help
*** installing help indices
  converting help for package 'sigsquared'
    finding HTML links ... done
    BrCa443                                 html  
    analysisPipeline                        html  
    ensembleAdjustable                      html  
    geneSignature-class                     html  
    setGeneSignature                        html  
    sigsquared                              html  
** building package indices
** installing vignettes
** testing if installed package can be loaded from temporary location
** testing if installed package can be loaded from final location
** testing if installed package keeps a record of temporary installation path
install for x64
* installing *source* package 'sigsquared' ...
** testing if installed package can be loaded
* MD5 sums
packaged installation of 'sigsquared' as sigsquared_1.24.0.zip
* DONE (sigsquared)
* installing to library 'C:/Users/biocbuild/bbs-3.13-bioc/R/library'
package 'sigsquared' successfully unpacked and MD5 sums checked