| Back to Multiple platform build/check report for BioC 3.13 |
|
This page was generated on 2021-10-15 15:06:22 -0400 (Fri, 15 Oct 2021).
|
To the developers/maintainers of the sights package: - Please allow up to 24 hours (and sometimes 48 hours) for your latest push to git@git.bioconductor.org:packages/sights.git to reflect on this report. See How and When does the builder pull? When will my changes propagate? here for more information. - Make sure to use the following settings in order to reproduce any error or warning you see on this page. |
| Package 1760/2041 | Hostname | OS / Arch | INSTALL | BUILD | CHECK | BUILD BIN | ||||||||
| sights 1.18.0 (landing page) Elika Garg
| nebbiolo1 | Linux (Ubuntu 20.04.2 LTS) / x86_64 | OK | OK | OK | |||||||||
| tokay2 | Windows Server 2012 R2 Standard / x64 | OK | OK | OK | OK | |||||||||
| machv2 | macOS 10.14.6 Mojave / x86_64 | OK | OK | OK | OK | |||||||||
| Package: sights |
| Version: 1.18.0 |
| Command: C:\cygwin\bin\curl.exe -O http://155.52.207.165/BBS/3.13/bioc/src/contrib/sights_1.18.0.tar.gz && rm -rf sights.buildbin-libdir && mkdir sights.buildbin-libdir && C:\Users\biocbuild\bbs-3.13-bioc\R\bin\R.exe CMD INSTALL --merge-multiarch --build --library=sights.buildbin-libdir sights_1.18.0.tar.gz && C:\Users\biocbuild\bbs-3.13-bioc\R\bin\R.exe CMD INSTALL sights_1.18.0.zip && rm sights_1.18.0.tar.gz sights_1.18.0.zip |
| StartedAt: 2021-10-14 08:22:03 -0400 (Thu, 14 Oct 2021) |
| EndedAt: 2021-10-14 08:22:58 -0400 (Thu, 14 Oct 2021) |
| EllapsedTime: 54.6 seconds |
| RetCode: 0 |
| Status: OK |
##############################################################################
##############################################################################
###
### Running command:
###
### C:\cygwin\bin\curl.exe -O http://155.52.207.165/BBS/3.13/bioc/src/contrib/sights_1.18.0.tar.gz && rm -rf sights.buildbin-libdir && mkdir sights.buildbin-libdir && C:\Users\biocbuild\bbs-3.13-bioc\R\bin\R.exe CMD INSTALL --merge-multiarch --build --library=sights.buildbin-libdir sights_1.18.0.tar.gz && C:\Users\biocbuild\bbs-3.13-bioc\R\bin\R.exe CMD INSTALL sights_1.18.0.zip && rm sights_1.18.0.tar.gz sights_1.18.0.zip
###
##############################################################################
##############################################################################
% Total % Received % Xferd Average Speed Time Time Time Current
Dload Upload Total Spent Left Speed
0 0 0 0 0 0 0 0 --:--:-- --:--:-- --:--:-- 0
16 2442k 16 391k 0 0 904k 0 0:00:02 --:--:-- 0:00:02 904k
82 2442k 82 2017k 0 0 1438k 0 0:00:01 0:00:01 --:--:-- 1438k
100 2442k 100 2442k 0 0 1539k 0 0:00:01 0:00:01 --:--:-- 1539k
install for i386
* installing *source* package 'sights' ...
** using staged installation
** R
** data
*** moving datasets to lazyload DB
** inst
** byte-compile and prepare package for lazy loading
** help
*** installing help indices
converting help for package 'sights'
finding HTML links ... done
ex_dataMatrix html
inglese html
normLoess html
normMedFil html
normR html
normRobZ html
normSPAWN html
normSights html
normZ html
plot3d html
plotAutoco html
plotBox html
plotHeatmap html
plotHist html
plotIGFit html
plotScatter html
plotSights html
statFDR html
statRVM html
statSights html
statT html
** building package indices
** installing vignettes
** testing if installed package can be loaded from temporary location
** testing if installed package can be loaded from final location
** testing if installed package keeps a record of temporary installation path
install for x64
* installing *source* package 'sights' ...
** testing if installed package can be loaded
* MD5 sums
packaged installation of 'sights' as sights_1.18.0.zip
* DONE (sights)
* installing to library 'C:/Users/biocbuild/bbs-3.13-bioc/R/library'
package 'sights' successfully unpacked and MD5 sums checked