| Back to Multiple platform build/check report for BioC 3.13 |
|
This page was generated on 2021-10-15 15:06:22 -0400 (Fri, 15 Oct 2021).
|
To the developers/maintainers of the siggenes package: - Please allow up to 24 hours (and sometimes 48 hours) for your latest push to git@git.bioconductor.org:packages/siggenes.git to reflect on this report. See How and When does the builder pull? When will my changes propagate? here for more information. - Make sure to use the following settings in order to reproduce any error or warning you see on this page. |
| Package 1759/2041 | Hostname | OS / Arch | INSTALL | BUILD | CHECK | BUILD BIN | ||||||||
| siggenes 1.66.0 (landing page) Holger Schwender
| nebbiolo1 | Linux (Ubuntu 20.04.2 LTS) / x86_64 | OK | OK | OK | |||||||||
| tokay2 | Windows Server 2012 R2 Standard / x64 | OK | OK | OK | OK | |||||||||
| machv2 | macOS 10.14.6 Mojave / x86_64 | OK | OK | OK | OK | |||||||||
| Package: siggenes |
| Version: 1.66.0 |
| Command: rm -rf siggenes.buildbin-libdir && mkdir siggenes.buildbin-libdir && C:\Users\biocbuild\bbs-3.13-bioc\R\bin\R.exe CMD INSTALL --merge-multiarch --build --library=siggenes.buildbin-libdir siggenes_1.66.0.tar.gz |
| StartedAt: 2021-10-15 11:48:09 -0400 (Fri, 15 Oct 2021) |
| EndedAt: 2021-10-15 11:49:33 -0400 (Fri, 15 Oct 2021) |
| EllapsedTime: 84.3 seconds |
| RetCode: 0 |
| Status: OK |
| PackageFile: siggenes_1.66.0.zip |
| PackageFileSize: 1.182 MiB |
##############################################################################
##############################################################################
###
### Running command:
###
### rm -rf siggenes.buildbin-libdir && mkdir siggenes.buildbin-libdir && C:\Users\biocbuild\bbs-3.13-bioc\R\bin\R.exe CMD INSTALL --merge-multiarch --build --library=siggenes.buildbin-libdir siggenes_1.66.0.tar.gz
###
##############################################################################
##############################################################################
install for i386
* installing *source* package 'siggenes' ...
** using staged installation
** R
** inst
** byte-compile and prepare package for lazy loading
** help
*** installing help indices
converting help for package 'siggenes'
finding HTML links ... done
EBAM-class html
FindA0-class html
SAM-class html
chisq.ebam html
chisq.stat html
d.stat html
delta.plot html
denspr html
ebam html
REDIRECT:topic Previous alias or file overwritten by alias: C:/Users/biocbuild/bbs-3.13-bioc/meat/siggenes.buildbin-libdir/00LOCK-siggenes/00new/siggenes/help/ebam.html
ebamControl html
find.a0 html
findDelta html
fudge2 html
fuzzy.ebam html
help.ebam html
help.finda0 html
help.sam html
limma2sam html
link.genes html
link.siggenes html
list.siggenes html
md.plot html
nclass.wand html
pi0.est html
plotArguments html
plotFindArguments html
qvalue.cal html
rowWilcoxon html
sam html
REDIRECT:topic Previous alias or file overwritten by alias: C:/Users/biocbuild/bbs-3.13-bioc/meat/siggenes.buildbin-libdir/00LOCK-siggenes/00new/siggenes/help/sam.html
sam.plot2 html
samControl html
siggenes-internal html
siggenes2excel html
siggenes2html html
sumSAM-class html
trend.ebam html
trend.stat html
wilc.ebam html
wilc.stat html
z.ebam html
** building package indices
** installing vignettes
** testing if installed package can be loaded from temporary location
** testing if installed package can be loaded from final location
** testing if installed package keeps a record of temporary installation path
install for x64
* installing *source* package 'siggenes' ...
** testing if installed package can be loaded
* MD5 sums
packaged installation of 'siggenes' as siggenes_1.66.0.zip
* DONE (siggenes)