| Back to Multiple platform build/check report for BioC 3.13 |
|
This page was generated on 2021-10-15 15:05:52 -0400 (Fri, 15 Oct 2021).
|
To the developers/maintainers of the sevenbridges package: - Please allow up to 24 hours (and sometimes 48 hours) for your latest push to git@git.bioconductor.org:packages/sevenbridges.git to reflect on this report. See How and When does the builder pull? When will my changes propagate? here for more information. - Make sure to use the following settings in order to reproduce any error or warning you see on this page. |
| Package 1747/2041 | Hostname | OS / Arch | INSTALL | BUILD | CHECK | BUILD BIN | ||||||||
| sevenbridges 1.22.0 (landing page) Soner Koc
| nebbiolo1 | Linux (Ubuntu 20.04.2 LTS) / x86_64 | OK | OK | OK | |||||||||
| tokay2 | Windows Server 2012 R2 Standard / x64 | OK | OK | OK | OK | |||||||||
| machv2 | macOS 10.14.6 Mojave / x86_64 | OK | OK | OK | OK | |||||||||
| Package: sevenbridges |
| Version: 1.22.0 |
| Command: /home/biocbuild/bbs-3.13-bioc/R/bin/R CMD check --install=check:sevenbridges.install-out.txt --library=/home/biocbuild/bbs-3.13-bioc/R/library --no-vignettes --timings sevenbridges_1.22.0.tar.gz |
| StartedAt: 2021-10-14 11:36:15 -0400 (Thu, 14 Oct 2021) |
| EndedAt: 2021-10-14 11:38:28 -0400 (Thu, 14 Oct 2021) |
| EllapsedTime: 133.0 seconds |
| RetCode: 0 |
| Status: OK |
| CheckDir: sevenbridges.Rcheck |
| Warnings: 0 |
##############################################################################
##############################################################################
###
### Running command:
###
### /home/biocbuild/bbs-3.13-bioc/R/bin/R CMD check --install=check:sevenbridges.install-out.txt --library=/home/biocbuild/bbs-3.13-bioc/R/library --no-vignettes --timings sevenbridges_1.22.0.tar.gz
###
##############################################################################
##############################################################################
* using log directory ‘/home/biocbuild/bbs-3.13-bioc/meat/sevenbridges.Rcheck’
* using R version 4.1.1 (2021-08-10)
* using platform: x86_64-pc-linux-gnu (64-bit)
* using session charset: UTF-8
* using option ‘--no-vignettes’
* checking for file ‘sevenbridges/DESCRIPTION’ ... OK
* checking extension type ... Package
* this is package ‘sevenbridges’ version ‘1.22.0’
* package encoding: UTF-8
* checking package namespace information ... OK
* checking package dependencies ... OK
* checking if this is a source package ... OK
* checking if there is a namespace ... OK
* checking for hidden files and directories ... OK
* checking for portable file names ... OK
* checking for sufficient/correct file permissions ... OK
* checking whether package ‘sevenbridges’ can be installed ... OK
* checking installed package size ... OK
* checking package directory ... OK
* checking ‘build’ directory ... OK
* checking DESCRIPTION meta-information ... OK
* checking top-level files ... OK
* checking for left-over files ... OK
* checking index information ... OK
* checking package subdirectories ... OK
* checking R files for non-ASCII characters ... OK
* checking R files for syntax errors ... OK
* checking whether the package can be loaded ... OK
* checking whether the package can be loaded with stated dependencies ... OK
* checking whether the package can be unloaded cleanly ... OK
* checking whether the namespace can be loaded with stated dependencies ... OK
* checking whether the namespace can be unloaded cleanly ... OK
* checking dependencies in R code ... OK
* checking S3 generic/method consistency ... OK
* checking replacement functions ... OK
* checking foreign function calls ... OK
* checking R code for possible problems ... OK
* checking Rd files ... OK
* checking Rd metadata ... OK
* checking Rd cross-references ... OK
* checking for missing documentation entries ... OK
* checking for code/documentation mismatches ... OK
* checking Rd \usage sections ... OK
* checking Rd contents ... OK
* checking for unstated dependencies in examples ... OK
* checking files in ‘vignettes’ ... OK
* checking examples ... OK
Examples with CPU (user + system) or elapsed time > 5s
user system elapsed
Flow 40.981 0.067 41.052
Tool-class 11.084 0.284 11.370
link_what 7.007 0.008 7.016
link 6.002 0.000 6.002
* checking for unstated dependencies in ‘tests’ ... OK
* checking tests ...
Running ‘testthat.R’
OK
* checking for unstated dependencies in vignettes ... OK
* checking package vignettes in ‘inst/doc’ ... OK
* checking running R code from vignettes ... SKIPPED
* checking re-building of vignette outputs ... SKIPPED
* checking PDF version of manual ... OK
* DONE
Status: OK
sevenbridges.Rcheck/00install.out
############################################################################## ############################################################################## ### ### Running command: ### ### /home/biocbuild/bbs-3.13-bioc/R/bin/R CMD INSTALL sevenbridges ### ############################################################################## ############################################################################## * installing to library ‘/home/biocbuild/bbs-3.13-bioc/R/library’ * installing *source* package ‘sevenbridges’ ... ** using staged installation ** R ** inst ** byte-compile and prepare package for lazy loading ** help *** installing help indices ** building package indices ** installing vignettes ** testing if installed package can be loaded from temporary location ** testing if installed package can be loaded from final location ** testing if installed package keeps a record of temporary installation path * DONE (sevenbridges)
sevenbridges.Rcheck/tests/testthat.Rout
R version 4.1.1 (2021-08-10) -- "Kick Things"
Copyright (C) 2021 The R Foundation for Statistical Computing
Platform: x86_64-pc-linux-gnu (64-bit)
R is free software and comes with ABSOLUTELY NO WARRANTY.
You are welcome to redistribute it under certain conditions.
Type 'license()' or 'licence()' for distribution details.
R is a collaborative project with many contributors.
Type 'contributors()' for more information and
'citation()' on how to cite R or R packages in publications.
Type 'demo()' for some demos, 'help()' for on-line help, or
'help.start()' for an HTML browser interface to help.
Type 'q()' to quit R.
> library("testthat")
> library("sevenbridges")
> test_check("sevenbridges")
[ FAIL 0 | WARN 0 | SKIP 0 | PASS 0 ]
>
> proc.time()
user system elapsed
2.471 0.297 2.757
sevenbridges.Rcheck/sevenbridges-Ex.timings
| name | user | system | elapsed | |
| App-class | 0.000 | 0.000 | 0.001 | |
| Auth-class | 0.008 | 0.000 | 0.008 | |
| Binding | 0.039 | 0.000 | 0.039 | |
| CCBList | 0.013 | 0.000 | 0.014 | |
| CWL | 0.001 | 0.000 | 0.002 | |
| CommandInputParameter-class | 0.033 | 0.003 | 0.037 | |
| CommandInputSchema-class | 0.014 | 0.001 | 0.014 | |
| CommandLineBinding-class | 0.005 | 0.000 | 0.005 | |
| CommandLineTool | 0.012 | 0.000 | 0.011 | |
| CommandOutputBinding-class | 0.006 | 0.000 | 0.006 | |
| CommandOutputParameter-class | 0.007 | 0.004 | 0.011 | |
| CommandOutputSchema-class | 0.009 | 0.000 | 0.009 | |
| DSCList | 0.015 | 0.000 | 0.015 | |
| Enum | 0.028 | 0.000 | 0.028 | |
| Expression-class | 0.006 | 0.000 | 0.007 | |
| ExpressionTool-class | 0.011 | 0.004 | 0.016 | |
| File-class | 0.054 | 0.000 | 0.055 | |
| Files-class | 0.007 | 0.000 | 0.006 | |
| Flow | 40.981 | 0.067 | 41.052 | |
| Metadata | 0.076 | 0.000 | 0.077 | |
| Parameter | 0.026 | 0.000 | 0.027 | |
| Process | 0.040 | 0.004 | 0.044 | |
| ProcessRequirement | 0.043 | 0.000 | 0.044 | |
| Schema | 0.013 | 0.000 | 0.013 | |
| TaskHook | 0.001 | 0.000 | 0.002 | |
| Tool-class | 11.084 | 0.284 | 11.370 | |
| Workflow | 0.031 | 0.000 | 0.031 | |
| WorkflowStep | 0.005 | 0.000 | 0.004 | |
| addIdNum | 0.001 | 0.000 | 0.000 | |
| api | 0 | 0 | 0 | |
| as-methods | 0.093 | 0.008 | 0.101 | |
| batch | 0.000 | 0.001 | 0.001 | |
| cli_list_projects | 0.000 | 0.001 | 0.000 | |
| cli_list_tags | 0.000 | 0.001 | 0.000 | |
| cli_upload | 0.000 | 0.001 | 0.000 | |
| convert_app | 4.842 | 0.053 | 4.896 | |
| cwl-utils | 0.088 | 0.000 | 0.089 | |
| delete-methods | 0.000 | 0.000 | 0.001 | |
| download-methods | 0 | 0 | 0 | |
| get_token | 0 | 0 | 0 | |
| get_uploader | 0 | 0 | 0 | |
| input_output_matrix | 0.063 | 0.008 | 0.071 | |
| link | 6.002 | 0.000 | 6.002 | |
| link_what | 7.007 | 0.008 | 7.016 | |
| project_details | 0.001 | 0.000 | 0.001 | |
| project_members | 0 | 0 | 0 | |
| requirements | 0.043 | 0.000 | 0.043 | |
| response-methods | 0 | 0 | 0 | |
| sbg_get_env | 0 | 0 | 0 | |
| sbg_set_env | 0 | 0 | 0 | |
| set_test_env | 0.001 | 0.000 | 0.001 | |
| shorthand-cwl | 0.014 | 0.004 | 0.018 | |
| tag-methods | 0 | 0 | 0 | |
| test_tool_bunny | 0 | 0 | 0 | |
| test_tool_cwlrun | 0 | 0 | 0 | |
| test_tool_rabix | 0 | 0 | 0 | |
| upload_complete_all | 0.000 | 0.001 | 0.000 | |
| upload_complete_part | 0 | 0 | 0 | |
| upload_delete | 0.000 | 0.000 | 0.001 | |
| upload_info | 0 | 0 | 0 | |
| upload_info_part | 0 | 0 | 0 | |
| upload_init | 0.000 | 0.000 | 0.001 | |