| Back to Multiple platform build/check report for BioC 3.13 |
|
This page was generated on 2021-10-15 15:06:52 -0400 (Fri, 15 Oct 2021).
|
To the developers/maintainers of the sesame package: - Please allow up to 24 hours (and sometimes 48 hours) for your latest push to git@git.bioconductor.org:packages/sesame.git to reflect on this report. See How and When does the builder pull? When will my changes propagate? here for more information. - Make sure to use the following settings in order to reproduce any error or warning you see on this page. |
| Package 1745/2041 | Hostname | OS / Arch | INSTALL | BUILD | CHECK | BUILD BIN | ||||||||
| sesame 1.10.5 (landing page) Wanding Zhou
| nebbiolo1 | Linux (Ubuntu 20.04.2 LTS) / x86_64 | OK | OK | OK | |||||||||
| tokay2 | Windows Server 2012 R2 Standard / x64 | OK | OK | OK | OK | |||||||||
| machv2 | macOS 10.14.6 Mojave / x86_64 | OK | OK | OK | OK | |||||||||
| Package: sesame |
| Version: 1.10.5 |
| Command: /Library/Frameworks/R.framework/Versions/Current/Resources/bin/R CMD check --install=check:sesame.install-out.txt --library=/Library/Frameworks/R.framework/Versions/Current/Resources/library --no-vignettes --timings sesame_1.10.5.tar.gz |
| StartedAt: 2021-10-14 23:56:05 -0400 (Thu, 14 Oct 2021) |
| EndedAt: 2021-10-15 00:16:24 -0400 (Fri, 15 Oct 2021) |
| EllapsedTime: 1219.9 seconds |
| RetCode: 0 |
| Status: OK |
| CheckDir: sesame.Rcheck |
| Warnings: 0 |
##############################################################################
##############################################################################
###
### Running command:
###
### /Library/Frameworks/R.framework/Versions/Current/Resources/bin/R CMD check --install=check:sesame.install-out.txt --library=/Library/Frameworks/R.framework/Versions/Current/Resources/library --no-vignettes --timings sesame_1.10.5.tar.gz
###
##############################################################################
##############################################################################
* using log directory ‘/Users/biocbuild/bbs-3.13-bioc/meat/sesame.Rcheck’
* using R version 4.1.1 (2021-08-10)
* using platform: x86_64-apple-darwin17.0 (64-bit)
* using session charset: UTF-8
* using option ‘--no-vignettes’
* checking for file ‘sesame/DESCRIPTION’ ... OK
* checking extension type ... Package
* this is package ‘sesame’ version ‘1.10.5’
* package encoding: UTF-8
* checking package namespace information ... OK
* checking package dependencies ... OK
* checking if this is a source package ... OK
* checking if there is a namespace ... OK
* checking for hidden files and directories ... OK
* checking for portable file names ... OK
* checking for sufficient/correct file permissions ... OK
* checking whether package ‘sesame’ can be installed ... OK
* checking installed package size ... OK
* checking package directory ... OK
* checking ‘build’ directory ... OK
* checking DESCRIPTION meta-information ... OK
* checking top-level files ... OK
* checking for left-over files ... OK
* checking index information ... OK
* checking package subdirectories ... OK
* checking R files for non-ASCII characters ... OK
* checking R files for syntax errors ... OK
* checking whether the package can be loaded ... OK
* checking whether the package can be loaded with stated dependencies ... OK
* checking whether the package can be unloaded cleanly ... OK
* checking whether the namespace can be loaded with stated dependencies ... OK
* checking whether the namespace can be unloaded cleanly ... OK
* checking dependencies in R code ... OK
* checking S3 generic/method consistency ... OK
* checking replacement functions ... OK
* checking foreign function calls ... OK
* checking R code for possible problems ... OK
* checking Rd files ... OK
* checking Rd metadata ... OK
* checking Rd cross-references ... OK
* checking for missing documentation entries ... OK
* checking for code/documentation mismatches ... OK
* checking Rd \usage sections ... OK
* checking Rd contents ... OK
* checking for unstated dependencies in examples ... OK
* checking files in ‘vignettes’ ... OK
* checking examples ... OK
Examples with CPU (user + system) or elapsed time > 5s
user system elapsed
DMR 108.273 0.785 109.985
topSegments 98.406 1.124 100.071
cnSegmentation 86.148 2.349 89.705
compareMouseTissueReference 32.443 0.482 33.472
as.data.frame.sesameQC 25.469 0.804 26.551
bSubMostVariable 25.875 0.364 26.756
sesameQC 23.395 0.455 24.217
print.sesameQC 22.523 0.534 23.334
diffRefSet 18.533 0.232 19.129
betaToAF 17.334 0.357 18.889
DML 14.863 0.864 16.528
SigSetsToRGChannelSet 14.936 0.236 15.866
dyeBiasCorrMostBalanced 14.472 0.230 14.978
qualityRank 14.041 0.149 14.840
getAutosomeProbes 13.724 0.113 14.100
SigSetToRatioSet 12.631 0.386 13.388
bisConversionControl 10.471 0.213 11.380
print.DMLSummary 10.469 0.120 10.901
summaryExtractCfList 10.490 0.098 10.850
summaryExtractTest 10.491 0.079 10.921
SNPcheck 9.828 0.193 10.700
compareMouseBloodReference 9.497 0.206 10.490
sesamePlotIntensVsBetas 8.447 0.160 8.881
inferStrain 8.292 0.294 9.234
reIdentify 8.078 0.041 8.130
deidentify 7.565 0.016 7.587
IG-methods 7.317 0.237 8.074
SigSetList-methods 6.844 0.185 7.593
getBetas 6.929 0.065 7.249
formatVCF 6.929 0.048 7.967
IGpass 6.283 0.122 6.944
getSexInfo 6.256 0.077 6.337
inferSex 6.088 0.179 7.045
estimateLeukocyte 5.240 0.102 5.593
dyeBiasCorrTypeINorm 5.040 0.286 5.589
inferEthnicity 4.988 0.022 5.012
DMLShrinkage 4.635 0.180 5.253
getAFTypeIbySumAlleles 4.579 0.117 5.390
* checking for unstated dependencies in ‘tests’ ... OK
* checking tests ...
Running ‘testthat.R’
OK
* checking for unstated dependencies in vignettes ... OK
* checking package vignettes in ‘inst/doc’ ... OK
* checking running R code from vignettes ... SKIPPED
* checking re-building of vignette outputs ... SKIPPED
* checking PDF version of manual ... OK
* DONE
Status: OK
sesame.Rcheck/00install.out
############################################################################## ############################################################################## ### ### Running command: ### ### /Library/Frameworks/R.framework/Versions/Current/Resources/bin/R CMD INSTALL sesame ### ############################################################################## ############################################################################## * installing to library ‘/Library/Frameworks/R.framework/Versions/4.1/Resources/library’ * installing *source* package ‘sesame’ ... ** using staged installation ** R ** inst ** byte-compile and prepare package for lazy loading ** help *** installing help indices ** building package indices ** installing vignettes ** testing if installed package can be loaded from temporary location ** testing if installed package can be loaded from final location ** testing if installed package keeps a record of temporary installation path * DONE (sesame)
sesame.Rcheck/tests/testthat.Rout
R version 4.1.1 (2021-08-10) -- "Kick Things"
Copyright (C) 2021 The R Foundation for Statistical Computing
Platform: x86_64-apple-darwin17.0 (64-bit)
R is free software and comes with ABSOLUTELY NO WARRANTY.
You are welcome to redistribute it under certain conditions.
Type 'license()' or 'licence()' for distribution details.
R is a collaborative project with many contributors.
Type 'contributors()' for more information and
'citation()' on how to cite R or R packages in publications.
Type 'demo()' for some demos, 'help()' for on-line help, or
'help.start()' for an HTML browser interface to help.
Type 'q()' to quit R.
> library(testthat)
> library(sesame)
Loading required package: sesameData
Loading required package: ExperimentHub
Loading required package: BiocGenerics
Loading required package: parallel
Attaching package: 'BiocGenerics'
The following objects are masked from 'package:parallel':
clusterApply, clusterApplyLB, clusterCall, clusterEvalQ,
clusterExport, clusterMap, parApply, parCapply, parLapply,
parLapplyLB, parRapply, parSapply, parSapplyLB
The following objects are masked from 'package:stats':
IQR, mad, sd, var, xtabs
The following objects are masked from 'package:base':
Filter, Find, Map, Position, Reduce, anyDuplicated, append,
as.data.frame, basename, cbind, colnames, dirname, do.call,
duplicated, eval, evalq, get, grep, grepl, intersect, is.unsorted,
lapply, mapply, match, mget, order, paste, pmax, pmax.int, pmin,
pmin.int, rank, rbind, rownames, sapply, setdiff, sort, table,
tapply, union, unique, unsplit, which.max, which.min
Loading required package: AnnotationHub
Loading required package: BiocFileCache
Loading required package: dbplyr
Loading required package: rmarkdown
Loading sesameData.
----------------------------------------------------------
| SEnsible Step-wise Analysis of DNA MEthylation (SeSAMe)
| --------------------------------------------------------
| Please cache the annotation data for your array platform
| (e.g. EPIC) by calling "sesameDataCache("EPIC")"
| or "sesameDataCacheAll()". This needs to be done only
| once per SeSAMe installation.
----------------------------------------------------------
>
> test_check("sesame")
[ FAIL 0 | WARN 0 | SKIP 0 | PASS 19 ]
>
> proc.time()
user system elapsed
98.499 9.050 93.283
sesame.Rcheck/sesame-Ex.timings
| name | user | system | elapsed | |
| BetaValueToMValue | 0 | 0 | 0 | |
| DML | 14.863 | 0.864 | 16.528 | |
| DMLShrinkage | 4.635 | 0.180 | 5.253 | |
| DMR | 108.273 | 0.785 | 109.985 | |
| IG-methods | 7.317 | 0.237 | 8.074 | |
| IG-replace-methods | 1.083 | 0.039 | 1.485 | |
| IGpass | 6.283 | 0.122 | 6.944 | |
| II-methods | 1.274 | 0.031 | 1.593 | |
| II-replace-methods | 0.982 | 0.042 | 1.379 | |
| IIpass | 0.817 | 0.027 | 1.138 | |
| IR-methods | 1.316 | 0.035 | 1.603 | |
| IR-replace-methods | 0.938 | 0.034 | 1.228 | |
| IRpass | 0.958 | 0.028 | 1.261 | |
| MValueToBetaValue | 0 | 0 | 0 | |
| RGChannelSetToSigSets | 0.001 | 0.000 | 0.000 | |
| SNPcheck | 9.828 | 0.193 | 10.700 | |
| SigSet-class | 0.007 | 0.002 | 0.008 | |
| SigSetList-methods | 6.844 | 0.185 | 7.593 | |
| SigSetList | 1.878 | 0.029 | 1.912 | |
| SigSetListFromIDATs | 0.150 | 0.010 | 0.161 | |
| SigSetListFromPath | 0.459 | 0.029 | 0.488 | |
| SigSetToRatioSet | 12.631 | 0.386 | 13.388 | |
| SigSetsToRGChannelSet | 14.936 | 0.236 | 15.866 | |
| addMask | 0.290 | 0.004 | 0.294 | |
| as.data.frame.sesameQC | 25.469 | 0.804 | 26.551 | |
| bSubComplete | 0.05 | 0.00 | 0.05 | |
| bSubMostVariable | 25.875 | 0.364 | 26.756 | |
| bSubProbes | 0.505 | 0.005 | 0.511 | |
| betaToAF | 17.334 | 0.357 | 18.889 | |
| bisConversionControl | 10.471 | 0.213 | 11.380 | |
| buildControlMatrix450k | 2.764 | 0.041 | 2.806 | |
| checkLevels | 1.116 | 0.076 | 4.468 | |
| cnSegmentation | 86.148 | 2.349 | 89.705 | |
| compareMouseBloodReference | 9.497 | 0.206 | 10.490 | |
| compareMouseTissueReference | 32.443 | 0.482 | 33.472 | |
| createUCSCtrack | 1.334 | 0.027 | 1.361 | |
| ctl-methods | 1.663 | 0.122 | 2.105 | |
| ctl-replace-methods | 1.017 | 0.036 | 1.415 | |
| deidentify | 7.565 | 0.016 | 7.587 | |
| detectionPfixedNorm | 0.346 | 0.001 | 0.349 | |
| detectionPnegEcdf | 2.629 | 0.015 | 2.646 | |
| detectionPnegNorm | 0.390 | 0.008 | 0.399 | |
| detectionPnegNormGS | 0.253 | 0.002 | 0.255 | |
| detectionPnegNormTotal | 0.306 | 0.009 | 0.315 | |
| detectionPoobEcdf | 3.705 | 0.040 | 3.747 | |
| detectionPoobEcdf2 | 4.198 | 0.034 | 4.237 | |
| diffRefSet | 18.533 | 0.232 | 19.129 | |
| dyeBiasCorr | 1.249 | 0.037 | 1.540 | |
| dyeBiasCorrMostBalanced | 14.472 | 0.230 | 14.978 | |
| dyeBiasCorrTypeINorm | 5.040 | 0.286 | 5.589 | |
| estimateLeukocyte | 5.240 | 0.102 | 5.593 | |
| extra-methods | 1.479 | 0.068 | 1.852 | |
| extra-replace-methods | 1.024 | 0.030 | 1.445 | |
| formatVCF | 6.929 | 0.048 | 7.967 | |
| getAFTypeIbySumAlleles | 4.579 | 0.117 | 5.390 | |
| getAutosomeProbes | 13.724 | 0.113 | 14.100 | |
| getBetas | 6.929 | 0.065 | 7.249 | |
| getNormCtls | 0.193 | 0.002 | 0.196 | |
| getProbesByChromosome | 0.038 | 0.001 | 0.039 | |
| getProbesByGene | 4.371 | 0.080 | 4.761 | |
| getProbesByRegion | 0.068 | 0.001 | 0.069 | |
| getProbesByTSS | 0.316 | 0.000 | 0.317 | |
| getRefSet | 4.458 | 0.025 | 4.485 | |
| getSexInfo | 6.256 | 0.077 | 6.337 | |
| inferEthnicity | 4.988 | 0.022 | 5.012 | |
| inferSex | 6.088 | 0.179 | 7.045 | |
| inferSexKaryotypes | 2.548 | 0.042 | 2.897 | |
| inferStrain | 8.292 | 0.294 | 9.234 | |
| inferTypeIChannel | 0.059 | 0.001 | 0.061 | |
| initFileSet | 0.057 | 0.004 | 0.061 | |
| makeExampleSeSAMeDataSet | 2.689 | 0.031 | 2.721 | |
| makeExampleTinyEPICDataSet | 0.008 | 0.000 | 0.009 | |
| mapFileSet | 0.065 | 0.004 | 0.069 | |
| mask | 1.001 | 0.033 | 1.394 | |
| meanIntensity | 2.717 | 0.016 | 2.734 | |
| noob | 0.009 | 0.001 | 0.009 | |
| noobsb | 4.594 | 0.130 | 4.726 | |
| oobG-methods | 1.006 | 0.035 | 1.303 | |
| oobG-replace-methods | 1.068 | 0.038 | 1.426 | |
| oobGpass | 0.888 | 0.027 | 1.176 | |
| oobR-methods | 1.938 | 0.120 | 2.309 | |
| oobR-replace-methods | 0.975 | 0.042 | 1.329 | |
| oobRpass | 1.200 | 0.042 | 1.488 | |
| openSesame | 4.099 | 0.025 | 4.126 | |
| openSesameToFile | 3.654 | 0.025 | 3.680 | |
| parseGEOSignalABFile | 1.114 | 0.717 | 1.073 | |
| predictAgeHorvath353 | 3.775 | 0.415 | 4.443 | |
| predictAgePheno | 0.190 | 0.007 | 0.197 | |
| predictAgeSkinBlood | 0.197 | 0.008 | 0.205 | |
| predictMouseAgeInMonth | 3.728 | 0.121 | 4.112 | |
| print.DMLSummary | 10.469 | 0.120 | 10.901 | |
| print.fileSet | 0.051 | 0.003 | 0.053 | |
| print.sesameQC | 22.523 | 0.534 | 23.334 | |
| probeID_designType | 0.000 | 0.001 | 0.001 | |
| probeNames-methods | 0.987 | 0.045 | 1.295 | |
| pval-methods | 0.937 | 0.031 | 1.227 | |
| pval-replace-methods | 1.535 | 0.081 | 1.868 | |
| qualityMask | 1.399 | 0.049 | 1.700 | |
| qualityRank | 14.041 | 0.149 | 14.840 | |
| reIdentify | 8.078 | 0.041 | 8.130 | |
| readFileSet | 0.080 | 0.004 | 0.084 | |
| readIDATpair | 0.186 | 0.002 | 0.188 | |
| resetMask | 2.041 | 0.043 | 2.353 | |
| restoreMask | 1.153 | 0.038 | 1.443 | |
| saveMask | 1.073 | 0.035 | 1.505 | |
| scrub | 0.010 | 0.000 | 0.011 | |
| scrubSoft | 0.013 | 0.001 | 0.013 | |
| searchIDATprefixes | 0.004 | 0.002 | 0.007 | |
| sesame-package | 1.747 | 0.024 | 1.773 | |
| sesamePlotIntensVsBetas | 8.447 | 0.160 | 8.881 | |
| sesamePlotRedGrnQQ | 1.925 | 0.170 | 2.415 | |
| sesameQC | 23.395 | 0.455 | 24.217 | |
| sesamize | 0.000 | 0.000 | 0.001 | |
| setMask | 0.351 | 0.007 | 0.361 | |
| show-methods | 1.068 | 0.043 | 1.376 | |
| signalMU | 2.311 | 1.077 | 3.832 | |
| sliceFileSet | 0.042 | 0.002 | 0.045 | |
| subsetSignal | 1.257 | 0.046 | 1.563 | |
| summaryExtractCfList | 10.490 | 0.098 | 10.850 | |
| summaryExtractTest | 10.491 | 0.079 | 10.921 | |
| topSegments | 98.406 | 1.124 | 100.071 | |
| totalIntensities | 2.282 | 0.076 | 2.359 | |
| totalIntensityZscore | 2.034 | 0.011 | 2.051 | |
| visualizeGene | 1.528 | 0.035 | 1.568 | |
| visualizeProbes | 1.834 | 0.028 | 1.868 | |
| visualizeRegion | 0.604 | 0.008 | 0.612 | |
| visualizeSegments | 1.933 | 0.105 | 2.341 | |