| Back to Multiple platform build/check report for BioC 3.13 |
|
This page was generated on 2021-10-15 15:06:22 -0400 (Fri, 15 Oct 2021).
|
To the developers/maintainers of the seqcombo package: - Please allow up to 24 hours (and sometimes 48 hours) for your latest push to git@git.bioconductor.org:packages/seqcombo.git to reflect on this report. See How and When does the builder pull? When will my changes propagate? here for more information. - Make sure to use the following settings in order to reproduce any error or warning you see on this page. |
| Package 1735/2041 | Hostname | OS / Arch | INSTALL | BUILD | CHECK | BUILD BIN | ||||||||
| seqcombo 1.14.1 (landing page) Guangchuang Yu
| nebbiolo1 | Linux (Ubuntu 20.04.2 LTS) / x86_64 | OK | OK | OK | |||||||||
| tokay2 | Windows Server 2012 R2 Standard / x64 | OK | OK | OK | OK | |||||||||
| machv2 | macOS 10.14.6 Mojave / x86_64 | OK | OK | OK | OK | |||||||||
| Package: seqcombo |
| Version: 1.14.1 |
| Command: C:\cygwin\bin\curl.exe -O http://155.52.207.165/BBS/3.13/bioc/src/contrib/seqcombo_1.14.1.tar.gz && rm -rf seqcombo.buildbin-libdir && mkdir seqcombo.buildbin-libdir && C:\Users\biocbuild\bbs-3.13-bioc\R\bin\R.exe CMD INSTALL --merge-multiarch --build --library=seqcombo.buildbin-libdir seqcombo_1.14.1.tar.gz && C:\Users\biocbuild\bbs-3.13-bioc\R\bin\R.exe CMD INSTALL seqcombo_1.14.1.zip && rm seqcombo_1.14.1.tar.gz seqcombo_1.14.1.zip |
| StartedAt: 2021-10-14 08:26:14 -0400 (Thu, 14 Oct 2021) |
| EndedAt: 2021-10-14 08:26:52 -0400 (Thu, 14 Oct 2021) |
| EllapsedTime: 38.0 seconds |
| RetCode: 0 |
| Status: OK |
##############################################################################
##############################################################################
###
### Running command:
###
### C:\cygwin\bin\curl.exe -O http://155.52.207.165/BBS/3.13/bioc/src/contrib/seqcombo_1.14.1.tar.gz && rm -rf seqcombo.buildbin-libdir && mkdir seqcombo.buildbin-libdir && C:\Users\biocbuild\bbs-3.13-bioc\R\bin\R.exe CMD INSTALL --merge-multiarch --build --library=seqcombo.buildbin-libdir seqcombo_1.14.1.tar.gz && C:\Users\biocbuild\bbs-3.13-bioc\R\bin\R.exe CMD INSTALL seqcombo_1.14.1.zip && rm seqcombo_1.14.1.tar.gz seqcombo_1.14.1.zip
###
##############################################################################
##############################################################################
% Total % Received % Xferd Average Speed Time Time Time Current
Dload Upload Total Spent Left Speed
0 0 0 0 0 0 0 0 --:--:-- --:--:-- --:--:-- 0
3 1474k 3 45687 0 0 281k 0 0:00:05 --:--:-- 0:00:05 282k
58 1474k 58 868k 0 0 773k 0 0:00:01 0:00:01 --:--:-- 773k
100 1474k 100 1474k 0 0 914k 0 0:00:01 0:00:01 --:--:-- 915k
install for i386
* installing *source* package 'seqcombo' ...
** using staged installation
** R
** inst
** byte-compile and prepare package for lazy loading
** help
*** installing help indices
converting help for package 'seqcombo'
finding HTML links ... done
geom_genotype html
geom_hybrid html
hybrid_plot html
plot-methods html
reexports html
seqdiff html
set_layout html
show-methods html
simplot html
** building package indices
** installing vignettes
** testing if installed package can be loaded from temporary location
** testing if installed package can be loaded from final location
** testing if installed package keeps a record of temporary installation path
install for x64
* installing *source* package 'seqcombo' ...
** testing if installed package can be loaded
* MD5 sums
packaged installation of 'seqcombo' as seqcombo_1.14.1.zip
* DONE (seqcombo)
* installing to library 'C:/Users/biocbuild/bbs-3.13-bioc/R/library'
package 'seqcombo' successfully unpacked and MD5 sums checked