| Back to Multiple platform build/check report for BioC 3.13 |
|
This page was generated on 2021-10-15 15:06:21 -0400 (Fri, 15 Oct 2021).
|
To the developers/maintainers of the scoreInvHap package: - Please allow up to 24 hours (and sometimes 48 hours) for your latest push to git@git.bioconductor.org:packages/scoreInvHap.git to reflect on this report. See How and When does the builder pull? When will my changes propagate? here for more information. - Make sure to use the following settings in order to reproduce any error or warning you see on this page. |
| Package 1709/2041 | Hostname | OS / Arch | INSTALL | BUILD | CHECK | BUILD BIN | ||||||||
| scoreInvHap 1.14.0 (landing page) Dolors Pelegri-Siso
| nebbiolo1 | Linux (Ubuntu 20.04.2 LTS) / x86_64 | OK | OK | OK | |||||||||
| tokay2 | Windows Server 2012 R2 Standard / x64 | OK | OK | OK | OK | |||||||||
| machv2 | macOS 10.14.6 Mojave / x86_64 | OK | OK | OK | OK | |||||||||
| Package: scoreInvHap |
| Version: 1.14.0 |
| Command: C:\cygwin\bin\curl.exe -O http://155.52.207.165/BBS/3.13/bioc/src/contrib/scoreInvHap_1.14.0.tar.gz && rm -rf scoreInvHap.buildbin-libdir && mkdir scoreInvHap.buildbin-libdir && C:\Users\biocbuild\bbs-3.13-bioc\R\bin\R.exe CMD INSTALL --merge-multiarch --build --library=scoreInvHap.buildbin-libdir scoreInvHap_1.14.0.tar.gz && C:\Users\biocbuild\bbs-3.13-bioc\R\bin\R.exe CMD INSTALL scoreInvHap_1.14.0.zip && rm scoreInvHap_1.14.0.tar.gz scoreInvHap_1.14.0.zip |
| StartedAt: 2021-10-14 10:40:28 -0400 (Thu, 14 Oct 2021) |
| EndedAt: 2021-10-14 10:41:56 -0400 (Thu, 14 Oct 2021) |
| EllapsedTime: 87.6 seconds |
| RetCode: 0 |
| Status: OK |
##############################################################################
##############################################################################
###
### Running command:
###
### C:\cygwin\bin\curl.exe -O http://155.52.207.165/BBS/3.13/bioc/src/contrib/scoreInvHap_1.14.0.tar.gz && rm -rf scoreInvHap.buildbin-libdir && mkdir scoreInvHap.buildbin-libdir && C:\Users\biocbuild\bbs-3.13-bioc\R\bin\R.exe CMD INSTALL --merge-multiarch --build --library=scoreInvHap.buildbin-libdir scoreInvHap_1.14.0.tar.gz && C:\Users\biocbuild\bbs-3.13-bioc\R\bin\R.exe CMD INSTALL scoreInvHap_1.14.0.zip && rm scoreInvHap_1.14.0.tar.gz scoreInvHap_1.14.0.zip
###
##############################################################################
##############################################################################
% Total % Received % Xferd Average Speed Time Time Time Current
Dload Upload Total Spent Left Speed
0 0 0 0 0 0 0 0 --:--:-- --:--:-- --:--:-- 0
15 1085k 15 164k 0 0 636k 0 0:00:01 --:--:-- 0:00:01 636k
100 1085k 100 1085k 0 0 2245k 0 --:--:-- --:--:-- --:--:-- 2243k
install for i386
* installing *source* package 'scoreInvHap' ...
** using staged installation
** R
** data
*** moving datasets to lazyload DB
** inst
** byte-compile and prepare package for lazy loading
** help
*** installing help indices
converting help for package 'scoreInvHap'
finding HTML links ... done
Refs html
SNPsR2 html
adaptRefs html
checkSNPs html
classifSNPs html
computeScore html
correctAlleleTable html
getAlleleTable html
getGenotypesTable html
getInvStatus html
hetRefs html
info html
inversionGR html
prepareMap html
scoreInvHap html
scoreInvHapRes-class html
** building package indices
** installing vignettes
** testing if installed package can be loaded from temporary location
** testing if installed package can be loaded from final location
** testing if installed package keeps a record of temporary installation path
install for x64
* installing *source* package 'scoreInvHap' ...
** testing if installed package can be loaded
* MD5 sums
packaged installation of 'scoreInvHap' as scoreInvHap_1.14.0.zip
* DONE (scoreInvHap)
* installing to library 'C:/Users/biocbuild/bbs-3.13-bioc/R/library'
package 'scoreInvHap' successfully unpacked and MD5 sums checked