| Back to Multiple platform build/check report for BioC 3.13 |
|
This page was generated on 2021-10-15 15:06:21 -0400 (Fri, 15 Oct 2021).
|
To the developers/maintainers of the schex package: - Please allow up to 24 hours (and sometimes 48 hours) for your latest push to git@git.bioconductor.org:packages/schex.git to reflect on this report. See How and When does the builder pull? When will my changes propagate? here for more information. - Make sure to use the following settings in order to reproduce any error or warning you see on this page. |
| Package 1698/2041 | Hostname | OS / Arch | INSTALL | BUILD | CHECK | BUILD BIN | ||||||||
| schex 1.6.3 (landing page) Saskia Freytag
| nebbiolo1 | Linux (Ubuntu 20.04.2 LTS) / x86_64 | OK | OK | OK | |||||||||
| tokay2 | Windows Server 2012 R2 Standard / x64 | OK | OK | OK | OK | |||||||||
| machv2 | macOS 10.14.6 Mojave / x86_64 | OK | OK | OK | OK | |||||||||
| Package: schex |
| Version: 1.6.3 |
| Command: C:\cygwin\bin\curl.exe -O http://155.52.207.165/BBS/3.13/bioc/src/contrib/schex_1.6.3.tar.gz && rm -rf schex.buildbin-libdir && mkdir schex.buildbin-libdir && C:\Users\biocbuild\bbs-3.13-bioc\R\bin\R.exe CMD INSTALL --merge-multiarch --build --library=schex.buildbin-libdir schex_1.6.3.tar.gz && C:\Users\biocbuild\bbs-3.13-bioc\R\bin\R.exe CMD INSTALL schex_1.6.3.zip && rm schex_1.6.3.tar.gz schex_1.6.3.zip |
| StartedAt: 2021-10-14 10:02:36 -0400 (Thu, 14 Oct 2021) |
| EndedAt: 2021-10-14 10:06:12 -0400 (Thu, 14 Oct 2021) |
| EllapsedTime: 216.2 seconds |
| RetCode: 0 |
| Status: OK |
##############################################################################
##############################################################################
###
### Running command:
###
### C:\cygwin\bin\curl.exe -O http://155.52.207.165/BBS/3.13/bioc/src/contrib/schex_1.6.3.tar.gz && rm -rf schex.buildbin-libdir && mkdir schex.buildbin-libdir && C:\Users\biocbuild\bbs-3.13-bioc\R\bin\R.exe CMD INSTALL --merge-multiarch --build --library=schex.buildbin-libdir schex_1.6.3.tar.gz && C:\Users\biocbuild\bbs-3.13-bioc\R\bin\R.exe CMD INSTALL schex_1.6.3.zip && rm schex_1.6.3.tar.gz schex_1.6.3.zip
###
##############################################################################
##############################################################################
% Total % Received % Xferd Average Speed Time Time Time Current
Dload Upload Total Spent Left Speed
0 0 0 0 0 0 0 0 --:--:-- --:--:-- --:--:-- 0
20 2719k 20 551k 0 0 1231k 0 0:00:02 --:--:-- 0:00:02 1230k
100 2719k 100 2719k 0 0 1950k 0 0:00:01 0:00:01 --:--:-- 1952k
install for i386
* installing *source* package 'schex' ...
** using staged installation
** R
** byte-compile and prepare package for lazy loading
** help
*** installing help indices
converting help for package 'schex'
finding HTML links ... done
make_hexbin html
make_hexbin_label html
plot_hexbin_bivariate html
finding level-2 HTML links ... done
plot_hexbin_density html
plot_hexbin_fc html
plot_hexbin_feature html
plot_hexbin_feature_plus html
plot_hexbin_feature_shiny html
plot_hexbin_gene html
plot_hexbin_interact html
plot_hexbin_meta html
plot_hexbin_meta_plus html
plot_hexbin_meta_shiny html
schex html
*** copying figures
** building package indices
** installing vignettes
** testing if installed package can be loaded from temporary location
** testing if installed package can be loaded from final location
** testing if installed package keeps a record of temporary installation path
install for x64
* installing *source* package 'schex' ...
** testing if installed package can be loaded
* MD5 sums
packaged installation of 'schex' as schex_1.6.3.zip
* DONE (schex)
* installing to library 'C:/Users/biocbuild/bbs-3.13-bioc/R/library'
package 'schex' successfully unpacked and MD5 sums checked