| Back to Multiple platform build/check report for BioC 3.13 |
|
This page was generated on 2021-10-15 15:06:21 -0400 (Fri, 15 Oct 2021).
|
To the developers/maintainers of the scds package: - Please allow up to 24 hours (and sometimes 48 hours) for your latest push to git@git.bioconductor.org:packages/scds.git to reflect on this report. See How and When does the builder pull? When will my changes propagate? here for more information. - Make sure to use the following settings in order to reproduce any error or warning you see on this page. |
| Package 1694/2041 | Hostname | OS / Arch | INSTALL | BUILD | CHECK | BUILD BIN | ||||||||
| scds 1.8.0 (landing page) Dennis Kostka
| nebbiolo1 | Linux (Ubuntu 20.04.2 LTS) / x86_64 | OK | OK | OK | |||||||||
| tokay2 | Windows Server 2012 R2 Standard / x64 | OK | OK | OK | OK | |||||||||
| machv2 | macOS 10.14.6 Mojave / x86_64 | OK | OK | OK | OK | |||||||||
| Package: scds |
| Version: 1.8.0 |
| Command: C:\cygwin\bin\curl.exe -O http://155.52.207.165/BBS/3.13/bioc/src/contrib/scds_1.8.0.tar.gz && rm -rf scds.buildbin-libdir && mkdir scds.buildbin-libdir && C:\Users\biocbuild\bbs-3.13-bioc\R\bin\R.exe CMD INSTALL --merge-multiarch --build --library=scds.buildbin-libdir scds_1.8.0.tar.gz && C:\Users\biocbuild\bbs-3.13-bioc\R\bin\R.exe CMD INSTALL scds_1.8.0.zip && rm scds_1.8.0.tar.gz scds_1.8.0.zip |
| StartedAt: 2021-10-14 08:58:58 -0400 (Thu, 14 Oct 2021) |
| EndedAt: 2021-10-14 08:59:42 -0400 (Thu, 14 Oct 2021) |
| EllapsedTime: 44.5 seconds |
| RetCode: 0 |
| Status: OK |
##############################################################################
##############################################################################
###
### Running command:
###
### C:\cygwin\bin\curl.exe -O http://155.52.207.165/BBS/3.13/bioc/src/contrib/scds_1.8.0.tar.gz && rm -rf scds.buildbin-libdir && mkdir scds.buildbin-libdir && C:\Users\biocbuild\bbs-3.13-bioc\R\bin\R.exe CMD INSTALL --merge-multiarch --build --library=scds.buildbin-libdir scds_1.8.0.tar.gz && C:\Users\biocbuild\bbs-3.13-bioc\R\bin\R.exe CMD INSTALL scds_1.8.0.zip && rm scds_1.8.0.tar.gz scds_1.8.0.zip
###
##############################################################################
##############################################################################
% Total % Received % Xferd Average Speed Time Time Time Current
Dload Upload Total Spent Left Speed
0 0 0 0 0 0 0 0 --:--:-- --:--:-- --:--:-- 0
2 727k 2 15989 0 0 134k 0 0:00:05 --:--:-- 0:00:05 134k
100 727k 100 727k 0 0 1497k 0 --:--:-- --:--:-- --:--:-- 1496k
install for i386
* installing *source* package 'scds' ...
** using staged installation
** R
** data
** inst
** byte-compile and prepare package for lazy loading
** help
*** installing help indices
converting help for package 'scds'
finding HTML links ... done
bcds html
cxds html
cxds_bcds_hybrid html
cxds_getTopPairs html
get_dblCalls_ALL html
get_dblCalls_ROC html
get_dblCalls_dist html
sce_chcl html
** building package indices
** installing vignettes
** testing if installed package can be loaded from temporary location
** testing if installed package can be loaded from final location
** testing if installed package keeps a record of temporary installation path
install for x64
* installing *source* package 'scds' ...
** testing if installed package can be loaded
* MD5 sums
packaged installation of 'scds' as scds_1.8.0.zip
* DONE (scds)
* installing to library 'C:/Users/biocbuild/bbs-3.13-bioc/R/library'
package 'scds' successfully unpacked and MD5 sums checked