| Back to Multiple platform build/check report for BioC 3.13 |
|
This page was generated on 2021-10-15 15:06:21 -0400 (Fri, 15 Oct 2021).
|
To the developers/maintainers of the scMAGeCK package: - Please allow up to 24 hours (and sometimes 48 hours) for your latest push to git@git.bioconductor.org:packages/scMAGeCK.git to reflect on this report. See How and When does the builder pull? When will my changes propagate? here for more information. - Make sure to use the following settings in order to reproduce any error or warning you see on this page. |
| Package 1701/2041 | Hostname | OS / Arch | INSTALL | BUILD | CHECK | BUILD BIN | ||||||||
| scMAGeCK 1.4.0 (landing page) Xiaolong Cheng
| nebbiolo1 | Linux (Ubuntu 20.04.2 LTS) / x86_64 | OK | OK | OK | |||||||||
| tokay2 | Windows Server 2012 R2 Standard / x64 | OK | OK | OK | OK | |||||||||
| machv2 | macOS 10.14.6 Mojave / x86_64 | OK | OK | OK | OK | |||||||||
| Package: scMAGeCK |
| Version: 1.4.0 |
| Command: C:\Users\biocbuild\bbs-3.13-bioc\R\bin\R.exe CMD check --force-multiarch --install=check:scMAGeCK.install-out.txt --library=C:\Users\biocbuild\bbs-3.13-bioc\R\library --no-vignettes --timings scMAGeCK_1.4.0.tar.gz |
| StartedAt: 2021-10-15 05:14:55 -0400 (Fri, 15 Oct 2021) |
| EndedAt: 2021-10-15 05:18:27 -0400 (Fri, 15 Oct 2021) |
| EllapsedTime: 211.8 seconds |
| RetCode: 0 |
| Status: OK |
| CheckDir: scMAGeCK.Rcheck |
| Warnings: 0 |
##############################################################################
##############################################################################
###
### Running command:
###
### C:\Users\biocbuild\bbs-3.13-bioc\R\bin\R.exe CMD check --force-multiarch --install=check:scMAGeCK.install-out.txt --library=C:\Users\biocbuild\bbs-3.13-bioc\R\library --no-vignettes --timings scMAGeCK_1.4.0.tar.gz
###
##############################################################################
##############################################################################
* using log directory 'C:/Users/biocbuild/bbs-3.13-bioc/meat/scMAGeCK.Rcheck'
* using R version 4.1.1 (2021-08-10)
* using platform: x86_64-w64-mingw32 (64-bit)
* using session charset: ISO8859-1
* using option '--no-vignettes'
* checking for file 'scMAGeCK/DESCRIPTION' ... OK
* checking extension type ... Package
* this is package 'scMAGeCK' version '1.4.0'
* checking package namespace information ... OK
* checking package dependencies ... OK
* checking if this is a source package ... OK
* checking if there is a namespace ... OK
* checking for hidden files and directories ... OK
* checking for portable file names ... OK
* checking whether package 'scMAGeCK' can be installed ... OK
* checking installed package size ... OK
* checking package directory ... OK
* checking 'build' directory ... OK
* checking DESCRIPTION meta-information ... NOTE
Malformed Description field: should contain one or more complete sentences.
License components which are templates and need '+ file LICENSE':
BSD_2_clause
* checking top-level files ... OK
* checking for left-over files ... OK
* checking index information ... OK
* checking package subdirectories ... OK
* checking R files for non-ASCII characters ... OK
* checking R files for syntax errors ... OK
* loading checks for arch 'i386'
** checking whether the package can be loaded ... OK
** checking whether the package can be loaded with stated dependencies ... OK
** checking whether the package can be unloaded cleanly ... OK
** checking whether the namespace can be loaded with stated dependencies ... OK
** checking whether the namespace can be unloaded cleanly ... OK
* loading checks for arch 'x64'
** checking whether the package can be loaded ... OK
** checking whether the package can be loaded with stated dependencies ... OK
** checking whether the package can be unloaded cleanly ... OK
** checking whether the namespace can be loaded with stated dependencies ... OK
** checking whether the namespace can be unloaded cleanly ... OK
* checking dependencies in R code ... NOTE
'library' or 'require' call to 'utils' in package code.
Please use :: or requireNamespace() instead.
See section 'Suggested packages' in the 'Writing R Extensions' manual.
* checking S3 generic/method consistency ... OK
* checking replacement functions ... OK
* checking foreign function calls ... OK
* checking R code for possible problems ... NOTE
get_rank_tables: no visible global function definition for
'getoriginalgseascore'
get_sc_signature: no visible binding for global variable 'gs_c2_exps'
plot_gi_genes: no visible global function definition for 'ggplot'
plot_gi_genes: no visible global function definition for 'aes'
plot_gi_genes: no visible binding for global variable 'Type'
plot_gi_genes: no visible binding for global variable 'Expression'
plot_gi_genes: no visible global function definition for 'geom_violin'
plot_gi_genes: no visible global function definition for 'geom_point'
plot_gi_genes: no visible global function definition for
'position_jitter'
plot_gi_genes: no visible global function definition for 'ggtitle'
plot_gi_genes: no visible global function definition for
'scale_y_log10'
plot_single_genes: no visible binding for global variable 'targetobj'
plot_single_genes: no visible global function definition for 'ggplot'
plot_single_genes: no visible global function definition for 'aes'
plot_single_genes: no visible binding for global variable 'Type'
plot_single_genes: no visible binding for global variable 'Expression'
plot_single_genes: no visible global function definition for
'geom_violin'
plot_single_genes: no visible global function definition for
'geom_point'
plot_single_genes: no visible global function definition for
'position_jitter'
plot_single_genes: no visible global function definition for 'ggtitle'
plot_single_genes: no visible global function definition for
'scale_y_log10'
Undefined global functions or variables:
Expression Type aes geom_point geom_violin getoriginalgseascore
ggplot ggtitle gs_c2_exps position_jitter scale_y_log10 targetobj
* checking Rd files ... OK
* checking Rd metadata ... OK
* checking Rd cross-references ... OK
* checking for missing documentation entries ... OK
* checking for code/documentation mismatches ... OK
* checking Rd \usage sections ... OK
* checking Rd contents ... OK
* checking for unstated dependencies in examples ... OK
* checking files in 'vignettes' ... OK
* checking examples ...
** running examples for arch 'i386' ... OK
Examples with CPU (user + system) or elapsed time > 5s
user system elapsed
scMAGeCK-package 19.67 2.46 22.35
scMAGeCK_LR 18.46 1.86 20.34
** running examples for arch 'x64' ... OK
Examples with CPU (user + system) or elapsed time > 5s
user system elapsed
scMAGeCK-package 18.32 2.38 20.69
scMAGeCK_LR 18.00 2.59 20.59
* checking for unstated dependencies in vignettes ... OK
* checking package vignettes in 'inst/doc' ... OK
* checking running R code from vignettes ... SKIPPED
* checking re-building of vignette outputs ... SKIPPED
* checking PDF version of manual ... OK
* DONE
Status: 3 NOTEs
See
'C:/Users/biocbuild/bbs-3.13-bioc/meat/scMAGeCK.Rcheck/00check.log'
for details.
scMAGeCK.Rcheck/00install.out
##############################################################################
##############################################################################
###
### Running command:
###
### C:\cygwin\bin\curl.exe -O http://155.52.207.165/BBS/3.13/bioc/src/contrib/scMAGeCK_1.4.0.tar.gz && rm -rf scMAGeCK.buildbin-libdir && mkdir scMAGeCK.buildbin-libdir && C:\Users\biocbuild\bbs-3.13-bioc\R\bin\R.exe CMD INSTALL --merge-multiarch --build --library=scMAGeCK.buildbin-libdir scMAGeCK_1.4.0.tar.gz && C:\Users\biocbuild\bbs-3.13-bioc\R\bin\R.exe CMD INSTALL scMAGeCK_1.4.0.zip && rm scMAGeCK_1.4.0.tar.gz scMAGeCK_1.4.0.zip
###
##############################################################################
##############################################################################
% Total % Received % Xferd Average Speed Time Time Time Current
Dload Upload Total Spent Left Speed
0 0 0 0 0 0 0 0 --:--:-- --:--:-- --:--:-- 0
57 3038k 57 1753k 0 0 2932k 0 0:00:01 --:--:-- 0:00:01 2932k
100 3038k 100 3038k 0 0 3320k 0 --:--:-- --:--:-- --:--:-- 3320k
install for i386
* installing *source* package 'scMAGeCK' ...
** using staged installation
** R
** inst
** byte-compile and prepare package for lazy loading
** help
*** installing help indices
converting help for package 'scMAGeCK'
finding HTML links ... done
scMAGeCK-package html
scMAGeCK_LR html
scMAGeCK_RRA html
** building package indices
** installing vignettes
** testing if installed package can be loaded from temporary location
** testing if installed package can be loaded from final location
** testing if installed package keeps a record of temporary installation path
install for x64
* installing *source* package 'scMAGeCK' ...
** testing if installed package can be loaded
* MD5 sums
packaged installation of 'scMAGeCK' as scMAGeCK_1.4.0.zip
* DONE (scMAGeCK)
* installing to library 'C:/Users/biocbuild/bbs-3.13-bioc/R/library'
package 'scMAGeCK' successfully unpacked and MD5 sums checked
|
scMAGeCK.Rcheck/examples_i386/scMAGeCK-Ex.timings
|
scMAGeCK.Rcheck/examples_x64/scMAGeCK-Ex.timings
|