| Back to Multiple platform build/check report for BioC 3.13 |
|
This page was generated on 2021-10-15 15:06:21 -0400 (Fri, 15 Oct 2021).
|
To the developers/maintainers of the scBFA package: - Please allow up to 24 hours (and sometimes 48 hours) for your latest push to git@git.bioconductor.org:packages/scBFA.git to reflect on this report. See How and When does the builder pull? When will my changes propagate? here for more information. - Make sure to use the following settings in order to reproduce any error or warning you see on this page. |
| Package 1685/2041 | Hostname | OS / Arch | INSTALL | BUILD | CHECK | BUILD BIN | ||||||||
| scBFA 1.6.0 (landing page) Ruoxin Li
| nebbiolo1 | Linux (Ubuntu 20.04.2 LTS) / x86_64 | OK | OK | OK | |||||||||
| tokay2 | Windows Server 2012 R2 Standard / x64 | OK | OK | OK | OK | |||||||||
| machv2 | macOS 10.14.6 Mojave / x86_64 | OK | OK | OK | OK | |||||||||
| Package: scBFA |
| Version: 1.6.0 |
| Command: C:\cygwin\bin\curl.exe -O http://155.52.207.165/BBS/3.13/bioc/src/contrib/scBFA_1.6.0.tar.gz && rm -rf scBFA.buildbin-libdir && mkdir scBFA.buildbin-libdir && C:\Users\biocbuild\bbs-3.13-bioc\R\bin\R.exe CMD INSTALL --merge-multiarch --build --library=scBFA.buildbin-libdir scBFA_1.6.0.tar.gz && C:\Users\biocbuild\bbs-3.13-bioc\R\bin\R.exe CMD INSTALL scBFA_1.6.0.zip && rm scBFA_1.6.0.tar.gz scBFA_1.6.0.zip |
| StartedAt: 2021-10-14 09:36:21 -0400 (Thu, 14 Oct 2021) |
| EndedAt: 2021-10-14 09:37:35 -0400 (Thu, 14 Oct 2021) |
| EllapsedTime: 73.5 seconds |
| RetCode: 0 |
| Status: OK |
##############################################################################
##############################################################################
###
### Running command:
###
### C:\cygwin\bin\curl.exe -O http://155.52.207.165/BBS/3.13/bioc/src/contrib/scBFA_1.6.0.tar.gz && rm -rf scBFA.buildbin-libdir && mkdir scBFA.buildbin-libdir && C:\Users\biocbuild\bbs-3.13-bioc\R\bin\R.exe CMD INSTALL --merge-multiarch --build --library=scBFA.buildbin-libdir scBFA_1.6.0.tar.gz && C:\Users\biocbuild\bbs-3.13-bioc\R\bin\R.exe CMD INSTALL scBFA_1.6.0.zip && rm scBFA_1.6.0.tar.gz scBFA_1.6.0.zip
###
##############################################################################
##############################################################################
% Total % Received % Xferd Average Speed Time Time Time Current
Dload Upload Total Spent Left Speed
0 0 0 0 0 0 0 0 --:--:-- --:--:-- --:--:-- 0
17 877k 17 154k 0 0 719k 0 0:00:01 --:--:-- 0:00:01 717k
100 877k 100 877k 0 0 2116k 0 --:--:-- --:--:-- --:--:-- 2114k
install for i386
* installing *source* package 'scBFA' ...
** using staged installation
** R
** data
*** moving datasets to lazyload DB
** byte-compile and prepare package for lazy loading
** help
*** installing help indices
converting help for package 'scBFA'
finding HTML links ... done
BinaryPCA html
InitBinaryFA html
OptimBFA html
celltype html
celltype_toy html
diagnose html
disperPlot html
exprdata html
getGeneExpr html
getLoading html
getScore html
gradient html
gradient_chunk html
neg_loglikelihood html
neg_loglikelihood_chunk html
restore html
scNoiseSim html
scbfa html
zinb_toy html
** building package indices
** installing vignettes
** testing if installed package can be loaded from temporary location
** testing if installed package can be loaded from final location
** testing if installed package keeps a record of temporary installation path
install for x64
* installing *source* package 'scBFA' ...
** testing if installed package can be loaded
* MD5 sums
packaged installation of 'scBFA' as scBFA_1.6.0.zip
* DONE (scBFA)
* installing to library 'C:/Users/biocbuild/bbs-3.13-bioc/R/library'
package 'scBFA' successfully unpacked and MD5 sums checked