| Back to Multiple platform build/check report for BioC 3.13 |
|
This page was generated on 2021-10-15 15:06:21 -0400 (Fri, 15 Oct 2021).
|
To the developers/maintainers of the savR package: - Please allow up to 24 hours (and sometimes 48 hours) for your latest push to git@git.bioconductor.org:packages/savR.git to reflect on this report. See How and When does the builder pull? When will my changes propagate? here for more information. - Make sure to use the following settings in order to reproduce any error or warning you see on this page. |
| Package 1673/2041 | Hostname | OS / Arch | INSTALL | BUILD | CHECK | BUILD BIN | ||||||||
| savR 1.30.0 (landing page) R. Brent Calder
| nebbiolo1 | Linux (Ubuntu 20.04.2 LTS) / x86_64 | OK | OK | OK | |||||||||
| tokay2 | Windows Server 2012 R2 Standard / x64 | OK | OK | OK | OK | |||||||||
| machv2 | macOS 10.14.6 Mojave / x86_64 | OK | OK | OK | OK | |||||||||
| Package: savR |
| Version: 1.30.0 |
| Command: C:\cygwin\bin\curl.exe -O http://155.52.207.165/BBS/3.13/bioc/src/contrib/savR_1.30.0.tar.gz && rm -rf savR.buildbin-libdir && mkdir savR.buildbin-libdir && C:\Users\biocbuild\bbs-3.13-bioc\R\bin\R.exe CMD INSTALL --merge-multiarch --build --library=savR.buildbin-libdir savR_1.30.0.tar.gz && C:\Users\biocbuild\bbs-3.13-bioc\R\bin\R.exe CMD INSTALL savR_1.30.0.zip && rm savR_1.30.0.tar.gz savR_1.30.0.zip |
| StartedAt: 2021-10-14 08:25:18 -0400 (Thu, 14 Oct 2021) |
| EndedAt: 2021-10-14 08:26:26 -0400 (Thu, 14 Oct 2021) |
| EllapsedTime: 68.0 seconds |
| RetCode: 0 |
| Status: OK |
##############################################################################
##############################################################################
###
### Running command:
###
### C:\cygwin\bin\curl.exe -O http://155.52.207.165/BBS/3.13/bioc/src/contrib/savR_1.30.0.tar.gz && rm -rf savR.buildbin-libdir && mkdir savR.buildbin-libdir && C:\Users\biocbuild\bbs-3.13-bioc\R\bin\R.exe CMD INSTALL --merge-multiarch --build --library=savR.buildbin-libdir savR_1.30.0.tar.gz && C:\Users\biocbuild\bbs-3.13-bioc\R\bin\R.exe CMD INSTALL savR_1.30.0.zip && rm savR_1.30.0.tar.gz savR_1.30.0.zip
###
##############################################################################
##############################################################################
% Total % Received % Xferd Average Speed Time Time Time Current
Dload Upload Total Spent Left Speed
0 0 0 0 0 0 0 0 --:--:-- --:--:-- --:--:-- 0
100 391k 100 391k 0 0 803k 0 --:--:-- --:--:-- --:--:-- 804k
install for i386
* installing *source* package 'savR' ...
** using staged installation
** R
** inst
** byte-compile and prepare package for lazy loading
** help
*** installing help indices
converting help for package 'savR'
finding HTML links ... done
buildReports html
clusterQualityGtN html
clusters html
correctedIntensities html
cycles html
directions html
errorMetrics html
extractionMetrics html
flowcellLayout html
illuminaFlowCellLayout-class html
illuminaRead-class html
location html
pfBoxplot html
pfClusters html
plotFWHM html
plotIntensity html
plotQGT30 html
qualityHeatmap html
qualityMetrics html
reads html
run html
savCorrectedIntensityFormat-class html
savData-class html
savErrorFormat-class html
savExtractionFormat-class html
savFormat-class html
savProject-class html
savQualityFormat-class html
savQualityFormatV5-class html
savR-package html
savR html
savTileFormat-class html
tileMetrics html
** building package indices
** installing vignettes
** testing if installed package can be loaded from temporary location
** testing if installed package can be loaded from final location
** testing if installed package keeps a record of temporary installation path
install for x64
* installing *source* package 'savR' ...
** testing if installed package can be loaded
* MD5 sums
packaged installation of 'savR' as savR_1.30.0.zip
* DONE (savR)
* installing to library 'C:/Users/biocbuild/bbs-3.13-bioc/R/library'
package 'savR' successfully unpacked and MD5 sums checked