| Back to Multiple platform build/check report for BioC 3.13 |
|
This page was generated on 2021-10-15 15:06:20 -0400 (Fri, 15 Oct 2021).
|
To the developers/maintainers of the rrvgo package: - Please allow up to 24 hours (and sometimes 48 hours) for your latest push to git@git.bioconductor.org:packages/rrvgo.git to reflect on this report. See How and When does the builder pull? When will my changes propagate? here for more information. - Make sure to use the following settings in order to reproduce any error or warning you see on this page. |
| Package 1633/2041 | Hostname | OS / Arch | INSTALL | BUILD | CHECK | BUILD BIN | ||||||||
| rrvgo 1.4.4 (landing page) Sergi Sayols
| nebbiolo1 | Linux (Ubuntu 20.04.2 LTS) / x86_64 | OK | OK | OK | |||||||||
| tokay2 | Windows Server 2012 R2 Standard / x64 | OK | OK | OK | OK | |||||||||
| machv2 | macOS 10.14.6 Mojave / x86_64 | OK | OK | OK | OK | |||||||||
| Package: rrvgo |
| Version: 1.4.4 |
| Command: C:\Users\biocbuild\bbs-3.13-bioc\R\bin\R.exe CMD check --force-multiarch --install=check:rrvgo.install-out.txt --library=C:\Users\biocbuild\bbs-3.13-bioc\R\library --no-vignettes --timings rrvgo_1.4.4.tar.gz |
| StartedAt: 2021-10-15 04:52:46 -0400 (Fri, 15 Oct 2021) |
| EndedAt: 2021-10-15 05:11:15 -0400 (Fri, 15 Oct 2021) |
| EllapsedTime: 1108.4 seconds |
| RetCode: 0 |
| Status: OK |
| CheckDir: rrvgo.Rcheck |
| Warnings: 0 |
##############################################################################
##############################################################################
###
### Running command:
###
### C:\Users\biocbuild\bbs-3.13-bioc\R\bin\R.exe CMD check --force-multiarch --install=check:rrvgo.install-out.txt --library=C:\Users\biocbuild\bbs-3.13-bioc\R\library --no-vignettes --timings rrvgo_1.4.4.tar.gz
###
##############################################################################
##############################################################################
* using log directory 'C:/Users/biocbuild/bbs-3.13-bioc/meat/rrvgo.Rcheck'
* using R version 4.1.1 (2021-08-10)
* using platform: x86_64-w64-mingw32 (64-bit)
* using session charset: ISO8859-1
* using option '--no-vignettes'
* checking for file 'rrvgo/DESCRIPTION' ... OK
* checking extension type ... Package
* this is package 'rrvgo' version '1.4.4'
* package encoding: UTF-8
* checking package namespace information ... OK
* checking package dependencies ... OK
* checking if this is a source package ... OK
* checking if there is a namespace ... OK
* checking for hidden files and directories ... NOTE
Found the following hidden files and directories:
.travis.yml
These were most likely included in error. See section 'Package
structure' in the 'Writing R Extensions' manual.
* checking for portable file names ... OK
* checking whether package 'rrvgo' can be installed ... OK
* checking installed package size ... OK
* checking package directory ... OK
* checking 'build' directory ... OK
* checking DESCRIPTION meta-information ... OK
* checking top-level files ... NOTE
File
LICENSE
is not mentioned in the DESCRIPTION file.
* checking for left-over files ... OK
* checking index information ... OK
* checking package subdirectories ... OK
* checking R files for non-ASCII characters ... OK
* checking R files for syntax errors ... OK
* loading checks for arch 'i386'
** checking whether the package can be loaded ... OK
** checking whether the package can be loaded with stated dependencies ... OK
** checking whether the package can be unloaded cleanly ... OK
** checking whether the namespace can be loaded with stated dependencies ... OK
** checking whether the namespace can be unloaded cleanly ... OK
* loading checks for arch 'x64'
** checking whether the package can be loaded ... OK
** checking whether the package can be loaded with stated dependencies ... OK
** checking whether the package can be unloaded cleanly ... OK
** checking whether the namespace can be loaded with stated dependencies ... OK
** checking whether the namespace can be unloaded cleanly ... OK
* checking dependencies in R code ... NOTE
Unexported object imported by a ':::' call: 'GOSemSim:::getAncestors'
See the note in ?`:::` about the use of this operator.
* checking S3 generic/method consistency ... OK
* checking replacement functions ... OK
* checking foreign function calls ... OK
* checking R code for possible problems ... NOTE
scatterPlot: no visible binding for global variable 'V1'
scatterPlot: no visible binding for global variable 'V2'
scatterPlot: no visible binding for global variable 'parentTerm'
scatterPlot: no visible binding for global variable 'parent'
Undefined global functions or variables:
V1 V2 parent parentTerm
* checking Rd files ... OK
* checking Rd metadata ... OK
* checking Rd cross-references ... OK
* checking for missing documentation entries ... OK
* checking for code/documentation mismatches ... OK
* checking Rd \usage sections ... OK
* checking Rd contents ... OK
* checking for unstated dependencies in examples ... OK
* checking files in 'vignettes' ... OK
* checking examples ...
** running examples for arch 'i386' ... OK
Examples with CPU (user + system) or elapsed time > 5s
user system elapsed
scatterPlot 96.17 0.43 96.70
calculateSimMatrix 94.80 0.44 98.16
heatmapPlot 94.20 0.63 94.83
reduceSimMatrix 93.04 0.40 93.44
wordcloudPlot 88.81 0.25 89.53
** running examples for arch 'x64' ... OK
Examples with CPU (user + system) or elapsed time > 5s
user system elapsed
heatmapPlot 42.44 0.37 42.81
reduceSimMatrix 40.67 0.34 41.01
wordcloudPlot 37.50 0.31 37.83
scatterPlot 35.79 0.24 36.03
calculateSimMatrix 33.99 0.32 34.30
* checking for unstated dependencies in 'tests' ... OK
* checking tests ...
** running tests for arch 'i386' ...
Running 'testthat.R'
OK
** running tests for arch 'x64' ...
Running 'testthat.R'
OK
* checking for unstated dependencies in vignettes ... OK
* checking package vignettes in 'inst/doc' ... OK
* checking running R code from vignettes ... SKIPPED
* checking re-building of vignette outputs ... SKIPPED
* checking PDF version of manual ... OK
* DONE
Status: 4 NOTEs
See
'C:/Users/biocbuild/bbs-3.13-bioc/meat/rrvgo.Rcheck/00check.log'
for details.
rrvgo.Rcheck/00install.out
##############################################################################
##############################################################################
###
### Running command:
###
### C:\cygwin\bin\curl.exe -O http://155.52.207.165/BBS/3.13/bioc/src/contrib/rrvgo_1.4.4.tar.gz && rm -rf rrvgo.buildbin-libdir && mkdir rrvgo.buildbin-libdir && C:\Users\biocbuild\bbs-3.13-bioc\R\bin\R.exe CMD INSTALL --merge-multiarch --build --library=rrvgo.buildbin-libdir rrvgo_1.4.4.tar.gz && C:\Users\biocbuild\bbs-3.13-bioc\R\bin\R.exe CMD INSTALL rrvgo_1.4.4.zip && rm rrvgo_1.4.4.tar.gz rrvgo_1.4.4.zip
###
##############################################################################
##############################################################################
% Total % Received % Xferd Average Speed Time Time Time Current
Dload Upload Total Spent Left Speed
0 0 0 0 0 0 0 0 --:--:-- --:--:-- --:--:-- 0
0 0 0 0 0 0 0 0 --:--:-- --:--:-- --:--:-- 0
83 2002k 83 1682k 0 0 1604k 0 0:00:01 0:00:01 --:--:-- 1605k
100 2002k 100 2002k 0 0 1679k 0 0:00:01 0:00:01 --:--:-- 1680k
install for i386
* installing *source* package 'rrvgo' ...
** using staged installation
** R
** inst
** byte-compile and prepare package for lazy loading
** help
*** installing help indices
converting help for package 'rrvgo'
finding HTML links ... done
calculateSimMatrix html
getGoSize html
getGoTerm html
gg_color_hue html
heatmapPlot html
loadOrgdb html
reduceSimMatrix html
scatterPlot html
shiny_rrvgo html
treemapPlot html
wordcloudPlot html
** building package indices
** installing vignettes
** testing if installed package can be loaded from temporary location
** testing if installed package can be loaded from final location
** testing if installed package keeps a record of temporary installation path
install for x64
* installing *source* package 'rrvgo' ...
** testing if installed package can be loaded
* MD5 sums
packaged installation of 'rrvgo' as rrvgo_1.4.4.zip
* DONE (rrvgo)
* installing to library 'C:/Users/biocbuild/bbs-3.13-bioc/R/library'
package 'rrvgo' successfully unpacked and MD5 sums checked
|
rrvgo.Rcheck/tests_i386/testthat.Rout
R version 4.1.1 (2021-08-10) -- "Kick Things"
Copyright (C) 2021 The R Foundation for Statistical Computing
Platform: i386-w64-mingw32/i386 (32-bit)
R is free software and comes with ABSOLUTELY NO WARRANTY.
You are welcome to redistribute it under certain conditions.
Type 'license()' or 'licence()' for distribution details.
R is a collaborative project with many contributors.
Type 'contributors()' for more information and
'citation()' on how to cite R or R packages in publications.
Type 'demo()' for some demos, 'help()' for on-line help, or
'help.start()' for an HTML browser interface to help.
Type 'q()' to quit R.
> library(testthat)
> library(rrvgo)
>
> test_check("rrvgo")
[ FAIL 0 | WARN 0 | SKIP 0 | PASS 9 ]
>
> proc.time()
user system elapsed
206.79 1.46 209.42
|
rrvgo.Rcheck/tests_x64/testthat.Rout
R version 4.1.1 (2021-08-10) -- "Kick Things"
Copyright (C) 2021 The R Foundation for Statistical Computing
Platform: x86_64-w64-mingw32/x64 (64-bit)
R is free software and comes with ABSOLUTELY NO WARRANTY.
You are welcome to redistribute it under certain conditions.
Type 'license()' or 'licence()' for distribution details.
R is a collaborative project with many contributors.
Type 'contributors()' for more information and
'citation()' on how to cite R or R packages in publications.
Type 'demo()' for some demos, 'help()' for on-line help, or
'help.start()' for an HTML browser interface to help.
Type 'q()' to quit R.
> library(testthat)
> library(rrvgo)
>
> test_check("rrvgo")
[ FAIL 0 | WARN 0 | SKIP 0 | PASS 9 ]
>
> proc.time()
user system elapsed
83.25 0.90 84.12
|
|
rrvgo.Rcheck/examples_i386/rrvgo-Ex.timings
|
rrvgo.Rcheck/examples_x64/rrvgo-Ex.timings
|